BEGIN:VCALENDAR
VERSION:2.0
PRODID:-//Plaza Arthouse Cinema - ECPv5.14.1//NONSGML v1.0//EN
CALSCALE:GREGORIAN
METHOD:PUBLISH
X-WR-CALNAME:Plaza Arthouse Cinema
X-ORIGINAL-URL:https://plaza-mons.be
X-WR-CALDESC:Events for Plaza Arthouse Cinema
REFRESH-INTERVAL;VALUE=DURATION:PT1H
X-Robots-Tag:noindex
X-PUBLISHED-TTL:PT1H
BEGIN:VTIMEZONE
TZID:Europe/Brussels
BEGIN:DAYLIGHT
TZOFFSETFROM:+0100
TZOFFSETTO:+0200
TZNAME:CEST
DTSTART:20250330T010000
END:DAYLIGHT
BEGIN:STANDARD
TZOFFSETFROM:+0200
TZOFFSETTO:+0100
TZNAME:CET
DTSTART:20251026T010000
END:STANDARD
END:VTIMEZONE
BEGIN:VEVENT
DTSTART;TZID=Europe/Brussels:20251008T140000
DTEND;TZID=Europe/Brussels:20251008T151200
DTSTAMP:20260425T221900
CREATED:20250930T115731Z
LAST-MODIFIED:20251123T000007Z
UID:96268-1759932000-1759936320@plaza-mons.be
SUMMARY:Mary Anning
DESCRIPTION:Die my Love\n\n\n\n\n\n			\n				Bande annonce\n			\n		 \n\n\n\n\n\n\n\n\n\n\n\n\n\n\n\n\n\n\n\n\n\n\n\n\n\n\n\n\n\n\n\n\n\n\n\n\n\n\n\n\n\n\n\n\n\n\n\n\n\n\n\n\n\nBande annonce
URL:https://plaza-mons.be/film/mary-anning/2025-10-08
CATEGORIES:Animation,Jeune public
ATTACH;FMTTYPE=image/jpeg:https://plaza-mons.be/wp-content/uploads/2025/09/mary-anning-poster.jpg
END:VEVENT
BEGIN:VEVENT
DTSTART;TZID=Europe/Brussels:20251008T140000
DTEND;TZID=Europe/Brussels:20251008T153100
DTSTAMP:20260425T221900
CREATED:20250904T094038Z
LAST-MODIFIED:20251013T000052Z
UID:96070-1759932000-1759937460@plaza-mons.be
SUMMARY:A feu doux (Familiar Touch)
DESCRIPTION:Die my Love\n\n\n\n\n\n			\n				Bande annonce\n			\n		 \n\n\n\n\n\n\n\n\n\n\n\n\n\n\n\n\n\n\n\n\n\n\n\n\n\n\n\n\n\n\n\n\n\n\n\n\n\n\n\n\n\n\n\n\n\n\n\n\n\n\n\n\n\nBande annonce
URL:https://plaza-mons.be/film/a-feu-doux-familiar-touch/2025-10-08
CATEGORIES:Drame
ATTACH;FMTTYPE=image/jpeg:https://plaza-mons.be/wp-content/uploads/2025/09/a-feu-doux-poster.jpg
END:VEVENT
BEGIN:VEVENT
DTSTART;TZID=Europe/Brussels:20251008T150000
DTEND;TZID=Europe/Brussels:20251008T164600
DTSTAMP:20260425T221900
CREATED:20250904T094630Z
LAST-MODIFIED:20251021T000422Z
UID:96140-1759935600-1759941960@plaza-mons.be
SUMMARY:La Guerre des Rose  (The Roses)
DESCRIPTION:Die my Love\n\n\n\n\n\n			\n				Bande annonce\n			\n		 \n\n\n\n\n\n\n\n\n\n\n\n\n\n\n\n\n\n\n\n\n\n\n\n\n\n\n\n\n\n\n\n\n\n\n\n\n\n\n\n\n\n\n\n\n\n\n\n\n\n\n\n\n\nBande annonce
URL:https://plaza-mons.be/film/la-guerre-des-rose-the-roses/2025-10-08
CATEGORIES:Comédie dramatique
ATTACH;FMTTYPE=image/jpeg:https://plaza-mons.be/wp-content/uploads/2025/09/the-roses-poster.jpg
END:VEVENT
BEGIN:VEVENT
DTSTART;TZID=Europe/Brussels:20251008T150000
DTEND;TZID=Europe/Brussels:20251008T170900
DTSTAMP:20260425T221900
CREATED:20250904T093229Z
LAST-MODIFIED:20251013T000121Z
UID:96122-1759935600-1759943340@plaza-mons.be
SUMMARY:Eden
DESCRIPTION:Die my Love\n\n\n\n\n\n			\n				Bande annonce\n			\n		 \n\n\n\n\n\n\n\n\n\n\n\n\n\n\n\n\n\n\n\n\n\n\n\n\n\n\n\n\n\n\n\n\n\n\n\n\n\n\n\n\n\n\n\n\n\n\n\n\n\n\n\n\n\nBande annonce\n\n\n\n\n\n\n\nhttps://www.youtube.com/watch?v=S2a3ReuhRdU
URL:https://plaza-mons.be/film/eden/2025-10-08
CATEGORIES:Thriller
ATTACH;FMTTYPE=image/jpeg:https://plaza-mons.be/wp-content/uploads/2025/09/eden-vf-original.jpg
END:VEVENT
BEGIN:VEVENT
DTSTART;TZID=Europe/Brussels:20251008T160000
DTEND;TZID=Europe/Brussels:20251008T164200
DTSTAMP:20260425T221900
CREATED:20250930T114147Z
LAST-MODIFIED:20251123T000019Z
UID:96291-1759939200-1759941720@plaza-mons.be
SUMMARY:Timioche
DESCRIPTION:Die my Love\n\n\n\n\n\n			\n				Bande annonce\n			\n		 \n\n\n\n\n\n\n\n\n\n\n\n\n\n\n\n\n\n\n\n\n\n\n\n\n\n\n\n\n\n\n\n\n\n\n\n\n\n\n\n\n\n\n\n\n\n\n\n\n\n\n\n\n\nBande annonce
URL:https://plaza-mons.be/film/timioche/2025-10-08
CATEGORIES:Animation,Jeune public
ATTACH;FMTTYPE=image/png:https://plaza-mons.be/wp-content/uploads/2025/09/timioche-poster.png
END:VEVENT
BEGIN:VEVENT
DTSTART;TZID=Europe/Brussels:20251008T160000
DTEND;TZID=Europe/Brussels:20251008T180500
DTSTAMP:20260425T221900
CREATED:20250930T111858Z
LAST-MODIFIED:20251103T000005Z
UID:96197-1759939200-1759946700@plaza-mons.be
SUMMARY:Elephant Man
DESCRIPTION:Die my Love
URL:https://plaza-mons.be/film/elephant-man/2025-10-08
CATEGORIES:Horreur
ATTACH;FMTTYPE=image/jpeg:https://plaza-mons.be/wp-content/uploads/2025/09/elephant-man-poster-1.jpg
END:VEVENT
BEGIN:VEVENT
DTSTART;TZID=Europe/Brussels:20251008T174500
DTEND;TZID=Europe/Brussels:20251008T191300
DTSTAMP:20260425T221900
CREATED:20250930T114409Z
LAST-MODIFIED:20251102T000035Z
UID:96316-1759945500-1759950780@plaza-mons.be
SUMMARY:L’homme qui a  vu l’ours qui a vu  l’homme
DESCRIPTION:Die my Love\n\n\n\n\n\n			\n				Bande annonce\n			\n		 \n\n\n\n\n\n\n\n\n\n\n\n\n\n\n\n\n\n\n\n\n\n\n\n\n\n\n\n\n\n\n\n\n\n\n\n\n\n\n\n\n\n\n\n\n\n\n\n\n\n\n\n\n\nBande annonce
URL:https://plaza-mons.be/film/lhomme-qui-a-vu-lours-qui-a-vu-lhomme/2025-10-08
CATEGORIES:Comedie
ATTACH;FMTTYPE=image/jpeg:https://plaza-mons.be/wp-content/uploads/2025/09/lhomme-qui-a-vu-lours-qui-a-vu-lhomme-i-120x160-hd-original-1.jpg
END:VEVENT
BEGIN:VEVENT
DTSTART;TZID=Europe/Brussels:20251008T174500
DTEND;TZID=Europe/Brussels:20251008T193300
DTSTAMP:20260425T221900
CREATED:20250904T102225Z
LAST-MODIFIED:20251013T000353Z
UID:96188-1759945500-1759951980@plaza-mons.be
SUMMARY:Put Your Soul on Your Hand and Walk
DESCRIPTION:Die my Love\n\n\n\n\n\n			\n				Bande annonce\n			\n		 \n\n\n\n\n\n\n\n\n\n\n\n\n\n\n\n\n\n\n\n\n\n\n\n\n\n\n\n\n\n\n\n\n\n\n\n\n\n\n\n\n\n\n\n\n\n\n\n\n\n\n\n\n\nBande annonce
URL:https://plaza-mons.be/film/put-your-soul-on-your-hand-and-walk-2/2025-10-08
CATEGORIES:Documentaire,Drame
ATTACH;FMTTYPE=image/jpeg:https://plaza-mons.be/wp-content/uploads/2025/09/put-your-soul-poster.jpg
END:VEVENT
BEGIN:VEVENT
DTSTART;TZID=Europe/Brussels:20251008T180000
DTEND;TZID=Europe/Brussels:20251008T195200
DTSTAMP:20260425T221900
CREATED:20250904T094858Z
LAST-MODIFIED:20251021T000512Z
UID:96159-1759946400-1759953120@plaza-mons.be
SUMMARY:Les tourmentés
DESCRIPTION:Die my Love\n\n\n\n\n\n			\n				Bande annonce\n			\n		 \n\n\n\n\n\n\n\n\n\n\n\n\n\n\n\n\n\n\n\n\n\n\n\n\n\n\n\n\n\n\n\n\n\n\n\n\n\n\n\n\n\n\n\n\n\n\n\n\n\n\n\n\n\nBande annonce
URL:https://plaza-mons.be/film/les-tourmentes/2025-10-08
CATEGORIES:Drame,Thriller
ATTACH;FMTTYPE=image/jpeg:https://plaza-mons.be/wp-content/uploads/2025/09/les-tourmentes-poster.jpg
END:VEVENT
BEGIN:VEVENT
DTSTART;TZID=Europe/Brussels:20251008T183000
DTEND;TZID=Europe/Brussels:20251008T200500
DTSTAMP:20260425T221900
CREATED:20250904T093843Z
LAST-MODIFIED:20251021T000206Z
UID:96101-1759948200-1759953900@plaza-mons.be
SUMMARY:Classe moyenne
DESCRIPTION:Die my Love\n\n\n\n\n\n			\n				Bande annonce\n			\n		 \n\n\n\n\n\n\n\n\n\n\n\n\n\n\n\n\n\n\n\n\n\n\n\n\n\n\n\n\n\n\n\n\n\n\n\n\n\n\n\n\n\n\n\n\n\n\n\n\n\n\n\n\n\nBande annonce
URL:https://plaza-mons.be/film/classe-moyenne/2025-10-08
ATTACH;FMTTYPE=image/jpeg:https://plaza-mons.be/wp-content/uploads/2025/09/classe-moyenne-poster.jpg
END:VEVENT
BEGIN:VEVENT
DTSTART;TZID=Europe/Brussels:20251008T203000
DTEND;TZID=Europe/Brussels:20251008T221600
DTSTAMP:20260425T221900
CREATED:20250930T112452Z
LAST-MODIFIED:20251109T000039Z
UID:96247-1759955400-1759961760@plaza-mons.be
SUMMARY:Un simple accident
DESCRIPTION:Die my Love\n\n\n\n\n\n			\n				Bande annonce\n			\n		 \n\n\n\n\n\n\n\n\n\n\n\n\n\n\n\n\n\n\n\n\n\n\n\n\n\n\n\n\n\n\n\n\n\n\n\n\n\n\n\n\n\n\n\n\n\n\n\n\n\n\n\n\n\nBande annonce
URL:https://plaza-mons.be/film/un-simple-accident-2/2025-10-08
CATEGORIES:Drame
ATTACH;FMTTYPE=image/jpeg:https://plaza-mons.be/wp-content/uploads/2025/09/un-simple-accident-poster.jpg
END:VEVENT
BEGIN:VEVENT
DTSTART;TZID=Europe/Brussels:20251008T203000
DTEND;TZID=Europe/Brussels:20251008T221700
DTSTAMP:20260425T221900
CREATED:20250930T112302Z
LAST-MODIFIED:20251028T000441Z
UID:96220-1759955400-1759961820@plaza-mons.be
SUMMARY:Rembrandt
DESCRIPTION:Die my Love\n\n\n\n\n\n			\n				Bande annonce\n			\n		 \n\n\n\n\n\n\n\n\n\n\n\n\n\n\n\n\n\n\n\n\n\n\n\n\n\n\n\n\n\n\n\n\n\n\n\n\n\n\n\n\n\n\n\n\n\n\n\n\n\n\n\n\n\nBande annonce
URL:https://plaza-mons.be/film/rembrandt/2025-10-08
CATEGORIES:Drame
ATTACH;FMTTYPE=image/jpeg:https://plaza-mons.be/wp-content/uploads/2025/09/rembrandt-poster.jpg
END:VEVENT
BEGIN:VEVENT
DTSTART;TZID=Europe/Brussels:20251008T203000
DTEND;TZID=Europe/Brussels:20251008T222500
DTSTAMP:20260425T221900
CREATED:20250904T092744Z
LAST-MODIFIED:20251014T143631Z
UID:96083-1759955400-1759962300@plaza-mons.be
SUMMARY:Sirāt
DESCRIPTION:Die my Love\n\n\n\n\n\n			\n				Bande annonce\n			\n		 \n\n\n\n\n\n\n\n\n\n\n\n\n\n\n\n\n\n\n\n\n\n\n\n\n\n\n\n\n\n\n\n\n\n\n\n\n\n\n\n\n\n\n\n\n\n\n\n\n\n\n\n\n\nBande annonce
URL:https://plaza-mons.be/film/sirat/2025-10-08
CATEGORIES:Drame,Thriller
ATTACH;FMTTYPE=image/jpeg:https://plaza-mons.be/wp-content/uploads/2025/09/sirat-poster.jpg
END:VEVENT
BEGIN:VEVENT
DTSTART;TZID=Europe/Brussels:20251008T203000
DTEND;TZID=Europe/Brussels:20251008T223200
DTSTAMP:20260425T221900
CREATED:20250930T112733Z
LAST-MODIFIED:20251104T000003Z
UID:96335-1759955400-1759962720@plaza-mons.be
SUMMARY:La Grande Ambizione
DESCRIPTION:Die my Love\n\n\n\n\n\n			\n				Bande annonce\n			\n		 \n\n\n\n\n\n\n\n\n\n\n\n\n\n\n\n\n\n\n\n\n\n\n\n\n\n\n\n\n\n\n\n\n\n\n\n\n\n\n\n\n\n\n\n\n\n\n\n\n\n\n\n\n\nBande annonce
URL:https://plaza-mons.be/film/la-grande-ambizione/2025-10-08
CATEGORIES:Biopic
ATTACH;FMTTYPE=image/jpeg:https://plaza-mons.be/wp-content/uploads/2025/09/la-grande-ambizione-poster-be-def-original.jpg
END:VEVENT
END:VCALENDAR