BEGIN:VCALENDAR
VERSION:2.0
PRODID:-//Plaza Arthouse Cinema - ECPv5.14.1//NONSGML v1.0//EN
CALSCALE:GREGORIAN
METHOD:PUBLISH
X-WR-CALNAME:Plaza Arthouse Cinema
X-ORIGINAL-URL:https://plaza-mons.be
X-WR-CALDESC:Events for Plaza Arthouse Cinema
REFRESH-INTERVAL;VALUE=DURATION:PT1H
X-Robots-Tag:noindex
X-PUBLISHED-TTL:PT1H
BEGIN:VTIMEZONE
TZID:Europe/Brussels
BEGIN:DAYLIGHT
TZOFFSETFROM:+0100
TZOFFSETTO:+0200
TZNAME:CEST
DTSTART:20250330T010000
END:DAYLIGHT
BEGIN:STANDARD
TZOFFSETFROM:+0200
TZOFFSETTO:+0100
TZNAME:CET
DTSTART:20251026T010000
END:STANDARD
END:VTIMEZONE
BEGIN:VEVENT
DTSTART;TZID=Europe/Brussels:20251007T150000
DTEND;TZID=Europe/Brussels:20251007T163100
DTSTAMP:20260426T013806
CREATED:20250904T094038Z
LAST-MODIFIED:20251013T000049Z
UID:96069-1759849200-1759854660@plaza-mons.be
SUMMARY:A feu doux (Familiar Touch)
DESCRIPTION:Die my Love\n\n\n\n\n\n			\n				Bande annonce\n			\n		 \n\n\n\n\n\n\n\n\n\n\n\n\n\n\n\n\n\n\n\n\n\n\n\n\n\n\n\n\n\n\n\n\n\n\n\n\n\n\n\n\n\n\n\n\n\n\n\n\n\n\n\n\n\nBande annonce
URL:https://plaza-mons.be/film/a-feu-doux-familiar-touch/2025-10-07
CATEGORIES:Drame
ATTACH;FMTTYPE=image/jpeg:https://plaza-mons.be/wp-content/uploads/2025/09/a-feu-doux-poster.jpg
END:VEVENT
BEGIN:VEVENT
DTSTART;TZID=Europe/Brussels:20251007T150000
DTEND;TZID=Europe/Brussels:20251007T164600
DTSTAMP:20260426T013806
CREATED:20250904T094630Z
LAST-MODIFIED:20251021T000422Z
UID:96139-1759849200-1759855560@plaza-mons.be
SUMMARY:La Guerre des Rose  (The Roses)
DESCRIPTION:Die my Love\n\n\n\n\n\n			\n				Bande annonce\n			\n		 \n\n\n\n\n\n\n\n\n\n\n\n\n\n\n\n\n\n\n\n\n\n\n\n\n\n\n\n\n\n\n\n\n\n\n\n\n\n\n\n\n\n\n\n\n\n\n\n\n\n\n\n\n\nBande annonce
URL:https://plaza-mons.be/film/la-guerre-des-rose-the-roses/2025-10-07
CATEGORIES:Comédie dramatique
ATTACH;FMTTYPE=image/jpeg:https://plaza-mons.be/wp-content/uploads/2025/09/the-roses-poster.jpg
END:VEVENT
BEGIN:VEVENT
DTSTART;TZID=Europe/Brussels:20251007T150000
DTEND;TZID=Europe/Brussels:20251007T164800
DTSTAMP:20260426T013806
CREATED:20250904T102225Z
LAST-MODIFIED:20251013T000353Z
UID:96187-1759849200-1759855680@plaza-mons.be
SUMMARY:Put Your Soul on Your Hand and Walk
DESCRIPTION:Die my Love\n\n\n\n\n\n			\n				Bande annonce\n			\n		 \n\n\n\n\n\n\n\n\n\n\n\n\n\n\n\n\n\n\n\n\n\n\n\n\n\n\n\n\n\n\n\n\n\n\n\n\n\n\n\n\n\n\n\n\n\n\n\n\n\n\n\n\n\nBande annonce
URL:https://plaza-mons.be/film/put-your-soul-on-your-hand-and-walk-2/2025-10-07
CATEGORIES:Documentaire,Drame
ATTACH;FMTTYPE=image/jpeg:https://plaza-mons.be/wp-content/uploads/2025/09/put-your-soul-poster.jpg
END:VEVENT
BEGIN:VEVENT
DTSTART;TZID=Europe/Brussels:20251007T150000
DTEND;TZID=Europe/Brussels:20251007T171200
DTSTAMP:20260426T013806
CREATED:20250801T123516Z
LAST-MODIFIED:20251007T000134Z
UID:96093-1759849200-1759857120@plaza-mons.be
SUMMARY:Valeur sentimentale
DESCRIPTION:Die my Love\n\n\n\n\n\n			\n				Bande annonce\n			\n		 \n\n\n\n\n\n\n\n\n\n\n\n\n\n\n\n\n\n\n\n\n\n\n\n\n\n\n\n\n\n\n\n\n\n\n\n\n\n\n\n\n\n\n\n\n\n\n\n\n\n\n\n\n\nBande annonce
URL:https://plaza-mons.be/film/valeur-sentimentale/2025-10-07
CATEGORIES:Drame
ATTACH;FMTTYPE=image/jpeg:https://plaza-mons.be/wp-content/uploads/2025/08/valeur-sentimentale-poster.jpg
END:VEVENT
BEGIN:VEVENT
DTSTART;TZID=Europe/Brussels:20251007T173000
DTEND;TZID=Europe/Brussels:20251007T192200
DTSTAMP:20260426T013806
CREATED:20250904T094858Z
LAST-MODIFIED:20251021T000509Z
UID:96158-1759858200-1759864920@plaza-mons.be
SUMMARY:Les tourmentés
DESCRIPTION:Die my Love\n\n\n\n\n\n			\n				Bande annonce\n			\n		 \n\n\n\n\n\n\n\n\n\n\n\n\n\n\n\n\n\n\n\n\n\n\n\n\n\n\n\n\n\n\n\n\n\n\n\n\n\n\n\n\n\n\n\n\n\n\n\n\n\n\n\n\n\nBande annonce
URL:https://plaza-mons.be/film/les-tourmentes/2025-10-07
CATEGORIES:Drame,Thriller
ATTACH;FMTTYPE=image/jpeg:https://plaza-mons.be/wp-content/uploads/2025/09/les-tourmentes-poster.jpg
END:VEVENT
BEGIN:VEVENT
DTSTART;TZID=Europe/Brussels:20251007T180000
DTEND;TZID=Europe/Brussels:20251007T200500
DTSTAMP:20260426T013806
CREATED:20250930T111858Z
LAST-MODIFIED:20251103T000005Z
UID:96196-1759860000-1759867500@plaza-mons.be
SUMMARY:Elephant Man
DESCRIPTION:Die my Love
URL:https://plaza-mons.be/film/elephant-man/2025-10-07
CATEGORIES:Horreur
ATTACH;FMTTYPE=image/jpeg:https://plaza-mons.be/wp-content/uploads/2025/09/elephant-man-poster-1.jpg
END:VEVENT
BEGIN:VEVENT
DTSTART;TZID=Europe/Brussels:20251007T180000
DTEND;TZID=Europe/Brussels:20251007T200900
DTSTAMP:20260426T013806
CREATED:20250904T093229Z
LAST-MODIFIED:20251013T000121Z
UID:96121-1759860000-1759867740@plaza-mons.be
SUMMARY:Eden
DESCRIPTION:Die my Love\n\n\n\n\n\n			\n				Bande annonce\n			\n		 \n\n\n\n\n\n\n\n\n\n\n\n\n\n\n\n\n\n\n\n\n\n\n\n\n\n\n\n\n\n\n\n\n\n\n\n\n\n\n\n\n\n\n\n\n\n\n\n\n\n\n\n\n\nBande annonce\n\n\n\n\n\n\n\nhttps://www.youtube.com/watch?v=S2a3ReuhRdU
URL:https://plaza-mons.be/film/eden/2025-10-07
CATEGORIES:Thriller
ATTACH;FMTTYPE=image/jpeg:https://plaza-mons.be/wp-content/uploads/2025/09/eden-vf-original.jpg
END:VEVENT
BEGIN:VEVENT
DTSTART;TZID=Europe/Brussels:20251007T181500
DTEND;TZID=Europe/Brussels:20251007T195000
DTSTAMP:20260426T013806
CREATED:20250904T093843Z
LAST-MODIFIED:20251021T000200Z
UID:96100-1759860900-1759866600@plaza-mons.be
SUMMARY:Classe moyenne
DESCRIPTION:Die my Love\n\n\n\n\n\n			\n				Bande annonce\n			\n		 \n\n\n\n\n\n\n\n\n\n\n\n\n\n\n\n\n\n\n\n\n\n\n\n\n\n\n\n\n\n\n\n\n\n\n\n\n\n\n\n\n\n\n\n\n\n\n\n\n\n\n\n\n\nBande annonce
URL:https://plaza-mons.be/film/classe-moyenne/2025-10-07
ATTACH;FMTTYPE=image/jpeg:https://plaza-mons.be/wp-content/uploads/2025/09/classe-moyenne-poster.jpg
END:VEVENT
BEGIN:VEVENT
DTSTART;TZID=Europe/Brussels:20251007T200000
DTEND;TZID=Europe/Brussels:20251007T214300
DTSTAMP:20260426T013806
CREATED:20250905T102932Z
LAST-MODIFIED:20251007T001121Z
UID:95410-1759867200-1759873380@plaza-mons.be
SUMMARY:Ciné Genre.S : La Pampa
DESCRIPTION:Die my Love\n\n\n\n\n\n			\n				Bande annonce\n			\n		 \n\n\n\n\n\n\n\n\n\n\n\n\n\n\n\n\n\n\n\n\n\n\n\n\n\n\n\n\n\n\n\n\n\n\n\n\n\n\n\n\n\n\n\n\n\n\n\n\n\n\n\n\n\nBande annonce
URL:https://plaza-mons.be/film/cine-genre-s-la-pampa/2025-10-07
CATEGORIES:Avant-première,Drame
ATTACH;FMTTYPE=image/jpeg:https://plaza-mons.be/wp-content/uploads/2025/09/la-pampa-poster-2.jpg
END:VEVENT
BEGIN:VEVENT
DTSTART;TZID=Europe/Brussels:20251007T203000
DTEND;TZID=Europe/Brussels:20251007T221600
DTSTAMP:20260426T013807
CREATED:20250930T112452Z
LAST-MODIFIED:20251109T000039Z
UID:96246-1759869000-1759875360@plaza-mons.be
SUMMARY:Un simple accident
DESCRIPTION:Die my Love\n\n\n\n\n\n			\n				Bande annonce\n			\n		 \n\n\n\n\n\n\n\n\n\n\n\n\n\n\n\n\n\n\n\n\n\n\n\n\n\n\n\n\n\n\n\n\n\n\n\n\n\n\n\n\n\n\n\n\n\n\n\n\n\n\n\n\n\nBande annonce
URL:https://plaza-mons.be/film/un-simple-accident-2/2025-10-07
CATEGORIES:Drame
ATTACH;FMTTYPE=image/jpeg:https://plaza-mons.be/wp-content/uploads/2025/09/un-simple-accident-poster.jpg
END:VEVENT
BEGIN:VEVENT
DTSTART;TZID=Europe/Brussels:20251007T203000
DTEND;TZID=Europe/Brussels:20251007T221700
DTSTAMP:20260426T013807
CREATED:20250930T112302Z
LAST-MODIFIED:20251028T000441Z
UID:96219-1759869000-1759875420@plaza-mons.be
SUMMARY:Rembrandt
DESCRIPTION:Die my Love\n\n\n\n\n\n			\n				Bande annonce\n			\n		 \n\n\n\n\n\n\n\n\n\n\n\n\n\n\n\n\n\n\n\n\n\n\n\n\n\n\n\n\n\n\n\n\n\n\n\n\n\n\n\n\n\n\n\n\n\n\n\n\n\n\n\n\n\nBande annonce
URL:https://plaza-mons.be/film/rembrandt/2025-10-07
CATEGORIES:Drame
ATTACH;FMTTYPE=image/jpeg:https://plaza-mons.be/wp-content/uploads/2025/09/rembrandt-poster.jpg
END:VEVENT
BEGIN:VEVENT
DTSTART;TZID=Europe/Brussels:20251007T203000
DTEND;TZID=Europe/Brussels:20251007T222500
DTSTAMP:20260426T013807
CREATED:20250904T092744Z
LAST-MODIFIED:20251014T143631Z
UID:96082-1759869000-1759875900@plaza-mons.be
SUMMARY:Sirāt
DESCRIPTION:Die my Love\n\n\n\n\n\n			\n				Bande annonce\n			\n		 \n\n\n\n\n\n\n\n\n\n\n\n\n\n\n\n\n\n\n\n\n\n\n\n\n\n\n\n\n\n\n\n\n\n\n\n\n\n\n\n\n\n\n\n\n\n\n\n\n\n\n\n\n\nBande annonce
URL:https://plaza-mons.be/film/sirat/2025-10-07
CATEGORIES:Drame,Thriller
ATTACH;FMTTYPE=image/jpeg:https://plaza-mons.be/wp-content/uploads/2025/09/sirat-poster.jpg
END:VEVENT
END:VCALENDAR