BEGIN:VCALENDAR
VERSION:2.0
PRODID:-//Plaza Arthouse Cinema - ECPv5.14.1//NONSGML v1.0//EN
CALSCALE:GREGORIAN
METHOD:PUBLISH
X-WR-CALNAME:Plaza Arthouse Cinema
X-ORIGINAL-URL:https://plaza-mons.be
X-WR-CALDESC:Events for Plaza Arthouse Cinema
REFRESH-INTERVAL;VALUE=DURATION:PT1H
X-Robots-Tag:noindex
X-PUBLISHED-TTL:PT1H
BEGIN:VTIMEZONE
TZID:Europe/Brussels
BEGIN:DAYLIGHT
TZOFFSETFROM:+0100
TZOFFSETTO:+0200
TZNAME:CEST
DTSTART:20250330T010000
END:DAYLIGHT
BEGIN:STANDARD
TZOFFSETFROM:+0200
TZOFFSETTO:+0100
TZNAME:CET
DTSTART:20251026T010000
END:STANDARD
END:VTIMEZONE
BEGIN:VEVENT
DTSTART;TZID=Europe/Brussels:20251006T150000
DTEND;TZID=Europe/Brussels:20251006T163200
DTSTAMP:20260426T013816
CREATED:20250904T093453Z
LAST-MODIFIED:20251006T000016Z
UID:96132-1759762800-1759768320@plaza-mons.be
SUMMARY:En première ligne (Helding)
DESCRIPTION:Die my Love\n\n\n\n\n\n			\n				Bande annonce\n			\n		 \n\n\n\n\n\n\n\n\n\n\n\n\n\n\n\n\n\n\n\n\n\n\n\n\n\n\n\n\n\n\n\n\n\n\n\n\n\n\n\n\n\n\n\n\n\n\n\n\n\n\n\n\n\nBande annonce
URL:https://plaza-mons.be/film/en-premiere-ligne-helding/2025-10-06
CATEGORIES:Drame
ATTACH;FMTTYPE=image/jpeg:https://plaza-mons.be/wp-content/uploads/2025/09/en-premiere-ligne-poster.jpg
END:VEVENT
BEGIN:VEVENT
DTSTART;TZID=Europe/Brussels:20251006T150000
DTEND;TZID=Europe/Brussels:20251006T170500
DTSTAMP:20260426T013816
CREATED:20250930T111858Z
LAST-MODIFIED:20251103T000005Z
UID:96195-1759762800-1759770300@plaza-mons.be
SUMMARY:Elephant Man
DESCRIPTION:Die my Love
URL:https://plaza-mons.be/film/elephant-man/2025-10-06
CATEGORIES:Horreur
ATTACH;FMTTYPE=image/jpeg:https://plaza-mons.be/wp-content/uploads/2025/09/elephant-man-poster-1.jpg
END:VEVENT
BEGIN:VEVENT
DTSTART;TZID=Europe/Brussels:20251006T150000
DTEND;TZID=Europe/Brussels:20251006T170900
DTSTAMP:20260426T013816
CREATED:20250904T093229Z
LAST-MODIFIED:20251013T000121Z
UID:96120-1759762800-1759770540@plaza-mons.be
SUMMARY:Eden
DESCRIPTION:Die my Love\n\n\n\n\n\n			\n				Bande annonce\n			\n		 \n\n\n\n\n\n\n\n\n\n\n\n\n\n\n\n\n\n\n\n\n\n\n\n\n\n\n\n\n\n\n\n\n\n\n\n\n\n\n\n\n\n\n\n\n\n\n\n\n\n\n\n\n\nBande annonce\n\n\n\n\n\n\n\nhttps://www.youtube.com/watch?v=S2a3ReuhRdU
URL:https://plaza-mons.be/film/eden/2025-10-06
CATEGORIES:Thriller
ATTACH;FMTTYPE=image/jpeg:https://plaza-mons.be/wp-content/uploads/2025/09/eden-vf-original.jpg
END:VEVENT
BEGIN:VEVENT
DTSTART;TZID=Europe/Brussels:20251006T150000
DTEND;TZID=Europe/Brussels:20251006T171100
DTSTAMP:20260426T013816
CREATED:20250904T093604Z
LAST-MODIFIED:20251006T000018Z
UID:96178-1759762800-1759770660@plaza-mons.be
SUMMARY:The North
DESCRIPTION:Die my Love\n\n\n\n\n\n			\n				Bande annonce\n			\n		 \n\n\n\n\n\n\n\n\n\n\n\n\n\n\n\n\n\n\n\n\n\n\n\n\n\n\n\n\n\n\n\n\n\n\n\n\n\n\n\n\n\n\n\n\n\n\n\n\n\n\n\n\n\nBande annonce
URL:https://plaza-mons.be/film/the-north/2025-10-06
CATEGORIES:Documentaire
ATTACH;FMTTYPE=image/png:https://plaza-mons.be/wp-content/uploads/2025/09/the-north-be-onlinemedium-original.png
END:VEVENT
BEGIN:VEVENT
DTSTART;TZID=Europe/Brussels:20251006T180000
DTEND;TZID=Europe/Brussels:20251006T191200
DTSTAMP:20260426T013816
CREATED:20250905T101951Z
LAST-MODIFIED:20251006T000027Z
UID:95409-1759773600-1759777920@plaza-mons.be
SUMMARY:Séance-débat :  9999
DESCRIPTION:Die my Love\n\n\n\n\n\n			\n				Bande annonce\n			\n		 \n\n\n\n\n\n\n\n\n\n\n\n\n\n\n\n\n\n\n\n\n\n\n\n\n\n\n\n\n\n\n\n\n\n\n\n\n\n\n\n\n\n\n\n\n\n\n\n\n\n\n\n\n\nBande annonce
URL:https://plaza-mons.be/film/seance-debat-9999/2025-10-06
CATEGORIES:Avant-première,Documentaire
ATTACH;FMTTYPE=image/jpeg:https://plaza-mons.be/wp-content/uploads/2025/09/9999-poster-1.jpg
END:VEVENT
BEGIN:VEVENT
DTSTART;TZID=Europe/Brussels:20251006T180000
DTEND;TZID=Europe/Brussels:20251006T194700
DTSTAMP:20260426T013816
CREATED:20250930T112302Z
LAST-MODIFIED:20251028T000441Z
UID:96218-1759773600-1759780020@plaza-mons.be
SUMMARY:Rembrandt
DESCRIPTION:Die my Love\n\n\n\n\n\n			\n				Bande annonce\n			\n		 \n\n\n\n\n\n\n\n\n\n\n\n\n\n\n\n\n\n\n\n\n\n\n\n\n\n\n\n\n\n\n\n\n\n\n\n\n\n\n\n\n\n\n\n\n\n\n\n\n\n\n\n\n\nBande annonce
URL:https://plaza-mons.be/film/rembrandt/2025-10-06
CATEGORIES:Drame
ATTACH;FMTTYPE=image/jpeg:https://plaza-mons.be/wp-content/uploads/2025/09/rembrandt-poster.jpg
END:VEVENT
BEGIN:VEVENT
DTSTART;TZID=Europe/Brussels:20251006T180000
DTEND;TZID=Europe/Brussels:20251006T194800
DTSTAMP:20260426T013816
CREATED:20250904T102225Z
LAST-MODIFIED:20251013T000353Z
UID:96186-1759773600-1759780080@plaza-mons.be
SUMMARY:Put Your Soul on Your Hand and Walk
DESCRIPTION:Die my Love\n\n\n\n\n\n			\n				Bande annonce\n			\n		 \n\n\n\n\n\n\n\n\n\n\n\n\n\n\n\n\n\n\n\n\n\n\n\n\n\n\n\n\n\n\n\n\n\n\n\n\n\n\n\n\n\n\n\n\n\n\n\n\n\n\n\n\n\nBande annonce
URL:https://plaza-mons.be/film/put-your-soul-on-your-hand-and-walk-2/2025-10-06
CATEGORIES:Documentaire,Drame
ATTACH;FMTTYPE=image/jpeg:https://plaza-mons.be/wp-content/uploads/2025/09/put-your-soul-poster.jpg
END:VEVENT
BEGIN:VEVENT
DTSTART;TZID=Europe/Brussels:20251006T181500
DTEND;TZID=Europe/Brussels:20251006T195000
DTSTAMP:20260426T013816
CREATED:20250904T093843Z
LAST-MODIFIED:20251021T000155Z
UID:96099-1759774500-1759780200@plaza-mons.be
SUMMARY:Classe moyenne
DESCRIPTION:Die my Love\n\n\n\n\n\n			\n				Bande annonce\n			\n		 \n\n\n\n\n\n\n\n\n\n\n\n\n\n\n\n\n\n\n\n\n\n\n\n\n\n\n\n\n\n\n\n\n\n\n\n\n\n\n\n\n\n\n\n\n\n\n\n\n\n\n\n\n\nBande annonce
URL:https://plaza-mons.be/film/classe-moyenne/2025-10-06
ATTACH;FMTTYPE=image/jpeg:https://plaza-mons.be/wp-content/uploads/2025/09/classe-moyenne-poster.jpg
END:VEVENT
BEGIN:VEVENT
DTSTART;TZID=Europe/Brussels:20251006T203000
DTEND;TZID=Europe/Brussels:20251006T221600
DTSTAMP:20260426T013816
CREATED:20250904T094630Z
LAST-MODIFIED:20251021T000422Z
UID:96138-1759782600-1759788960@plaza-mons.be
SUMMARY:La Guerre des Rose  (The Roses)
DESCRIPTION:Die my Love\n\n\n\n\n\n			\n				Bande annonce\n			\n		 \n\n\n\n\n\n\n\n\n\n\n\n\n\n\n\n\n\n\n\n\n\n\n\n\n\n\n\n\n\n\n\n\n\n\n\n\n\n\n\n\n\n\n\n\n\n\n\n\n\n\n\n\n\nBande annonce
URL:https://plaza-mons.be/film/la-guerre-des-rose-the-roses/2025-10-06
CATEGORIES:Comédie dramatique
ATTACH;FMTTYPE=image/jpeg:https://plaza-mons.be/wp-content/uploads/2025/09/the-roses-poster.jpg
END:VEVENT
BEGIN:VEVENT
DTSTART;TZID=Europe/Brussels:20251006T203000
DTEND;TZID=Europe/Brussels:20251006T221600
DTSTAMP:20260426T013816
CREATED:20250930T112452Z
LAST-MODIFIED:20251109T000039Z
UID:96245-1759782600-1759788960@plaza-mons.be
SUMMARY:Un simple accident
DESCRIPTION:Die my Love\n\n\n\n\n\n			\n				Bande annonce\n			\n		 \n\n\n\n\n\n\n\n\n\n\n\n\n\n\n\n\n\n\n\n\n\n\n\n\n\n\n\n\n\n\n\n\n\n\n\n\n\n\n\n\n\n\n\n\n\n\n\n\n\n\n\n\n\nBande annonce
URL:https://plaza-mons.be/film/un-simple-accident-2/2025-10-06
CATEGORIES:Drame
ATTACH;FMTTYPE=image/jpeg:https://plaza-mons.be/wp-content/uploads/2025/09/un-simple-accident-poster.jpg
END:VEVENT
BEGIN:VEVENT
DTSTART;TZID=Europe/Brussels:20251006T203000
DTEND;TZID=Europe/Brussels:20251006T222200
DTSTAMP:20260426T013816
CREATED:20250904T094858Z
LAST-MODIFIED:20251021T000506Z
UID:96157-1759782600-1759789320@plaza-mons.be
SUMMARY:Les tourmentés
DESCRIPTION:Die my Love\n\n\n\n\n\n			\n				Bande annonce\n			\n		 \n\n\n\n\n\n\n\n\n\n\n\n\n\n\n\n\n\n\n\n\n\n\n\n\n\n\n\n\n\n\n\n\n\n\n\n\n\n\n\n\n\n\n\n\n\n\n\n\n\n\n\n\n\nBande annonce
URL:https://plaza-mons.be/film/les-tourmentes/2025-10-06
CATEGORIES:Drame,Thriller
ATTACH;FMTTYPE=image/jpeg:https://plaza-mons.be/wp-content/uploads/2025/09/les-tourmentes-poster.jpg
END:VEVENT
BEGIN:VEVENT
DTSTART;TZID=Europe/Brussels:20251006T203000
DTEND;TZID=Europe/Brussels:20251006T222500
DTSTAMP:20260426T013816
CREATED:20250904T092744Z
LAST-MODIFIED:20251014T143631Z
UID:96081-1759782600-1759789500@plaza-mons.be
SUMMARY:Sirāt
DESCRIPTION:Die my Love\n\n\n\n\n\n			\n				Bande annonce\n			\n		 \n\n\n\n\n\n\n\n\n\n\n\n\n\n\n\n\n\n\n\n\n\n\n\n\n\n\n\n\n\n\n\n\n\n\n\n\n\n\n\n\n\n\n\n\n\n\n\n\n\n\n\n\n\nBande annonce
URL:https://plaza-mons.be/film/sirat/2025-10-06
CATEGORIES:Drame,Thriller
ATTACH;FMTTYPE=image/jpeg:https://plaza-mons.be/wp-content/uploads/2025/09/sirat-poster.jpg
END:VEVENT
END:VCALENDAR