BEGIN:VCALENDAR
VERSION:2.0
PRODID:-//Plaza Arthouse Cinema - ECPv5.14.1//NONSGML v1.0//EN
CALSCALE:GREGORIAN
METHOD:PUBLISH
X-WR-CALNAME:Plaza Arthouse Cinema
X-ORIGINAL-URL:https://plaza-mons.be
X-WR-CALDESC:Events for Plaza Arthouse Cinema
REFRESH-INTERVAL;VALUE=DURATION:PT1H
X-Robots-Tag:noindex
X-PUBLISHED-TTL:PT1H
BEGIN:VTIMEZONE
TZID:Europe/Brussels
BEGIN:DAYLIGHT
TZOFFSETFROM:+0100
TZOFFSETTO:+0200
TZNAME:CEST
DTSTART:20250330T010000
END:DAYLIGHT
BEGIN:STANDARD
TZOFFSETFROM:+0200
TZOFFSETTO:+0100
TZNAME:CET
DTSTART:20251026T010000
END:STANDARD
END:VTIMEZONE
BEGIN:VEVENT
DTSTART;TZID=Europe/Brussels:20250604T140000
DTEND;TZID=Europe/Brussels:20250604T144100
DTSTAMP:20260424T192139
CREATED:20250513T124027Z
LAST-MODIFIED:20250621T000011Z
UID:88166-1749045600-1749048060@plaza-mons.be
SUMMARY:Au fil de l'eau
DESCRIPTION:Super Charlie\n\n\n\n\n\n			\n				Bande annonce\n			\n		 \n\n\n\n\n\n\n\n\n\n\n\n\n\n\n\n\n\n\n\n\n\n\n\n\n\n\n\n\n\n\n\n\n\n\n\n\n\n\n\n\n\n\n\n\n\n\n\n\n\n\n\n\n\nBande annonce
URL:https://plaza-mons.be/film/au-fil-de-leau/2025-06-04
CATEGORIES:Animation
ATTACH;FMTTYPE=image/jpeg:https://plaza-mons.be/wp-content/uploads/2025/04/au-fil-de-leau-poster.jpg
END:VEVENT
BEGIN:VEVENT
DTSTART;TZID=Europe/Brussels:20250604T143000
DTEND;TZID=Europe/Brussels:20250604T160100
DTSTAMP:20260424T192139
CREATED:20250513T094138Z
LAST-MODIFIED:20250610T000349Z
UID:88063-1749047400-1749052860@plaza-mons.be
SUMMARY:Lads
DESCRIPTION:Super Charlie\n\n\n\n\n\n			\n				Bande annonce\n			\n		 \n\n\n\n\n\n\n\n\n\n\n\n\n\n\n\n\n\n\n\n\n\n\n\n\n\n\n\n\n\n\n\n\n\n\n\n\n\n\n\n\n\n\n\n\n\n\n\n\n\n\n\n\n\nBande annonce
URL:https://plaza-mons.be/film/lads/2025-06-04
CATEGORIES:Drame
ATTACH;FMTTYPE=image/jpeg:https://plaza-mons.be/wp-content/uploads/2025/05/lads-120x160-hd-original.jpg
END:VEVENT
BEGIN:VEVENT
DTSTART;TZID=Europe/Brussels:20250604T150000
DTEND;TZID=Europe/Brussels:20250604T164300
DTSTAMP:20260424T192139
CREATED:20250513T095530Z
LAST-MODIFIED:20250610T124000Z
UID:88143-1749049200-1749055380@plaza-mons.be
SUMMARY:Oxana
DESCRIPTION:Super Charlie\n\n\n\n\n\n			\n				Bande annonce\n			\n		 \n\n\n\n\n\n\n\n\n\n\n\n\n\n\n\n\n\n\n\n\n\n\n\n\n\n\n\n\n\n\n\n\n\n\n\n\n\n\n\n\n\n\n\n\n\n\n\n\n\n\n\n\n\nBande annonce
URL:https://plaza-mons.be/film/oxana/2025-06-04
CATEGORIES:Biopic
ATTACH;FMTTYPE=image/jpeg:https://plaza-mons.be/wp-content/uploads/2025/04/oxana-poster-1.jpg
END:VEVENT
BEGIN:VEVENT
DTSTART;TZID=Europe/Brussels:20250604T153000
DTEND;TZID=Europe/Brussels:20250604T153000
DTSTAMP:20260424T192139
CREATED:20250513T124238Z
LAST-MODIFIED:20250602T141733Z
UID:88186-1749051000-1749051000@plaza-mons.be
SUMMARY:Traffic
DESCRIPTION:Super Charlie\n\n\n\n\n\n			\n				Bande annonce\n			\n		 \n\n\n\n\n\n\n\n\n\n\n\n\n\n\n\n\n\n\n\n\n\n\n\n\n\n\n\n\n\n\n\n\n\n\n\n\n\n\n\n\n\n\n\n\n\n\n\n\n\n\n\n\n\nBande annonce
URL:https://plaza-mons.be/film/traffic-2025-05-23/2025-06-04
CATEGORIES:Drame
ATTACH;FMTTYPE=image/jpeg:https://plaza-mons.be/wp-content/uploads/2025/05/traffic-poster.jpg
END:VEVENT
BEGIN:VEVENT
DTSTART;TZID=Europe/Brussels:20250604T153000
DTEND;TZID=Europe/Brussels:20250604T153000
DTSTAMP:20260424T192139
CREATED:20250513T124238Z
LAST-MODIFIED:20250610T000506Z
UID:89091-1749051000-1749051000@plaza-mons.be
SUMMARY:Traffic
DESCRIPTION:Super Charlie\n\n\n\n\n\n			\n				Bande annonce\n			\n		 \n\n\n\n\n\n\n\n\n\n\n\n\n\n\n\n\n\n\n\n\n\n\n\n\n\n\n\n\n\n\n\n\n\n\n\n\n\n\n\n\n\n\n\n\n\n\n\n\n\n\n\n\n\nBande annonce
URL:https://plaza-mons.be/film/traffic/2025-06-04
CATEGORIES:Drame
ATTACH;FMTTYPE=image/jpeg:https://plaza-mons.be/wp-content/uploads/2025/05/traffic-poster.jpg
END:VEVENT
BEGIN:VEVENT
DTSTART;TZID=Europe/Brussels:20250604T160000
DTEND;TZID=Europe/Brussels:20250604T174200
DTSTAMP:20260424T192139
CREATED:20250513T125236Z
LAST-MODIFIED:20250701T000015Z
UID:88252-1749052800-1749058920@plaza-mons.be
SUMMARY:Samia
DESCRIPTION:Super Charlie\n\n\n\n\n\n			\n				Bande annonce\n			\n		 \n\n\n\n\n\n\n\n\n\n\n\n\n\n\n\n\n\n\n\n\n\n\n\n\n\n\n\n\n\n\n\n\n\n\n\n\n\n\n\n\n\n\n\n\n\n\n\n\n\n\n\n\n\nBande annonce
URL:https://plaza-mons.be/film/samia/2025-06-04
CATEGORIES:Drame
ATTACH;FMTTYPE=image/jpeg:https://plaza-mons.be/wp-content/uploads/2025/05/samia-poster.jpg
END:VEVENT
BEGIN:VEVENT
DTSTART;TZID=Europe/Brussels:20250604T173000
DTEND;TZID=Europe/Brussels:20250604T191500
DTSTAMP:20260424T192139
CREATED:20250513T125919Z
LAST-MODIFIED:20250812T000026Z
UID:88289-1749058200-1749064500@plaza-mons.be
SUMMARY:The Phoenician Scheme
DESCRIPTION:Super Charlie\n\n\n\n\n\n			\n				Bande annonce\n			\n		 \n\n\n\n\n\n\n\n\n\n\n\n\n\n\n\n\n\n\n\n\n\n\n\n\n\n\n\n\n\n\n\n\n\n\n\n\n\n\n\n\n\n\n\n\n\n\n\n\n\n\n\n\n\nBande annonce
URL:https://plaza-mons.be/film/the-phoenician-scheme/2025-06-04
CATEGORIES:Drame
ATTACH;FMTTYPE=image/png:https://plaza-mons.be/wp-content/uploads/2025/05/the-phoenician-scheme-poster.png
END:VEVENT
BEGIN:VEVENT
DTSTART;TZID=Europe/Brussels:20250604T180000
DTEND;TZID=Europe/Brussels:20250604T195600
DTSTAMP:20260424T192139
CREATED:20250513T094303Z
LAST-MODIFIED:20250624T000006Z
UID:88089-1749060000-1749066960@plaza-mons.be
SUMMARY:Armand
DESCRIPTION:Super Charlie\n\n\n\n\n\n			\n				Bande annonce\n			\n		 \n\n\n\n\n\n\n\n\n\n\n\n\n\n\n\n\n\n\n\n\n\n\n\n\n\n\n\n\n\n\n\n\n\n\n\n\n\n\n\n\n\n\n\n\n\n\n\n\n\n\n\n\n\nBande annonce
URL:https://plaza-mons.be/film/armand-2/2025-06-04
CATEGORIES:Drame
ATTACH;FMTTYPE=image/jpeg:https://plaza-mons.be/wp-content/uploads/2025/05/armand-poster.jpg
END:VEVENT
BEGIN:VEVENT
DTSTART;TZID=Europe/Brussels:20250604T180000
DTEND;TZID=Europe/Brussels:20250604T200300
DTSTAMP:20260424T192139
CREATED:20250513T124446Z
LAST-MODIFIED:20250624T000101Z
UID:88203-1749060000-1749067380@plaza-mons.be
SUMMARY:Aïcha
DESCRIPTION:Super Charlie\n\n\n\n\n\n			\n				Bande annonce\n			\n		 \n\n\n\n\n\n\n\n\n\n\n\n\n\n\n\n\n\n\n\n\n\n\n\n\n\n\n\n\n\n\n\n\n\n\n\n\n\n\n\n\n\n\n\n\n\n\n\n\n\n\n\n\n\nBande annonce
URL:https://plaza-mons.be/film/aicha/2025-06-04
CATEGORIES:Drame
ATTACH;FMTTYPE=image/jpeg:https://plaza-mons.be/wp-content/uploads/2025/05/aicha-poster.jpg
END:VEVENT
BEGIN:VEVENT
DTSTART;TZID=Europe/Brussels:20250604T183000
DTEND;TZID=Europe/Brussels:20250604T195200
DTSTAMP:20260424T192139
CREATED:20250514T141759Z
LAST-MODIFIED:20250707T000020Z
UID:88308-1749061800-1749066720@plaza-mons.be
SUMMARY:Peak Season
DESCRIPTION:Super Charlie\n\n\n\n\n\n			\n				Bande annonce\n			\n		 \n\n\n\n\n\n\n\n\n\n\n\n\n\n\n\n\n\n\n\n\n\n\n\n\n\n\n\n\n\n\n\n\n\n\n\n\n\n\n\n\n\n\n\n\n\n\n\n\n\n\n\n\n\nBande annonce
URL:https://plaza-mons.be/film/peak-season/2025-06-04
CATEGORIES:Drame
ATTACH;FMTTYPE=image/jpeg:https://plaza-mons.be/wp-content/uploads/2025/05/peak-season-poster.jpg
END:VEVENT
BEGIN:VEVENT
DTSTART;TZID=Europe/Brussels:20250604T200000
DTEND;TZID=Europe/Brussels:20250604T220000
DTSTAMP:20260424T192139
CREATED:20250514T145518Z
LAST-MODIFIED:20250602T001442Z
UID:88326-1749067200-1749074400@plaza-mons.be
SUMMARY:Séance spéciale :  Hayao Miyazaki  et le héron - En collaboration avec ART²
DESCRIPTION:Super Charlie\n\n\n\n\n\n			\n				Bande annonce\n			\n		 \n\n\n\n\n\n\n\n\n\n\n\n\n\n\n\n\n\n\n\n\n\n\n\n\n\n\n\n\n\n\n\n\n\n\n\n\n\n\n\n\n\n\n\n\n\n\n\n\n\n\n\n\n\nBande annonce
URL:https://plaza-mons.be/film/seance-speciale-hayao-miyazaki-et-le-heron-en-collaboration-avec-art%c2%b2/2025-06-04
CATEGORIES:Avant-première,Documentaire
ATTACH;FMTTYPE=image/jpeg:https://plaza-mons.be/wp-content/uploads/2025/05/hayao-miyazaki-et-le-heron-poster.jpg
END:VEVENT
BEGIN:VEVENT
DTSTART;TZID=Europe/Brussels:20250604T203000
DTEND;TZID=Europe/Brussels:20250604T221000
DTSTAMP:20260424T192139
CREATED:20250513T124803Z
LAST-MODIFIED:20250630T000030Z
UID:88233-1749069000-1749075000@plaza-mons.be
SUMMARY:My Sunshine
DESCRIPTION:Super Charlie\n\n\n\n\n\n			\n				Bande annonce\n			\n		 \n\n\n\n\n\n\n\n\n\n\n\n\n\n\n\n\n\n\n\n\n\n\n\n\n\n\n\n\n\n\n\n\n\n\n\n\n\n\n\n\n\n\n\n\n\n\n\n\n\n\n\n\n\nBande annonce
URL:https://plaza-mons.be/film/my-sunshine/2025-06-04
CATEGORIES:Drame
ATTACH;FMTTYPE=image/jpeg:https://plaza-mons.be/wp-content/uploads/2025/05/my-sunshine-poster.jpg
END:VEVENT
BEGIN:VEVENT
DTSTART;TZID=Europe/Brussels:20250604T203000
DTEND;TZID=Europe/Brussels:20250604T221200
DTSTAMP:20260424T192139
CREATED:20250514T142012Z
LAST-MODIFIED:20250708T132505Z
UID:88327-1749069000-1749075120@plaza-mons.be
SUMMARY:Les Musiciens
DESCRIPTION:Super Charlie\n\n\n\n\n\n			\n				Bande annonce\n			\n		 \n\n\n\n\n\n\n\n\n\n\n\n\n\n\n\n\n\n\n\n\n\n\n\n\n\n\n\n\n\n\n\n\n\n\n\n\n\n\n\n\n\n\n\n\n\n\n\n\n\n\n\n\n\nBande annonce
URL:https://plaza-mons.be/film/les-musiciens/2025-06-04
CATEGORIES:Comédie dramatique
ATTACH;FMTTYPE=image/jpeg:https://plaza-mons.be/wp-content/uploads/2025/05/les-musiciens-poster.jpg
END:VEVENT
BEGIN:VEVENT
DTSTART;TZID=Europe/Brussels:20250604T203000
DTEND;TZID=Europe/Brussels:20250604T221300
DTSTAMP:20260424T192139
CREATED:20250513T095210Z
LAST-MODIFIED:20250610T001022Z
UID:88118-1749069000-1749075180@plaza-mons.be
SUMMARY:The Surfer
DESCRIPTION:Super Charlie\n\n\n\n\n\n			\n				Bande annonce\n			\n		 \n\n\n\n\n\n\n\n\n\n\n\n\n\n\n\n\n\n\n\n\n\n\n\n\n\n\n\n\n\n\n\n\n\n\n\n\n\n\n\n\n\n\n\n\n\n\n\n\n\n\n\n\n\nBande annonce
URL:https://plaza-mons.be/film/the-surfer/2025-06-04
CATEGORIES:Drame
ATTACH;FMTTYPE=image/jpeg:https://plaza-mons.be/wp-content/uploads/2025/05/the-surfer-rgb-m-original.jpg
END:VEVENT
END:VCALENDAR