BEGIN:VCALENDAR
VERSION:2.0
PRODID:-//Plaza Arthouse Cinema - ECPv5.14.1//NONSGML v1.0//EN
CALSCALE:GREGORIAN
METHOD:PUBLISH
X-WR-CALNAME:Plaza Arthouse Cinema
X-ORIGINAL-URL:https://plaza-mons.be
X-WR-CALDESC:Events for Plaza Arthouse Cinema
REFRESH-INTERVAL;VALUE=DURATION:PT1H
X-Robots-Tag:noindex
X-PUBLISHED-TTL:PT1H
BEGIN:VTIMEZONE
TZID:Europe/Brussels
BEGIN:DAYLIGHT
TZOFFSETFROM:+0100
TZOFFSETTO:+0200
TZNAME:CEST
DTSTART:20250330T010000
END:DAYLIGHT
BEGIN:STANDARD
TZOFFSETFROM:+0200
TZOFFSETTO:+0100
TZNAME:CET
DTSTART:20251026T010000
END:STANDARD
END:VTIMEZONE
BEGIN:VEVENT
DTSTART;TZID=Europe/Brussels:20250531T140000
DTEND;TZID=Europe/Brussels:20250531T152000
DTSTAMP:20260425T032842
CREATED:20250331T142631Z
LAST-MODIFIED:20250608T000059Z
UID:87357-1748700000-1748704800@plaza-mons.be
SUMMARY:La vie\, en gros
DESCRIPTION:Super Charlie\n\n\n\n\n\n			\n				Bande annonce\n			\n		 \n\n\n\n\n\n\n\n\n\n\n\n\n\n\n\n\n\n\n\n\n\n\n\n\n\n\n\n\n\n\n\n\n\n\n\n\n\n\n\n\n\n\n\n\n\n\n\n\n\n\n\n\n\nBande annonce
URL:https://plaza-mons.be/film/la-vie-en-gros-2/2025-05-31
CATEGORIES:Animation
ATTACH;FMTTYPE=image/png:https://plaza-mons.be/wp-content/uploads/2025/03/la-vie-en-gros-poster.png
END:VEVENT
BEGIN:VEVENT
DTSTART;TZID=Europe/Brussels:20250531T140000
DTEND;TZID=Europe/Brussels:20250531T154000
DTSTAMP:20260425T032842
CREATED:20250513T124803Z
LAST-MODIFIED:20250630T000030Z
UID:87565-1748700000-1748706000@plaza-mons.be
SUMMARY:My Sunshine
DESCRIPTION:Super Charlie\n\n\n\n\n\n			\n				Bande annonce\n			\n		 \n\n\n\n\n\n\n\n\n\n\n\n\n\n\n\n\n\n\n\n\n\n\n\n\n\n\n\n\n\n\n\n\n\n\n\n\n\n\n\n\n\n\n\n\n\n\n\n\n\n\n\n\n\nBande annonce
URL:https://plaza-mons.be/film/my-sunshine/2025-05-31
CATEGORIES:Drame
ATTACH;FMTTYPE=image/jpeg:https://plaza-mons.be/wp-content/uploads/2025/05/my-sunshine-poster.jpg
END:VEVENT
BEGIN:VEVENT
DTSTART;TZID=Europe/Brussels:20250531T143000
DTEND;TZID=Europe/Brussels:20250531T151100
DTSTAMP:20260425T032842
CREATED:20250513T124027Z
LAST-MODIFIED:20250621T000011Z
UID:87522-1748701800-1748704260@plaza-mons.be
SUMMARY:Au fil de l'eau
DESCRIPTION:Super Charlie\n\n\n\n\n\n			\n				Bande annonce\n			\n		 \n\n\n\n\n\n\n\n\n\n\n\n\n\n\n\n\n\n\n\n\n\n\n\n\n\n\n\n\n\n\n\n\n\n\n\n\n\n\n\n\n\n\n\n\n\n\n\n\n\n\n\n\n\nBande annonce
URL:https://plaza-mons.be/film/au-fil-de-leau/2025-05-31
CATEGORIES:Animation
ATTACH;FMTTYPE=image/jpeg:https://plaza-mons.be/wp-content/uploads/2025/04/au-fil-de-leau-poster.jpg
END:VEVENT
BEGIN:VEVENT
DTSTART;TZID=Europe/Brussels:20250531T150000
DTEND;TZID=Europe/Brussels:20250531T164500
DTSTAMP:20260425T032842
CREATED:20250513T125919Z
LAST-MODIFIED:20250812T000022Z
UID:87582-1748703600-1748709900@plaza-mons.be
SUMMARY:The Phoenician Scheme
DESCRIPTION:Super Charlie\n\n\n\n\n\n			\n				Bande annonce\n			\n		 \n\n\n\n\n\n\n\n\n\n\n\n\n\n\n\n\n\n\n\n\n\n\n\n\n\n\n\n\n\n\n\n\n\n\n\n\n\n\n\n\n\n\n\n\n\n\n\n\n\n\n\n\n\nBande annonce
URL:https://plaza-mons.be/film/the-phoenician-scheme/2025-05-31
CATEGORIES:Drame
ATTACH;FMTTYPE=image/png:https://plaza-mons.be/wp-content/uploads/2025/05/the-phoenician-scheme-poster.png
END:VEVENT
BEGIN:VEVENT
DTSTART;TZID=Europe/Brussels:20250531T160000
DTEND;TZID=Europe/Brussels:20250531T173100
DTSTAMP:20260425T032842
CREATED:20250513T094138Z
LAST-MODIFIED:20250610T000349Z
UID:87440-1748707200-1748712660@plaza-mons.be
SUMMARY:Lads
DESCRIPTION:Super Charlie\n\n\n\n\n\n			\n				Bande annonce\n			\n		 \n\n\n\n\n\n\n\n\n\n\n\n\n\n\n\n\n\n\n\n\n\n\n\n\n\n\n\n\n\n\n\n\n\n\n\n\n\n\n\n\n\n\n\n\n\n\n\n\n\n\n\n\n\nBande annonce
URL:https://plaza-mons.be/film/lads/2025-05-31
CATEGORIES:Drame
ATTACH;FMTTYPE=image/jpeg:https://plaza-mons.be/wp-content/uploads/2025/05/lads-120x160-hd-original.jpg
END:VEVENT
BEGIN:VEVENT
DTSTART;TZID=Europe/Brussels:20250531T160000
DTEND;TZID=Europe/Brussels:20250531T174300
DTSTAMP:20260425T032842
CREATED:20250513T095210Z
LAST-MODIFIED:20250610T001022Z
UID:87480-1748707200-1748713380@plaza-mons.be
SUMMARY:The Surfer
DESCRIPTION:Super Charlie\n\n\n\n\n\n			\n				Bande annonce\n			\n		 \n\n\n\n\n\n\n\n\n\n\n\n\n\n\n\n\n\n\n\n\n\n\n\n\n\n\n\n\n\n\n\n\n\n\n\n\n\n\n\n\n\n\n\n\n\n\n\n\n\n\n\n\n\nBande annonce
URL:https://plaza-mons.be/film/the-surfer/2025-05-31
CATEGORIES:Drame
ATTACH;FMTTYPE=image/jpeg:https://plaza-mons.be/wp-content/uploads/2025/05/the-surfer-rgb-m-original.jpg
END:VEVENT
BEGIN:VEVENT
DTSTART;TZID=Europe/Brussels:20250531T160000
DTEND;TZID=Europe/Brussels:20250531T175700
DTSTAMP:20260425T032842
CREATED:20250513T124630Z
LAST-MODIFIED:20250609T000043Z
UID:87558-1748707200-1748714220@plaza-mons.be
SUMMARY:La mer au loin
DESCRIPTION:Super Charlie\n\n\n\n\n\n			\n				Bande annonce\n			\n		 \n\n\n\n\n\n\n\n\n\n\n\n\n\n\n\n\n\n\n\n\n\n\n\n\n\n\n\n\n\n\n\n\n\n\n\n\n\n\n\n\n\n\n\n\n\n\n\n\n\n\n\n\n\nBande annonce
URL:https://plaza-mons.be/film/la-mer-au-loin/2025-05-31
CATEGORIES:Drame
ATTACH;FMTTYPE=image/jpeg:https://plaza-mons.be/wp-content/uploads/2025/05/la-mer-au-loin-poster.jpg
END:VEVENT
BEGIN:VEVENT
DTSTART;TZID=Europe/Brussels:20250531T180000
DTEND;TZID=Europe/Brussels:20250531T194200
DTSTAMP:20260425T032842
CREATED:20250513T125236Z
LAST-MODIFIED:20250701T000015Z
UID:87571-1748714400-1748720520@plaza-mons.be
SUMMARY:Samia
DESCRIPTION:Super Charlie\n\n\n\n\n\n			\n				Bande annonce\n			\n		 \n\n\n\n\n\n\n\n\n\n\n\n\n\n\n\n\n\n\n\n\n\n\n\n\n\n\n\n\n\n\n\n\n\n\n\n\n\n\n\n\n\n\n\n\n\n\n\n\n\n\n\n\n\nBande annonce
URL:https://plaza-mons.be/film/samia/2025-05-31
CATEGORIES:Drame
ATTACH;FMTTYPE=image/jpeg:https://plaza-mons.be/wp-content/uploads/2025/05/samia-poster.jpg
END:VEVENT
BEGIN:VEVENT
DTSTART;TZID=Europe/Brussels:20250531T180000
DTEND;TZID=Europe/Brussels:20250531T201100
DTSTAMP:20260425T032842
CREATED:20250425T125048Z
LAST-MODIFIED:20250603T000026Z
UID:87279-1748714400-1748722260@plaza-mons.be
SUMMARY:La chambre de Mariana
DESCRIPTION:Super Charlie\n\n\n\n\n\n			\n				Bande annonce\n			\n		 \n\n\n\n\n\n\n\n\n\n\n\n\n\n\n\n\n\n\n\n\n\n\n\n\n\n\n\n\n\n\n\n\n\n\n\n\n\n\n\n\n\n\n\n\n\n\n\n\n\n\n\n\n\nBande annonce
URL:https://plaza-mons.be/film/la-chambre-de-mariana-2/2025-05-31
CATEGORIES:Drame
ATTACH;FMTTYPE=image/jpeg:https://plaza-mons.be/wp-content/uploads/2025/04/la-chambre-de-mariana-poster.jpg
END:VEVENT
BEGIN:VEVENT
DTSTART;TZID=Europe/Brussels:20250531T181500
DTEND;TZID=Europe/Brussels:20250531T201100
DTSTAMP:20260425T032842
CREATED:20250513T094303Z
LAST-MODIFIED:20250624T000005Z
UID:87460-1748715300-1748722260@plaza-mons.be
SUMMARY:Armand
DESCRIPTION:Super Charlie\n\n\n\n\n\n			\n				Bande annonce\n			\n		 \n\n\n\n\n\n\n\n\n\n\n\n\n\n\n\n\n\n\n\n\n\n\n\n\n\n\n\n\n\n\n\n\n\n\n\n\n\n\n\n\n\n\n\n\n\n\n\n\n\n\n\n\n\nBande annonce
URL:https://plaza-mons.be/film/armand-2/2025-05-31
CATEGORIES:Drame
ATTACH;FMTTYPE=image/jpeg:https://plaza-mons.be/wp-content/uploads/2025/05/armand-poster.jpg
END:VEVENT
BEGIN:VEVENT
DTSTART;TZID=Europe/Brussels:20250531T183000
DTEND;TZID=Europe/Brussels:20250531T183000
DTSTAMP:20260425T032842
CREATED:20250513T125606Z
LAST-MODIFIED:20250624T000020Z
UID:87576-1748716200-1748716200@plaza-mons.be
SUMMARY:Les enfants rouges
DESCRIPTION:Super Charlie\n\n\n\n\n\n			\n				Bande annonce\n			\n		 \n\n\n\n\n\n\n\n\n\n\n\n\n\n\n\n\n\n\n\n\n\n\n\n\n\n\n\n\n\n\n\n\n\n\n\n\n\n\n\n\n\n\n\n\n\n\n\n\n\n\n\n\n\nBande annonce
URL:https://plaza-mons.be/film/les-enfants-rouges/2025-05-31
CATEGORIES:Drame
ATTACH;FMTTYPE=image/jpeg:https://plaza-mons.be/wp-content/uploads/2025/05/les-enfants-rouges-poster.jpg
END:VEVENT
BEGIN:VEVENT
DTSTART;TZID=Europe/Brussels:20250531T203000
DTEND;TZID=Europe/Brussels:20250531T221500
DTSTAMP:20260425T032842
CREATED:20250513T125919Z
LAST-MODIFIED:20250812T000023Z
UID:87583-1748723400-1748729700@plaza-mons.be
SUMMARY:The Phoenician Scheme
DESCRIPTION:Super Charlie\n\n\n\n\n\n			\n				Bande annonce\n			\n		 \n\n\n\n\n\n\n\n\n\n\n\n\n\n\n\n\n\n\n\n\n\n\n\n\n\n\n\n\n\n\n\n\n\n\n\n\n\n\n\n\n\n\n\n\n\n\n\n\n\n\n\n\n\nBande annonce
URL:https://plaza-mons.be/film/the-phoenician-scheme/2025-05-31/2
CATEGORIES:Drame
ATTACH;FMTTYPE=image/png:https://plaza-mons.be/wp-content/uploads/2025/05/the-phoenician-scheme-poster.png
END:VEVENT
BEGIN:VEVENT
DTSTART;TZID=Europe/Brussels:20250531T204500
DTEND;TZID=Europe/Brussels:20250531T204500
DTSTAMP:20260425T032842
CREATED:20250513T124238Z
LAST-MODIFIED:20250602T141733Z
UID:87533-1748724300-1748724300@plaza-mons.be
SUMMARY:Traffic
DESCRIPTION:Super Charlie\n\n\n\n\n\n			\n				Bande annonce\n			\n		 \n\n\n\n\n\n\n\n\n\n\n\n\n\n\n\n\n\n\n\n\n\n\n\n\n\n\n\n\n\n\n\n\n\n\n\n\n\n\n\n\n\n\n\n\n\n\n\n\n\n\n\n\n\nBande annonce
URL:https://plaza-mons.be/film/traffic-2025-05-23/2025-05-31
CATEGORIES:Drame
ATTACH;FMTTYPE=image/jpeg:https://plaza-mons.be/wp-content/uploads/2025/05/traffic-poster.jpg
END:VEVENT
BEGIN:VEVENT
DTSTART;TZID=Europe/Brussels:20250531T204500
DTEND;TZID=Europe/Brussels:20250531T204500
DTSTAMP:20260425T032842
CREATED:20250513T124238Z
LAST-MODIFIED:20250610T000457Z
UID:89087-1748724300-1748724300@plaza-mons.be
SUMMARY:Traffic
DESCRIPTION:Super Charlie\n\n\n\n\n\n			\n				Bande annonce\n			\n		 \n\n\n\n\n\n\n\n\n\n\n\n\n\n\n\n\n\n\n\n\n\n\n\n\n\n\n\n\n\n\n\n\n\n\n\n\n\n\n\n\n\n\n\n\n\n\n\n\n\n\n\n\n\nBande annonce
URL:https://plaza-mons.be/film/traffic/2025-05-31
CATEGORIES:Drame
ATTACH;FMTTYPE=image/jpeg:https://plaza-mons.be/wp-content/uploads/2025/05/traffic-poster.jpg
END:VEVENT
BEGIN:VEVENT
DTSTART;TZID=Europe/Brussels:20250531T204500
DTEND;TZID=Europe/Brussels:20250531T223500
DTSTAMP:20260425T032842
CREATED:20250425T124902Z
LAST-MODIFIED:20250603T000810Z
UID:87401-1748724300-1748730900@plaza-mons.be
SUMMARY:Joika
DESCRIPTION:Super Charlie\n\n\n\n\n\n			\n				Bande annonce\n			\n		 \n\n\n\n\n\n\n\n\n\n\n\n\n\n\n\n\n\n\n\n\n\n\n\n\n\n\n\n\n\n\n\n\n\n\n\n\n\n\n\n\n\n\n\n\n\n\n\n\n\n\n\n\n\nBande annonce
URL:https://plaza-mons.be/film/joika/2025-05-31
CATEGORIES:Drame
ATTACH;FMTTYPE=image/jpeg:https://plaza-mons.be/wp-content/uploads/2025/04/joika-poster.jpg
END:VEVENT
BEGIN:VEVENT
DTSTART;TZID=Europe/Brussels:20250531T204500
DTEND;TZID=Europe/Brussels:20250531T224800
DTSTAMP:20260425T032842
CREATED:20250513T124446Z
LAST-MODIFIED:20250624T000057Z
UID:87547-1748724300-1748731680@plaza-mons.be
SUMMARY:Aïcha
DESCRIPTION:Super Charlie\n\n\n\n\n\n			\n				Bande annonce\n			\n		 \n\n\n\n\n\n\n\n\n\n\n\n\n\n\n\n\n\n\n\n\n\n\n\n\n\n\n\n\n\n\n\n\n\n\n\n\n\n\n\n\n\n\n\n\n\n\n\n\n\n\n\n\n\nBande annonce
URL:https://plaza-mons.be/film/aicha/2025-05-31
CATEGORIES:Drame
ATTACH;FMTTYPE=image/jpeg:https://plaza-mons.be/wp-content/uploads/2025/05/aicha-poster.jpg
END:VEVENT
END:VCALENDAR