BEGIN:VCALENDAR
VERSION:2.0
PRODID:-//Plaza Arthouse Cinema - ECPv5.14.1//NONSGML v1.0//EN
CALSCALE:GREGORIAN
METHOD:PUBLISH
X-WR-CALNAME:Plaza Arthouse Cinema
X-ORIGINAL-URL:https://plaza-mons.be
X-WR-CALDESC:Events for Plaza Arthouse Cinema
REFRESH-INTERVAL;VALUE=DURATION:PT1H
X-Robots-Tag:noindex
X-PUBLISHED-TTL:PT1H
BEGIN:VTIMEZONE
TZID:Europe/Brussels
BEGIN:DAYLIGHT
TZOFFSETFROM:+0100
TZOFFSETTO:+0200
TZNAME:CEST
DTSTART:20250330T010000
END:DAYLIGHT
BEGIN:STANDARD
TZOFFSETFROM:+0200
TZOFFSETTO:+0100
TZNAME:CET
DTSTART:20251026T010000
END:STANDARD
END:VTIMEZONE
BEGIN:VEVENT
DTSTART;TZID=Europe/Brussels:20250525T110000
DTEND;TZID=Europe/Brussels:20250525T114100
DTSTAMP:20260425T032823
CREATED:20250513T124027Z
LAST-MODIFIED:20250621T000011Z
UID:87520-1748170800-1748173260@plaza-mons.be
SUMMARY:Au fil de l'eau
DESCRIPTION:Super Charlie\n\n\n\n\n\n			\n				Bande annonce\n			\n		 \n\n\n\n\n\n\n\n\n\n\n\n\n\n\n\n\n\n\n\n\n\n\n\n\n\n\n\n\n\n\n\n\n\n\n\n\n\n\n\n\n\n\n\n\n\n\n\n\n\n\n\n\n\nBande annonce
URL:https://plaza-mons.be/film/au-fil-de-leau/2025-05-25
CATEGORIES:Animation
ATTACH;FMTTYPE=image/jpeg:https://plaza-mons.be/wp-content/uploads/2025/04/au-fil-de-leau-poster.jpg
END:VEVENT
BEGIN:VEVENT
DTSTART;TZID=Europe/Brussels:20250525T110000
DTEND;TZID=Europe/Brussels:20250525T122000
DTSTAMP:20260425T032823
CREATED:20250331T142631Z
LAST-MODIFIED:20250608T000057Z
UID:87223-1748170800-1748175600@plaza-mons.be
SUMMARY:La vie\, en gros
DESCRIPTION:Super Charlie\n\n\n\n\n\n			\n				Bande annonce\n			\n		 \n\n\n\n\n\n\n\n\n\n\n\n\n\n\n\n\n\n\n\n\n\n\n\n\n\n\n\n\n\n\n\n\n\n\n\n\n\n\n\n\n\n\n\n\n\n\n\n\n\n\n\n\n\nBande annonce
URL:https://plaza-mons.be/film/la-vie-en-gros-2/2025-05-25
CATEGORIES:Animation
ATTACH;FMTTYPE=image/png:https://plaza-mons.be/wp-content/uploads/2025/03/la-vie-en-gros-poster.png
END:VEVENT
BEGIN:VEVENT
DTSTART;TZID=Europe/Brussels:20250525T110000
DTEND;TZID=Europe/Brussels:20250525T123500
DTSTAMP:20260425T032823
CREATED:20250425T095742Z
LAST-MODIFIED:20250526T000428Z
UID:87389-1748170800-1748176500@plaza-mons.be
SUMMARY:Warfare
DESCRIPTION:Super Charlie\n\n\n\n\n\n			\n				Bande annonce\n			\n		 \n\n\n\n\n\n\n\n\n\n\n\n\n\n\n\n\n\n\n\n\n\n\n\n\n\n\n\n\n\n\n\n\n\n\n\n\n\n\n\n\n\n\n\n\n\n\n\n\n\n\n\n\n\nBande annonce
URL:https://plaza-mons.be/film/warfare/2025-05-25
CATEGORIES:Action,Guerre
ATTACH;FMTTYPE=image/jpeg:https://plaza-mons.be/wp-content/uploads/2025/04/warfare-poster.jpg
END:VEVENT
BEGIN:VEVENT
DTSTART;TZID=Europe/Brussels:20250525T110000
DTEND;TZID=Europe/Brussels:20250525T123500
DTSTAMP:20260425T032823
CREATED:20250425T095943Z
LAST-MODIFIED:20250525T000017Z
UID:87240-1748170800-1748176500@plaza-mons.be
SUMMARY:Dog Man
DESCRIPTION:Super Charlie\n\n\n\n\n\n			\n				Bande annonce\n			\n		 \n\n\n\n\n\n\n\n\n\n\n\n\n\n\n\n\n\n\n\n\n\n\n\n\n\n\n\n\n\n\n\n\n\n\n\n\n\n\n\n\n\n\n\n\n\n\n\n\n\n\n\n\n\nBande annonce
URL:https://plaza-mons.be/film/dog-man/2025-05-25
CATEGORIES:Animation
ATTACH;FMTTYPE=image/png:https://plaza-mons.be/wp-content/uploads/2025/03/dog-man-poster.png
END:VEVENT
BEGIN:VEVENT
DTSTART;TZID=Europe/Brussels:20250525T140000
DTEND;TZID=Europe/Brussels:20250525T155300
DTSTAMP:20260425T032823
CREATED:20250513T094744Z
LAST-MODIFIED:20250603T000033Z
UID:87512-1748181600-1748188380@plaza-mons.be
SUMMARY:The Bibi Files
DESCRIPTION:Super Charlie\n\n\n\n\n\n			\n				Bande annonce\n			\n		 \n\n\n\n\n\n\n\n\n\n\n\n\n\n\n\n\n\n\n\n\n\n\n\n\n\n\n\n\n\n\n\n\n\n\n\n\n\n\n\n\n\n\n\n\n\n\n\n\n\n\n\n\n\nBande annonce
URL:https://plaza-mons.be/film/the-bibi-files/2025-05-25
CATEGORIES:Documentaire
ATTACH;FMTTYPE=image/jpeg:https://plaza-mons.be/wp-content/uploads/2025/05/the-bibi-files-poster.jpg
END:VEVENT
BEGIN:VEVENT
DTSTART;TZID=Europe/Brussels:20250525T140000
DTEND;TZID=Europe/Brussels:20250525T160400
DTSTAMP:20260425T032823
CREATED:20250425T100629Z
LAST-MODIFIED:20250525T000225Z
UID:87258-1748181600-1748189040@plaza-mons.be
SUMMARY:Le garçon et le héron VF
DESCRIPTION:Super Charlie\n\n\n\n\n\n			\n				Bande annonce\n			\n		 \n\n\n\n\n\n\n\n\n\n\n\n\n\n\n\n\n\n\n\n\n\n\n\n\n\n\n\n\n\n\n\n\n\n\n\n\n\n\n\n\n\n\n\n\n\n\n\n\n\n\n\n\n\nBande annonce
URL:https://plaza-mons.be/film/le-garcon-et-le-heron-vf-2/2025-05-25
CATEGORIES:Animation
ATTACH;FMTTYPE=image/jpeg:https://plaza-mons.be/wp-content/uploads/2025/04/le-garcon-et-le-heron-poster.jpg
END:VEVENT
BEGIN:VEVENT
DTSTART;TZID=Europe/Brussels:20250525T150000
DTEND;TZID=Europe/Brussels:20250525T171100
DTSTAMP:20260425T032823
CREATED:20250425T125048Z
LAST-MODIFIED:20250603T000025Z
UID:87273-1748185200-1748193060@plaza-mons.be
SUMMARY:La chambre de Mariana
DESCRIPTION:Super Charlie\n\n\n\n\n\n			\n				Bande annonce\n			\n		 \n\n\n\n\n\n\n\n\n\n\n\n\n\n\n\n\n\n\n\n\n\n\n\n\n\n\n\n\n\n\n\n\n\n\n\n\n\n\n\n\n\n\n\n\n\n\n\n\n\n\n\n\n\nBande annonce
URL:https://plaza-mons.be/film/la-chambre-de-mariana-2/2025-05-25
CATEGORIES:Drame
ATTACH;FMTTYPE=image/jpeg:https://plaza-mons.be/wp-content/uploads/2025/04/la-chambre-de-mariana-poster.jpg
END:VEVENT
BEGIN:VEVENT
DTSTART;TZID=Europe/Brussels:20250525T163000
DTEND;TZID=Europe/Brussels:20250525T175700
DTSTAMP:20260425T032823
CREATED:20250425T100210Z
LAST-MODIFIED:20250526T000142Z
UID:87382-1748190600-1748195820@plaza-mons.be
SUMMARY:Reflet dans un diamant  mort
DESCRIPTION:Super Charlie\n\n\n\n\n\n			\n				Bande annonce\n			\n		 \n\n\n\n\n\n\n\n\n\n\n\n\n\n\n\n\n\n\n\n\n\n\n\n\n\n\n\n\n\n\n\n\n\n\n\n\n\n\n\n\n\n\n\n\n\n\n\n\n\n\n\n\n\nBande annonce
URL:https://plaza-mons.be/film/86696/2025-05-25
CATEGORIES:Action
ATTACH;FMTTYPE=image/jpeg:https://plaza-mons.be/wp-content/uploads/2025/03/reflet-dans-un-diamant-mort-poster.jpg
END:VEVENT
BEGIN:VEVENT
DTSTART;TZID=Europe/Brussels:20250525T163000
DTEND;TZID=Europe/Brussels:20250525T175800
DTSTAMP:20260425T032823
CREATED:20250425T125407Z
LAST-MODIFIED:20250526T000320Z
UID:87412-1748190600-1748195880@plaza-mons.be
SUMMARY:Les damnés
DESCRIPTION:Super Charlie\n\n\n\n\n\n			\n				Bande annonce\n			\n		 \n\n\n\n\n\n\n\n\n\n\n\n\n\n\n\n\n\n\n\n\n\n\n\n\n\n\n\n\n\n\n\n\n\n\n\n\n\n\n\n\n\n\n\n\n\n\n\n\n\n\n\n\n\nBande annonce
URL:https://plaza-mons.be/film/les-damnes/2025-05-25
CATEGORIES:Drame,Guerre
ATTACH;FMTTYPE=image/jpeg:https://plaza-mons.be/wp-content/uploads/2025/04/les-damnes-poster-be-original.jpg
END:VEVENT
BEGIN:VEVENT
DTSTART;TZID=Europe/Brussels:20250525T163000
DTEND;TZID=Europe/Brussels:20250525T180100
DTSTAMP:20260425T032823
CREATED:20250513T094138Z
LAST-MODIFIED:20250610T000349Z
UID:87434-1748190600-1748196060@plaza-mons.be
SUMMARY:Lads
DESCRIPTION:Super Charlie\n\n\n\n\n\n			\n				Bande annonce\n			\n		 \n\n\n\n\n\n\n\n\n\n\n\n\n\n\n\n\n\n\n\n\n\n\n\n\n\n\n\n\n\n\n\n\n\n\n\n\n\n\n\n\n\n\n\n\n\n\n\n\n\n\n\n\n\nBande annonce
URL:https://plaza-mons.be/film/lads/2025-05-25
CATEGORIES:Drame
ATTACH;FMTTYPE=image/jpeg:https://plaza-mons.be/wp-content/uploads/2025/05/lads-120x160-hd-original.jpg
END:VEVENT
BEGIN:VEVENT
DTSTART;TZID=Europe/Brussels:20250525T180000
DTEND;TZID=Europe/Brussels:20250525T200300
DTSTAMP:20260425T032823
CREATED:20250513T124446Z
LAST-MODIFIED:20250624T000050Z
UID:87541-1748196000-1748203380@plaza-mons.be
SUMMARY:Aïcha
DESCRIPTION:Super Charlie\n\n\n\n\n\n			\n				Bande annonce\n			\n		 \n\n\n\n\n\n\n\n\n\n\n\n\n\n\n\n\n\n\n\n\n\n\n\n\n\n\n\n\n\n\n\n\n\n\n\n\n\n\n\n\n\n\n\n\n\n\n\n\n\n\n\n\n\nBande annonce
URL:https://plaza-mons.be/film/aicha/2025-05-25
CATEGORIES:Drame
ATTACH;FMTTYPE=image/jpeg:https://plaza-mons.be/wp-content/uploads/2025/05/aicha-poster.jpg
END:VEVENT
BEGIN:VEVENT
DTSTART;TZID=Europe/Brussels:20250525T181500
DTEND;TZID=Europe/Brussels:20250525T201100
DTSTAMP:20260425T032823
CREATED:20250513T094303Z
LAST-MODIFIED:20250624T000005Z
UID:87455-1748196900-1748203860@plaza-mons.be
SUMMARY:Armand
DESCRIPTION:Super Charlie\n\n\n\n\n\n			\n				Bande annonce\n			\n		 \n\n\n\n\n\n\n\n\n\n\n\n\n\n\n\n\n\n\n\n\n\n\n\n\n\n\n\n\n\n\n\n\n\n\n\n\n\n\n\n\n\n\n\n\n\n\n\n\n\n\n\n\n\nBande annonce
URL:https://plaza-mons.be/film/armand-2/2025-05-25
CATEGORIES:Drame
ATTACH;FMTTYPE=image/jpeg:https://plaza-mons.be/wp-content/uploads/2025/05/armand-poster.jpg
END:VEVENT
BEGIN:VEVENT
DTSTART;TZID=Europe/Brussels:20250525T181500
DTEND;TZID=Europe/Brussels:20250525T201200
DTSTAMP:20260425T032824
CREATED:20250513T124630Z
LAST-MODIFIED:20250609T000042Z
UID:87553-1748196900-1748203920@plaza-mons.be
SUMMARY:La mer au loin
DESCRIPTION:Super Charlie\n\n\n\n\n\n			\n				Bande annonce\n			\n		 \n\n\n\n\n\n\n\n\n\n\n\n\n\n\n\n\n\n\n\n\n\n\n\n\n\n\n\n\n\n\n\n\n\n\n\n\n\n\n\n\n\n\n\n\n\n\n\n\n\n\n\n\n\nBande annonce
URL:https://plaza-mons.be/film/la-mer-au-loin/2025-05-25
CATEGORIES:Drame
ATTACH;FMTTYPE=image/jpeg:https://plaza-mons.be/wp-content/uploads/2025/05/la-mer-au-loin-poster.jpg
END:VEVENT
BEGIN:VEVENT
DTSTART;TZID=Europe/Brussels:20250525T183000
DTEND;TZID=Europe/Brussels:20250525T201300
DTSTAMP:20260425T032824
CREATED:20250513T095210Z
LAST-MODIFIED:20250610T001021Z
UID:87475-1748197800-1748203980@plaza-mons.be
SUMMARY:The Surfer
DESCRIPTION:Super Charlie\n\n\n\n\n\n			\n				Bande annonce\n			\n		 \n\n\n\n\n\n\n\n\n\n\n\n\n\n\n\n\n\n\n\n\n\n\n\n\n\n\n\n\n\n\n\n\n\n\n\n\n\n\n\n\n\n\n\n\n\n\n\n\n\n\n\n\n\nBande annonce
URL:https://plaza-mons.be/film/the-surfer/2025-05-25
CATEGORIES:Drame
ATTACH;FMTTYPE=image/jpeg:https://plaza-mons.be/wp-content/uploads/2025/05/the-surfer-rgb-m-original.jpg
END:VEVENT
BEGIN:VEVENT
DTSTART;TZID=Europe/Brussels:20250525T203000
DTEND;TZID=Europe/Brussels:20250525T203000
DTSTAMP:20260425T032824
CREATED:20250513T124238Z
LAST-MODIFIED:20250602T141732Z
UID:87527-1748205000-1748205000@plaza-mons.be
SUMMARY:Traffic
DESCRIPTION:Super Charlie\n\n\n\n\n\n			\n				Bande annonce\n			\n		 \n\n\n\n\n\n\n\n\n\n\n\n\n\n\n\n\n\n\n\n\n\n\n\n\n\n\n\n\n\n\n\n\n\n\n\n\n\n\n\n\n\n\n\n\n\n\n\n\n\n\n\n\n\nBande annonce
URL:https://plaza-mons.be/film/traffic-2025-05-23/2025-05-25
CATEGORIES:Drame
ATTACH;FMTTYPE=image/jpeg:https://plaza-mons.be/wp-content/uploads/2025/05/traffic-poster.jpg
END:VEVENT
BEGIN:VEVENT
DTSTART;TZID=Europe/Brussels:20250525T203000
DTEND;TZID=Europe/Brussels:20250525T203000
DTSTAMP:20260425T032824
CREATED:20250513T124238Z
LAST-MODIFIED:20250610T000440Z
UID:89081-1748205000-1748205000@plaza-mons.be
SUMMARY:Traffic
DESCRIPTION:Super Charlie\n\n\n\n\n\n			\n				Bande annonce\n			\n		 \n\n\n\n\n\n\n\n\n\n\n\n\n\n\n\n\n\n\n\n\n\n\n\n\n\n\n\n\n\n\n\n\n\n\n\n\n\n\n\n\n\n\n\n\n\n\n\n\n\n\n\n\n\nBande annonce
URL:https://plaza-mons.be/film/traffic/2025-05-25
CATEGORIES:Drame
ATTACH;FMTTYPE=image/jpeg:https://plaza-mons.be/wp-content/uploads/2025/05/traffic-poster.jpg
END:VEVENT
BEGIN:VEVENT
DTSTART;TZID=Europe/Brussels:20250525T204500
DTEND;TZID=Europe/Brussels:20250525T222000
DTSTAMP:20260425T032824
CREATED:20250425T095742Z
LAST-MODIFIED:20250526T000431Z
UID:87390-1748205900-1748211600@plaza-mons.be
SUMMARY:Warfare
DESCRIPTION:Super Charlie\n\n\n\n\n\n			\n				Bande annonce\n			\n		 \n\n\n\n\n\n\n\n\n\n\n\n\n\n\n\n\n\n\n\n\n\n\n\n\n\n\n\n\n\n\n\n\n\n\n\n\n\n\n\n\n\n\n\n\n\n\n\n\n\n\n\n\n\nBande annonce
URL:https://plaza-mons.be/film/warfare/2025-05-25/3
CATEGORIES:Action,Guerre
ATTACH;FMTTYPE=image/jpeg:https://plaza-mons.be/wp-content/uploads/2025/04/warfare-poster.jpg
END:VEVENT
BEGIN:VEVENT
DTSTART;TZID=Europe/Brussels:20250525T204500
DTEND;TZID=Europe/Brussels:20250525T222800
DTSTAMP:20260425T032824
CREATED:20250513T095530Z
LAST-MODIFIED:20250610T123810Z
UID:87496-1748205900-1748212080@plaza-mons.be
SUMMARY:Oxana
DESCRIPTION:Super Charlie\n\n\n\n\n\n			\n				Bande annonce\n			\n		 \n\n\n\n\n\n\n\n\n\n\n\n\n\n\n\n\n\n\n\n\n\n\n\n\n\n\n\n\n\n\n\n\n\n\n\n\n\n\n\n\n\n\n\n\n\n\n\n\n\n\n\n\n\nBande annonce
URL:https://plaza-mons.be/film/oxana/2025-05-25
CATEGORIES:Biopic
ATTACH;FMTTYPE=image/jpeg:https://plaza-mons.be/wp-content/uploads/2025/04/oxana-poster-1.jpg
END:VEVENT
BEGIN:VEVENT
DTSTART;TZID=Europe/Brussels:20250525T204500
DTEND;TZID=Europe/Brussels:20250525T225000
DTSTAMP:20260425T032824
CREATED:20250425T125601Z
LAST-MODIFIED:20250526T000441Z
UID:87420-1748205900-1748213400@plaza-mons.be
SUMMARY:Tardes de soledad
DESCRIPTION:Super Charlie\n\n\n\n\n\n			\n				Bande annonce\n			\n		 \n\n\n\n\n\n\n\n\n\n\n\n\n\n\n\n\n\n\n\n\n\n\n\n\n\n\n\n\n\n\n\n\n\n\n\n\n\n\n\n\n\n\n\n\n\n\n\n\n\n\n\n\n\nBande annonce
URL:https://plaza-mons.be/film/tardes-de-soledad/2025-05-25
CATEGORIES:Documentaire
ATTACH;FMTTYPE=image/jpeg:https://plaza-mons.be/wp-content/uploads/2025/04/tardes-de-soledad-be-web-original.jpg
END:VEVENT
END:VCALENDAR