BEGIN:VCALENDAR
VERSION:2.0
PRODID:-//Plaza Arthouse Cinema - ECPv5.14.1//NONSGML v1.0//EN
CALSCALE:GREGORIAN
METHOD:PUBLISH
X-WR-CALNAME:Plaza Arthouse Cinema
X-ORIGINAL-URL:https://plaza-mons.be
X-WR-CALDESC:Events for Plaza Arthouse Cinema
REFRESH-INTERVAL;VALUE=DURATION:PT1H
X-Robots-Tag:noindex
X-PUBLISHED-TTL:PT1H
BEGIN:VTIMEZONE
TZID:Europe/Brussels
BEGIN:DAYLIGHT
TZOFFSETFROM:+0100
TZOFFSETTO:+0200
TZNAME:CEST
DTSTART:20250330T010000
END:DAYLIGHT
BEGIN:STANDARD
TZOFFSETFROM:+0200
TZOFFSETTO:+0100
TZNAME:CET
DTSTART:20251026T010000
END:STANDARD
END:VTIMEZONE
BEGIN:VEVENT
DTSTART;TZID=Europe/Brussels:20250522T150000
DTEND;TZID=Europe/Brussels:20250522T163100
DTSTAMP:20260420T080128
CREATED:20250513T094138Z
LAST-MODIFIED:20250610T000348Z
UID:87431-1747926000-1747931460@plaza-mons.be
SUMMARY:Lads
DESCRIPTION:Pop & Clap ciné-club : Kill Bill: The Whole Bloody Affair\n\n\n\n\n\n			\n				Bande annonce\n			\n		 \n\n\n\n\n\n\n\n\n\n\n\n\n\n\n\n\n\n\n\n\n\n\n\n\n\n\n\n\n\n\n\n\n\n\n\n\n\n\n\n\n\n\n\n\n\n\n\n\n\n\n\n\n\nBande annonce
URL:https://plaza-mons.be/film/lads/2025-05-22
CATEGORIES:Drame
ATTACH;FMTTYPE=image/jpeg:https://plaza-mons.be/wp-content/uploads/2025/05/lads-120x160-hd-original.jpg
END:VEVENT
BEGIN:VEVENT
DTSTART;TZID=Europe/Brussels:20250522T150000
DTEND;TZID=Europe/Brussels:20250522T164300
DTSTAMP:20260420T080128
CREATED:20250513T095530Z
LAST-MODIFIED:20250610T123756Z
UID:87493-1747926000-1747932180@plaza-mons.be
SUMMARY:Oxana
DESCRIPTION:Pop & Clap ciné-club : Kill Bill: The Whole Bloody Affair\n\n\n\n\n\n			\n				Bande annonce\n			\n		 \n\n\n\n\n\n\n\n\n\n\n\n\n\n\n\n\n\n\n\n\n\n\n\n\n\n\n\n\n\n\n\n\n\n\n\n\n\n\n\n\n\n\n\n\n\n\n\n\n\n\n\n\n\nBande annonce
URL:https://plaza-mons.be/film/oxana/2025-05-22
CATEGORIES:Biopic
ATTACH;FMTTYPE=image/jpeg:https://plaza-mons.be/wp-content/uploads/2025/04/oxana-poster-1.jpg
END:VEVENT
BEGIN:VEVENT
DTSTART;TZID=Europe/Brussels:20250522T150000
DTEND;TZID=Europe/Brussels:20250522T165300
DTSTAMP:20260420T080128
CREATED:20250513T094744Z
LAST-MODIFIED:20250603T000032Z
UID:87510-1747926000-1747932780@plaza-mons.be
SUMMARY:The Bibi Files
DESCRIPTION:Pop & Clap ciné-club : Kill Bill: The Whole Bloody Affair\n\n\n\n\n\n			\n				Bande annonce\n			\n		 \n\n\n\n\n\n\n\n\n\n\n\n\n\n\n\n\n\n\n\n\n\n\n\n\n\n\n\n\n\n\n\n\n\n\n\n\n\n\n\n\n\n\n\n\n\n\n\n\n\n\n\n\n\nBande annonce
URL:https://plaza-mons.be/film/the-bibi-files/2025-05-22
CATEGORIES:Documentaire
ATTACH;FMTTYPE=image/jpeg:https://plaza-mons.be/wp-content/uploads/2025/05/the-bibi-files-poster.jpg
END:VEVENT
BEGIN:VEVENT
DTSTART;TZID=Europe/Brussels:20250522T150000
DTEND;TZID=Europe/Brussels:20250522T170500
DTSTAMP:20260420T080128
CREATED:20250425T125601Z
LAST-MODIFIED:20250526T000440Z
UID:87418-1747926000-1747933500@plaza-mons.be
SUMMARY:Tardes de soledad
DESCRIPTION:Pop & Clap ciné-club : Kill Bill: The Whole Bloody Affair\n\n\n\n\n\n			\n				Bande annonce\n			\n		 \n\n\n\n\n\n\n\n\n\n\n\n\n\n\n\n\n\n\n\n\n\n\n\n\n\n\n\n\n\n\n\n\n\n\n\n\n\n\n\n\n\n\n\n\n\n\n\n\n\n\n\n\n\nBande annonce
URL:https://plaza-mons.be/film/tardes-de-soledad/2025-05-22
CATEGORIES:Documentaire
ATTACH;FMTTYPE=image/jpeg:https://plaza-mons.be/wp-content/uploads/2025/04/tardes-de-soledad-be-web-original.jpg
END:VEVENT
BEGIN:VEVENT
DTSTART;TZID=Europe/Brussels:20250522T173000
DTEND;TZID=Europe/Brussels:20250522T193300
DTSTAMP:20260420T080128
CREATED:20250513T124446Z
LAST-MODIFIED:20250624T000044Z
UID:87538-1747935000-1747942380@plaza-mons.be
SUMMARY:Aïcha
DESCRIPTION:Pop & Clap ciné-club : Kill Bill: The Whole Bloody Affair\n\n\n\n\n\n			\n				Bande annonce\n			\n		 \n\n\n\n\n\n\n\n\n\n\n\n\n\n\n\n\n\n\n\n\n\n\n\n\n\n\n\n\n\n\n\n\n\n\n\n\n\n\n\n\n\n\n\n\n\n\n\n\n\n\n\n\n\nBande annonce
URL:https://plaza-mons.be/film/aicha/2025-05-22
CATEGORIES:Drame
ATTACH;FMTTYPE=image/jpeg:https://plaza-mons.be/wp-content/uploads/2025/05/aicha-poster.jpg
END:VEVENT
BEGIN:VEVENT
DTSTART;TZID=Europe/Brussels:20250522T180000
DTEND;TZID=Europe/Brussels:20250522T192700
DTSTAMP:20260420T080128
CREATED:20250425T100210Z
LAST-MODIFIED:20250526T000127Z
UID:87379-1747936800-1747942020@plaza-mons.be
SUMMARY:Reflet dans un diamant  mort
DESCRIPTION:Pop & Clap ciné-club : Kill Bill: The Whole Bloody Affair\n\n\n\n\n\n			\n				Bande annonce\n			\n		 \n\n\n\n\n\n\n\n\n\n\n\n\n\n\n\n\n\n\n\n\n\n\n\n\n\n\n\n\n\n\n\n\n\n\n\n\n\n\n\n\n\n\n\n\n\n\n\n\n\n\n\n\n\nBande annonce
URL:https://plaza-mons.be/film/86696/2025-05-22
CATEGORIES:Action
ATTACH;FMTTYPE=image/jpeg:https://plaza-mons.be/wp-content/uploads/2025/03/reflet-dans-un-diamant-mort-poster.jpg
END:VEVENT
BEGIN:VEVENT
DTSTART;TZID=Europe/Brussels:20250522T180000
DTEND;TZID=Europe/Brussels:20250522T194300
DTSTAMP:20260420T080128
CREATED:20250513T095210Z
LAST-MODIFIED:20250610T001021Z
UID:87472-1747936800-1747942980@plaza-mons.be
SUMMARY:The Surfer
DESCRIPTION:Pop & Clap ciné-club : Kill Bill: The Whole Bloody Affair\n\n\n\n\n\n			\n				Bande annonce\n			\n		 \n\n\n\n\n\n\n\n\n\n\n\n\n\n\n\n\n\n\n\n\n\n\n\n\n\n\n\n\n\n\n\n\n\n\n\n\n\n\n\n\n\n\n\n\n\n\n\n\n\n\n\n\n\nBande annonce
URL:https://plaza-mons.be/film/the-surfer/2025-05-22
CATEGORIES:Drame
ATTACH;FMTTYPE=image/jpeg:https://plaza-mons.be/wp-content/uploads/2025/05/the-surfer-rgb-m-original.jpg
END:VEVENT
BEGIN:VEVENT
DTSTART;TZID=Europe/Brussels:20250522T180000
DTEND;TZID=Europe/Brussels:20250522T201100
DTSTAMP:20260420T080128
CREATED:20250425T125048Z
LAST-MODIFIED:20250603T000025Z
UID:87271-1747936800-1747944660@plaza-mons.be
SUMMARY:La chambre de Mariana
DESCRIPTION:Pop & Clap ciné-club : Kill Bill: The Whole Bloody Affair\n\n\n\n\n\n			\n				Bande annonce\n			\n		 \n\n\n\n\n\n\n\n\n\n\n\n\n\n\n\n\n\n\n\n\n\n\n\n\n\n\n\n\n\n\n\n\n\n\n\n\n\n\n\n\n\n\n\n\n\n\n\n\n\n\n\n\n\nBande annonce
URL:https://plaza-mons.be/film/la-chambre-de-mariana-2/2025-05-22
CATEGORIES:Drame
ATTACH;FMTTYPE=image/jpeg:https://plaza-mons.be/wp-content/uploads/2025/04/la-chambre-de-mariana-poster.jpg
END:VEVENT
BEGIN:VEVENT
DTSTART;TZID=Europe/Brussels:20250522T200000
DTEND;TZID=Europe/Brussels:20250522T215700
DTSTAMP:20260420T080128
CREATED:20250427T142407Z
LAST-MODIFIED:20250519T000621Z
UID:86745-1747944000-1747951020@plaza-mons.be
SUMMARY:Jeudis Archi - mai 2025
DESCRIPTION:Pop & Clap ciné-club : Kill Bill: The Whole Bloody Affair
URL:https://plaza-mons.be/film/jeudis-archi-mai-2025/2025-05-22
CATEGORIES:Avant-première,Documentaire
ATTACH;FMTTYPE=image/jpeg:https://plaza-mons.be/wp-content/uploads/2025/04/libraryutick-2.jpg
END:VEVENT
BEGIN:VEVENT
DTSTART;TZID=Europe/Brussels:20250522T203000
DTEND;TZID=Europe/Brussels:20250522T222000
DTSTAMP:20260420T080128
CREATED:20250425T124902Z
LAST-MODIFIED:20250603T000455Z
UID:87394-1747945800-1747952400@plaza-mons.be
SUMMARY:Joika
DESCRIPTION:Pop & Clap ciné-club : Kill Bill: The Whole Bloody Affair\n\n\n\n\n\n			\n				Bande annonce\n			\n		 \n\n\n\n\n\n\n\n\n\n\n\n\n\n\n\n\n\n\n\n\n\n\n\n\n\n\n\n\n\n\n\n\n\n\n\n\n\n\n\n\n\n\n\n\n\n\n\n\n\n\n\n\n\nBande annonce
URL:https://plaza-mons.be/film/joika/2025-05-22
CATEGORIES:Drame
ATTACH;FMTTYPE=image/jpeg:https://plaza-mons.be/wp-content/uploads/2025/04/joika-poster.jpg
END:VEVENT
BEGIN:VEVENT
DTSTART;TZID=Europe/Brussels:20250522T203000
DTEND;TZID=Europe/Brussels:20250522T222600
DTSTAMP:20260420T080128
CREATED:20250513T094303Z
LAST-MODIFIED:20250624T000005Z
UID:87452-1747945800-1747952760@plaza-mons.be
SUMMARY:Armand
DESCRIPTION:Pop & Clap ciné-club : Kill Bill: The Whole Bloody Affair\n\n\n\n\n\n			\n				Bande annonce\n			\n		 \n\n\n\n\n\n\n\n\n\n\n\n\n\n\n\n\n\n\n\n\n\n\n\n\n\n\n\n\n\n\n\n\n\n\n\n\n\n\n\n\n\n\n\n\n\n\n\n\n\n\n\n\n\nBande annonce
URL:https://plaza-mons.be/film/armand-2/2025-05-22
CATEGORIES:Drame
ATTACH;FMTTYPE=image/jpeg:https://plaza-mons.be/wp-content/uploads/2025/05/armand-poster.jpg
END:VEVENT
BEGIN:VEVENT
DTSTART;TZID=Europe/Brussels:20250522T204500
DTEND;TZID=Europe/Brussels:20250522T224200
DTSTAMP:20260420T080128
CREATED:20250513T124630Z
LAST-MODIFIED:20250609T000042Z
UID:87551-1747946700-1747953720@plaza-mons.be
SUMMARY:La mer au loin
DESCRIPTION:Pop & Clap ciné-club : Kill Bill: The Whole Bloody Affair\n\n\n\n\n\n			\n				Bande annonce\n			\n		 \n\n\n\n\n\n\n\n\n\n\n\n\n\n\n\n\n\n\n\n\n\n\n\n\n\n\n\n\n\n\n\n\n\n\n\n\n\n\n\n\n\n\n\n\n\n\n\n\n\n\n\n\n\nBande annonce
URL:https://plaza-mons.be/film/la-mer-au-loin/2025-05-22
CATEGORIES:Drame
ATTACH;FMTTYPE=image/jpeg:https://plaza-mons.be/wp-content/uploads/2025/05/la-mer-au-loin-poster.jpg
END:VEVENT
END:VCALENDAR