BEGIN:VCALENDAR
VERSION:2.0
PRODID:-//Plaza Arthouse Cinema - ECPv5.14.1//NONSGML v1.0//EN
CALSCALE:GREGORIAN
METHOD:PUBLISH
X-WR-CALNAME:Plaza Arthouse Cinema
X-ORIGINAL-URL:https://plaza-mons.be
X-WR-CALDESC:Events for Plaza Arthouse Cinema
REFRESH-INTERVAL;VALUE=DURATION:PT1H
X-Robots-Tag:noindex
X-PUBLISHED-TTL:PT1H
BEGIN:VTIMEZONE
TZID:Europe/Brussels
BEGIN:DAYLIGHT
TZOFFSETFROM:+0100
TZOFFSETTO:+0200
TZNAME:CEST
DTSTART:20250330T010000
END:DAYLIGHT
BEGIN:STANDARD
TZOFFSETFROM:+0200
TZOFFSETTO:+0100
TZNAME:CET
DTSTART:20251026T010000
END:STANDARD
END:VTIMEZONE
BEGIN:VEVENT
DTSTART;TZID=Europe/Brussels:20250518T100000
DTEND;TZID=Europe/Brussels:20250518T180000
DTSTAMP:20260420T080128
CREATED:20250327T140042Z
LAST-MODIFIED:20250518T000005Z
UID:85483-1747562400-1747591200@plaza-mons.be
SUMMARY:L’obsession du mal chez David Fincher -  Cycle de formation LES INCARNATIONS DU MAL À L’ ÉCRAN
DESCRIPTION:Pop & Clap ciné-club : Kill Bill: The Whole Bloody Affair\n\n\n\n\n\n			\n				Bande annonce
URL:https://plaza-mons.be/film/lobsession-du-mal-chez-david-fincher/2025-05-18
CATEGORIES:Avant-première
ATTACH;FMTTYPE=image/jpeg:https://plaza-mons.be/wp-content/uploads/2025/03/seven-poster-1.jpg
END:VEVENT
BEGIN:VEVENT
DTSTART;TZID=Europe/Brussels:20250518T110000
DTEND;TZID=Europe/Brussels:20250518T114500
DTSTAMP:20260420T080128
CREATED:20250425T095323Z
LAST-MODIFIED:20250518T000142Z
UID:86610-1747566000-1747568700@plaza-mons.be
SUMMARY:Chouette\, un jeu d'enfants !
DESCRIPTION:Pop & Clap ciné-club : Kill Bill: The Whole Bloody Affair
URL:https://plaza-mons.be/film/chouette-un-jeu-denfants/2025-05-18
CATEGORIES:Animation
ATTACH;FMTTYPE=image/png:https://plaza-mons.be/wp-content/uploads/2025/03/chouette-un-jeu-denfants.png
END:VEVENT
BEGIN:VEVENT
DTSTART;TZID=Europe/Brussels:20250518T110000
DTEND;TZID=Europe/Brussels:20250518T122000
DTSTAMP:20260420T080128
CREATED:20250331T142631Z
LAST-MODIFIED:20250608T000055Z
UID:86635-1747566000-1747570800@plaza-mons.be
SUMMARY:La vie\, en gros
DESCRIPTION:Pop & Clap ciné-club : Kill Bill: The Whole Bloody Affair\n\n\n\n\n\n			\n				Bande annonce\n			\n		 \n\n\n\n\n\n\n\n\n\n\n\n\n\n\n\n\n\n\n\n\n\n\n\n\n\n\n\n\n\n\n\n\n\n\n\n\n\n\n\n\n\n\n\n\n\n\n\n\n\n\n\n\n\nBande annonce
URL:https://plaza-mons.be/film/la-vie-en-gros-2/2025-05-18
CATEGORIES:Animation
ATTACH;FMTTYPE=image/png:https://plaza-mons.be/wp-content/uploads/2025/03/la-vie-en-gros-poster.png
END:VEVENT
BEGIN:VEVENT
DTSTART;TZID=Europe/Brussels:20250518T110000
DTEND;TZID=Europe/Brussels:20250518T123500
DTSTAMP:20260420T080128
CREATED:20250425T095943Z
LAST-MODIFIED:20250525T000015Z
UID:86694-1747566000-1747571700@plaza-mons.be
SUMMARY:Dog Man
DESCRIPTION:Pop & Clap ciné-club : Kill Bill: The Whole Bloody Affair\n\n\n\n\n\n			\n				Bande annonce\n			\n		 \n\n\n\n\n\n\n\n\n\n\n\n\n\n\n\n\n\n\n\n\n\n\n\n\n\n\n\n\n\n\n\n\n\n\n\n\n\n\n\n\n\n\n\n\n\n\n\n\n\n\n\n\n\nBande annonce
URL:https://plaza-mons.be/film/dog-man/2025-05-18
CATEGORIES:Animation
ATTACH;FMTTYPE=image/png:https://plaza-mons.be/wp-content/uploads/2025/03/dog-man-poster.png
END:VEVENT
BEGIN:VEVENT
DTSTART;TZID=Europe/Brussels:20250518T140000
DTEND;TZID=Europe/Brussels:20250518T153100
DTSTAMP:20260420T080128
CREATED:20250513T094138Z
LAST-MODIFIED:20250610T000348Z
UID:87428-1747576800-1747582260@plaza-mons.be
SUMMARY:Lads
DESCRIPTION:Pop & Clap ciné-club : Kill Bill: The Whole Bloody Affair\n\n\n\n\n\n			\n				Bande annonce\n			\n		 \n\n\n\n\n\n\n\n\n\n\n\n\n\n\n\n\n\n\n\n\n\n\n\n\n\n\n\n\n\n\n\n\n\n\n\n\n\n\n\n\n\n\n\n\n\n\n\n\n\n\n\n\n\nBande annonce
URL:https://plaza-mons.be/film/lads/2025-05-18
CATEGORIES:Drame
ATTACH;FMTTYPE=image/jpeg:https://plaza-mons.be/wp-content/uploads/2025/05/lads-120x160-hd-original.jpg
END:VEVENT
BEGIN:VEVENT
DTSTART;TZID=Europe/Brussels:20250518T140000
DTEND;TZID=Europe/Brussels:20250518T155400
DTSTAMP:20260420T080129
CREATED:20250425T124011Z
LAST-MODIFIED:20250519T000505Z
UID:87363-1747576800-1747583640@plaza-mons.be
SUMMARY:Septembre sans attendre
DESCRIPTION:Pop & Clap ciné-club : Kill Bill: The Whole Bloody Affair\n\n\n\n\n\n			\n				Bande annonce\n			\n		 \n\n\n\n\n\n\n\n\n\n\n\n\n\n\n\n\n\n\n\n\n\n\n\n\n\n\n\n\n\n\n\n\n\n\n\n\n\n\n\n\n\n\n\n\n\n\n\n\n\n\n\n\n\nBande annonce
URL:https://plaza-mons.be/film/septembre-sans-attendre/2025-05-18
CATEGORIES:Comédie dramatique
ATTACH;FMTTYPE=image/jpeg:https://plaza-mons.be/wp-content/uploads/2025/04/septembre-sans-attendre-poster.jpg
END:VEVENT
BEGIN:VEVENT
DTSTART;TZID=Europe/Brussels:20250518T150000
DTEND;TZID=Europe/Brussels:20250518T164300
DTSTAMP:20260420T080129
CREATED:20250331T144108Z
LAST-MODIFIED:20250519T000126Z
UID:87371-1747580400-1747586580@plaza-mons.be
SUMMARY:Le mélange des genres
DESCRIPTION:Pop & Clap ciné-club : Kill Bill: The Whole Bloody Affair\n\n\n\n\n\n			\n				Bande annonce\n			\n		 \n\n\n\n\n\n\n\n\n\n\n\n\n\n\n\n\n\n\n\n\n\n\n\n\n\n\n\n\n\n\n\n\n\n\n\n\n\n\n\n\n\n\n\n\n\n\n\n\n\n\n\n\n\nBande annonce
URL:https://plaza-mons.be/film/le-melange-des-genres/2025-05-18
CATEGORIES:Comédie dramatique
ATTACH;FMTTYPE=image/jpeg:https://plaza-mons.be/wp-content/uploads/2025/03/le-melange-des-genres-poster.jpg
END:VEVENT
BEGIN:VEVENT
DTSTART;TZID=Europe/Brussels:20250518T150000
DTEND;TZID=Europe/Brussels:20250518T171000
DTSTAMP:20260420T080129
CREATED:20250331T144442Z
LAST-MODIFIED:20250518T000321Z
UID:86054-1747580400-1747588200@plaza-mons.be
SUMMARY:Cult Classic : Seven
DESCRIPTION:Pop & Clap ciné-club : Kill Bill: The Whole Bloody Affair
URL:https://plaza-mons.be/film/cult-classic-seven/2025-05-18
CATEGORIES:Avant-première,Horreur
ATTACH;FMTTYPE=image/jpeg:https://plaza-mons.be/wp-content/uploads/2025/03/seven-poster-2.jpg
END:VEVENT
BEGIN:VEVENT
DTSTART;TZID=Europe/Brussels:20250518T160000
DTEND;TZID=Europe/Brussels:20250518T175000
DTSTAMP:20260420T080129
CREATED:20250425T124902Z
LAST-MODIFIED:20250603T000436Z
UID:86724-1747584000-1747590600@plaza-mons.be
SUMMARY:Joika
DESCRIPTION:Pop & Clap ciné-club : Kill Bill: The Whole Bloody Affair\n\n\n\n\n\n			\n				Bande annonce\n			\n		 \n\n\n\n\n\n\n\n\n\n\n\n\n\n\n\n\n\n\n\n\n\n\n\n\n\n\n\n\n\n\n\n\n\n\n\n\n\n\n\n\n\n\n\n\n\n\n\n\n\n\n\n\n\nBande annonce
URL:https://plaza-mons.be/film/joika/2025-05-18
CATEGORIES:Drame
ATTACH;FMTTYPE=image/jpeg:https://plaza-mons.be/wp-content/uploads/2025/04/joika-poster.jpg
END:VEVENT
BEGIN:VEVENT
DTSTART;TZID=Europe/Brussels:20250518T163000
DTEND;TZID=Europe/Brussels:20250518T180700
DTSTAMP:20260420T080129
CREATED:20250425T095538Z
LAST-MODIFIED:20250519T000048Z
UID:87377-1747585800-1747591620@plaza-mons.be
SUMMARY:Deux soeurs
DESCRIPTION:Pop & Clap ciné-club : Kill Bill: The Whole Bloody Affair\n\n\n\n\n\n			\n				Bande annonce\n			\n		 \n\n\n\n\n\n\n\n\n\n\n\n\n\n\n\n\n\n\n\n\n\n\n\n\n\n\n\n\n\n\n\n\n\n\n\n\n\n\n\n\n\n\n\n\n\n\n\n\n\n\n\n\n\nBande annonce
URL:https://plaza-mons.be/film/deux-soeurs/2025-05-18
CATEGORIES:Drame
ATTACH;FMTTYPE=image/jpeg:https://plaza-mons.be/wp-content/uploads/2025/04/deux-soeurs-poster.jpg
END:VEVENT
BEGIN:VEVENT
DTSTART;TZID=Europe/Brussels:20250518T174500
DTEND;TZID=Europe/Brussels:20250518T195600
DTSTAMP:20260420T080129
CREATED:20250425T125048Z
LAST-MODIFIED:20250603T000024Z
UID:87268-1747590300-1747598160@plaza-mons.be
SUMMARY:La chambre de Mariana
DESCRIPTION:Pop & Clap ciné-club : Kill Bill: The Whole Bloody Affair\n\n\n\n\n\n			\n				Bande annonce\n			\n		 \n\n\n\n\n\n\n\n\n\n\n\n\n\n\n\n\n\n\n\n\n\n\n\n\n\n\n\n\n\n\n\n\n\n\n\n\n\n\n\n\n\n\n\n\n\n\n\n\n\n\n\n\n\nBande annonce
URL:https://plaza-mons.be/film/la-chambre-de-mariana-2/2025-05-18
CATEGORIES:Drame
ATTACH;FMTTYPE=image/jpeg:https://plaza-mons.be/wp-content/uploads/2025/04/la-chambre-de-mariana-poster.jpg
END:VEVENT
BEGIN:VEVENT
DTSTART;TZID=Europe/Brussels:20250518T180000
DTEND;TZID=Europe/Brussels:20250518T194300
DTSTAMP:20260420T080129
CREATED:20250513T095530Z
LAST-MODIFIED:20250610T123722Z
UID:87489-1747591200-1747597380@plaza-mons.be
SUMMARY:Oxana
DESCRIPTION:Pop & Clap ciné-club : Kill Bill: The Whole Bloody Affair\n\n\n\n\n\n			\n				Bande annonce\n			\n		 \n\n\n\n\n\n\n\n\n\n\n\n\n\n\n\n\n\n\n\n\n\n\n\n\n\n\n\n\n\n\n\n\n\n\n\n\n\n\n\n\n\n\n\n\n\n\n\n\n\n\n\n\n\nBande annonce
URL:https://plaza-mons.be/film/oxana/2025-05-18
CATEGORIES:Biopic
ATTACH;FMTTYPE=image/jpeg:https://plaza-mons.be/wp-content/uploads/2025/04/oxana-poster-1.jpg
END:VEVENT
BEGIN:VEVENT
DTSTART;TZID=Europe/Brussels:20250518T183000
DTEND;TZID=Europe/Brussels:20250518T195800
DTSTAMP:20260420T080129
CREATED:20250425T125407Z
LAST-MODIFIED:20250526T000318Z
UID:87408-1747593000-1747598280@plaza-mons.be
SUMMARY:Les damnés
DESCRIPTION:Pop & Clap ciné-club : Kill Bill: The Whole Bloody Affair\n\n\n\n\n\n			\n				Bande annonce\n			\n		 \n\n\n\n\n\n\n\n\n\n\n\n\n\n\n\n\n\n\n\n\n\n\n\n\n\n\n\n\n\n\n\n\n\n\n\n\n\n\n\n\n\n\n\n\n\n\n\n\n\n\n\n\n\nBande annonce
URL:https://plaza-mons.be/film/les-damnes/2025-05-18
CATEGORIES:Drame,Guerre
ATTACH;FMTTYPE=image/jpeg:https://plaza-mons.be/wp-content/uploads/2025/04/les-damnes-poster-be-original.jpg
END:VEVENT
BEGIN:VEVENT
DTSTART;TZID=Europe/Brussels:20250518T183000
DTEND;TZID=Europe/Brussels:20250518T201300
DTSTAMP:20260420T080129
CREATED:20250513T095210Z
LAST-MODIFIED:20250610T001021Z
UID:87468-1747593000-1747599180@plaza-mons.be
SUMMARY:The Surfer
DESCRIPTION:Pop & Clap ciné-club : Kill Bill: The Whole Bloody Affair\n\n\n\n\n\n			\n				Bande annonce\n			\n		 \n\n\n\n\n\n\n\n\n\n\n\n\n\n\n\n\n\n\n\n\n\n\n\n\n\n\n\n\n\n\n\n\n\n\n\n\n\n\n\n\n\n\n\n\n\n\n\n\n\n\n\n\n\nBande annonce
URL:https://plaza-mons.be/film/the-surfer/2025-05-18
CATEGORIES:Drame
ATTACH;FMTTYPE=image/jpeg:https://plaza-mons.be/wp-content/uploads/2025/05/the-surfer-rgb-m-original.jpg
END:VEVENT
BEGIN:VEVENT
DTSTART;TZID=Europe/Brussels:20250518T203000
DTEND;TZID=Europe/Brussels:20250518T213000
DTSTAMP:20260420T080129
CREATED:20250331T143919Z
LAST-MODIFIED:20250519T000004Z
UID:87367-1747600200-1747603800@plaza-mons.be
SUMMARY:Black Dog
DESCRIPTION:Pop & Clap ciné-club : Kill Bill: The Whole Bloody Affair\n\n\n\n\n\n			\n				Bande annonce\n			\n		 \n\n\n\n\n\n\n\n\n\n\n\n\n\n\n\n\n\n\n\n\n\n\n\n\n\n\n\n\n\n\n\n\n\n\n\n\n\n\n\n\n\n\n\n\n\n\n\n\n\n\n\n\n\nBande annonce
URL:https://plaza-mons.be/film/black-dog/2025-05-18
CATEGORIES:Drame
ATTACH;FMTTYPE=image/jpeg:https://plaza-mons.be/wp-content/uploads/2025/03/black-dog-poster.jpg
END:VEVENT
BEGIN:VEVENT
DTSTART;TZID=Europe/Brussels:20250518T203000
DTEND;TZID=Europe/Brussels:20250518T215700
DTSTAMP:20260420T080129
CREATED:20250425T100210Z
LAST-MODIFIED:20250526T000118Z
UID:86710-1747600200-1747605420@plaza-mons.be
SUMMARY:Reflet dans un diamant  mort
DESCRIPTION:Pop & Clap ciné-club : Kill Bill: The Whole Bloody Affair\n\n\n\n\n\n			\n				Bande annonce\n			\n		 \n\n\n\n\n\n\n\n\n\n\n\n\n\n\n\n\n\n\n\n\n\n\n\n\n\n\n\n\n\n\n\n\n\n\n\n\n\n\n\n\n\n\n\n\n\n\n\n\n\n\n\n\n\nBande annonce
URL:https://plaza-mons.be/film/86696/2025-05-18
CATEGORIES:Action
ATTACH;FMTTYPE=image/jpeg:https://plaza-mons.be/wp-content/uploads/2025/03/reflet-dans-un-diamant-mort-poster.jpg
END:VEVENT
BEGIN:VEVENT
DTSTART;TZID=Europe/Brussels:20250518T203000
DTEND;TZID=Europe/Brussels:20250518T222600
DTSTAMP:20260420T080129
CREATED:20250513T094303Z
LAST-MODIFIED:20250624T000005Z
UID:87448-1747600200-1747607160@plaza-mons.be
SUMMARY:Armand
DESCRIPTION:Pop & Clap ciné-club : Kill Bill: The Whole Bloody Affair\n\n\n\n\n\n			\n				Bande annonce\n			\n		 \n\n\n\n\n\n\n\n\n\n\n\n\n\n\n\n\n\n\n\n\n\n\n\n\n\n\n\n\n\n\n\n\n\n\n\n\n\n\n\n\n\n\n\n\n\n\n\n\n\n\n\n\n\nBande annonce
URL:https://plaza-mons.be/film/armand-2/2025-05-18
CATEGORIES:Drame
ATTACH;FMTTYPE=image/jpeg:https://plaza-mons.be/wp-content/uploads/2025/05/armand-poster.jpg
END:VEVENT
BEGIN:VEVENT
DTSTART;TZID=Europe/Brussels:20250518T204500
DTEND;TZID=Europe/Brussels:20250518T222000
DTSTAMP:20260420T080129
CREATED:20250425T095742Z
LAST-MODIFIED:20250526T000417Z
UID:87236-1747601100-1747606800@plaza-mons.be
SUMMARY:Warfare
DESCRIPTION:Pop & Clap ciné-club : Kill Bill: The Whole Bloody Affair\n\n\n\n\n\n			\n				Bande annonce\n			\n		 \n\n\n\n\n\n\n\n\n\n\n\n\n\n\n\n\n\n\n\n\n\n\n\n\n\n\n\n\n\n\n\n\n\n\n\n\n\n\n\n\n\n\n\n\n\n\n\n\n\n\n\n\n\nBande annonce
URL:https://plaza-mons.be/film/warfare/2025-05-18
CATEGORIES:Action,Guerre
ATTACH;FMTTYPE=image/jpeg:https://plaza-mons.be/wp-content/uploads/2025/04/warfare-poster.jpg
END:VEVENT
END:VCALENDAR