BEGIN:VCALENDAR
VERSION:2.0
PRODID:-//Plaza Arthouse Cinema - ECPv5.14.1//NONSGML v1.0//EN
CALSCALE:GREGORIAN
METHOD:PUBLISH
X-WR-CALNAME:Plaza Arthouse Cinema
X-ORIGINAL-URL:https://plaza-mons.be
X-WR-CALDESC:Events for Plaza Arthouse Cinema
REFRESH-INTERVAL;VALUE=DURATION:PT1H
X-Robots-Tag:noindex
X-PUBLISHED-TTL:PT1H
BEGIN:VTIMEZONE
TZID:Europe/Brussels
BEGIN:DAYLIGHT
TZOFFSETFROM:+0100
TZOFFSETTO:+0200
TZNAME:CEST
DTSTART:20250330T010000
END:DAYLIGHT
BEGIN:STANDARD
TZOFFSETFROM:+0200
TZOFFSETTO:+0100
TZNAME:CET
DTSTART:20251026T010000
END:STANDARD
END:VTIMEZONE
BEGIN:VEVENT
DTSTART;TZID=Europe/Brussels:20250515T150000
DTEND;TZID=Europe/Brussels:20250515T163100
DTSTAMP:20260420T011104
CREATED:20250513T094138Z
LAST-MODIFIED:20250610T000348Z
UID:87426-1747321200-1747326660@plaza-mons.be
SUMMARY:Lads
DESCRIPTION:Pop & Clap ciné-club : Kill Bill: The Whole Bloody Affair\n\n\n\n\n\n			\n				Bande annonce\n			\n		 \n\n\n\n\n\n\n\n\n\n\n\n\n\n\n\n\n\n\n\n\n\n\n\n\n\n\n\n\n\n\n\n\n\n\n\n\n\n\n\n\n\n\n\n\n\n\n\n\n\n\n\n\n\nBande annonce
URL:https://plaza-mons.be/film/lads/2025-05-15
CATEGORIES:Drame
ATTACH;FMTTYPE=image/jpeg:https://plaza-mons.be/wp-content/uploads/2025/05/lads-120x160-hd-original.jpg
END:VEVENT
BEGIN:VEVENT
DTSTART;TZID=Europe/Brussels:20250515T150000
DTEND;TZID=Europe/Brussels:20250515T163400
DTSTAMP:20260420T011104
CREATED:20250331T142948Z
LAST-MODIFIED:20250519T000043Z
UID:86564-1747321200-1747326840@plaza-mons.be
SUMMARY:Mexico 86
DESCRIPTION:Pop & Clap ciné-club : Kill Bill: The Whole Bloody Affair\n\n\n\n\n\n			\n				Bande annonce\n			\n		 \n\n\n\n\n\n\n\n\n\n\n\n\n\n\n\n\n\n\n\n\n\n\n\n\n\n\n\n\n\n\n\n\n\n\n\n\n\n\n\n\n\n\n\n\n\n\n\n\n\n\n\n\n\nBande annonce
URL:https://plaza-mons.be/film/mexico-86/2025-05-15
CATEGORIES:Drame
ATTACH;FMTTYPE=image/jpeg:https://plaza-mons.be/wp-content/uploads/2025/03/medium-affiche-mexico-86-1743065828311-2.jpg
END:VEVENT
BEGIN:VEVENT
DTSTART;TZID=Europe/Brussels:20250515T150000
DTEND;TZID=Europe/Brussels:20250515T163500
DTSTAMP:20260420T011104
CREATED:20250425T095742Z
LAST-MODIFIED:20250526T000412Z
UID:87234-1747321200-1747326900@plaza-mons.be
SUMMARY:Warfare
DESCRIPTION:Pop & Clap ciné-club : Kill Bill: The Whole Bloody Affair\n\n\n\n\n\n			\n				Bande annonce\n			\n		 \n\n\n\n\n\n\n\n\n\n\n\n\n\n\n\n\n\n\n\n\n\n\n\n\n\n\n\n\n\n\n\n\n\n\n\n\n\n\n\n\n\n\n\n\n\n\n\n\n\n\n\n\n\nBande annonce
URL:https://plaza-mons.be/film/warfare/2025-05-15
CATEGORIES:Action,Guerre
ATTACH;FMTTYPE=image/jpeg:https://plaza-mons.be/wp-content/uploads/2025/04/warfare-poster.jpg
END:VEVENT
BEGIN:VEVENT
DTSTART;TZID=Europe/Brussels:20250515T150000
DTEND;TZID=Europe/Brussels:20250515T163700
DTSTAMP:20260420T011104
CREATED:20250425T095538Z
LAST-MODIFIED:20250519T000048Z
UID:87375-1747321200-1747327020@plaza-mons.be
SUMMARY:Deux soeurs
DESCRIPTION:Pop & Clap ciné-club : Kill Bill: The Whole Bloody Affair\n\n\n\n\n\n			\n				Bande annonce\n			\n		 \n\n\n\n\n\n\n\n\n\n\n\n\n\n\n\n\n\n\n\n\n\n\n\n\n\n\n\n\n\n\n\n\n\n\n\n\n\n\n\n\n\n\n\n\n\n\n\n\n\n\n\n\n\nBande annonce
URL:https://plaza-mons.be/film/deux-soeurs/2025-05-15
CATEGORIES:Drame
ATTACH;FMTTYPE=image/jpeg:https://plaza-mons.be/wp-content/uploads/2025/04/deux-soeurs-poster.jpg
END:VEVENT
BEGIN:VEVENT
DTSTART;TZID=Europe/Brussels:20250515T173000
DTEND;TZID=Europe/Brussels:20250515T191300
DTSTAMP:20260420T011104
CREATED:20250513T095210Z
LAST-MODIFIED:20250610T001020Z
UID:87465-1747330200-1747336380@plaza-mons.be
SUMMARY:The Surfer
DESCRIPTION:Pop & Clap ciné-club : Kill Bill: The Whole Bloody Affair\n\n\n\n\n\n			\n				Bande annonce\n			\n		 \n\n\n\n\n\n\n\n\n\n\n\n\n\n\n\n\n\n\n\n\n\n\n\n\n\n\n\n\n\n\n\n\n\n\n\n\n\n\n\n\n\n\n\n\n\n\n\n\n\n\n\n\n\nBande annonce
URL:https://plaza-mons.be/film/the-surfer/2025-05-15
CATEGORIES:Drame
ATTACH;FMTTYPE=image/jpeg:https://plaza-mons.be/wp-content/uploads/2025/05/the-surfer-rgb-m-original.jpg
END:VEVENT
BEGIN:VEVENT
DTSTART;TZID=Europe/Brussels:20250515T174500
DTEND;TZID=Europe/Brussels:20250515T195600
DTSTAMP:20260420T011104
CREATED:20250425T125048Z
LAST-MODIFIED:20250603T000024Z
UID:87265-1747331100-1747338960@plaza-mons.be
SUMMARY:La chambre de Mariana
DESCRIPTION:Pop & Clap ciné-club : Kill Bill: The Whole Bloody Affair\n\n\n\n\n\n			\n				Bande annonce\n			\n		 \n\n\n\n\n\n\n\n\n\n\n\n\n\n\n\n\n\n\n\n\n\n\n\n\n\n\n\n\n\n\n\n\n\n\n\n\n\n\n\n\n\n\n\n\n\n\n\n\n\n\n\n\n\nBande annonce
URL:https://plaza-mons.be/film/la-chambre-de-mariana-2/2025-05-15
CATEGORIES:Drame
ATTACH;FMTTYPE=image/jpeg:https://plaza-mons.be/wp-content/uploads/2025/04/la-chambre-de-mariana-poster.jpg
END:VEVENT
BEGIN:VEVENT
DTSTART;TZID=Europe/Brussels:20250515T180000
DTEND;TZID=Europe/Brussels:20250515T192700
DTSTAMP:20260420T011104
CREATED:20250425T100210Z
LAST-MODIFIED:20250526T000103Z
UID:86707-1747332000-1747337220@plaza-mons.be
SUMMARY:Reflet dans un diamant  mort
DESCRIPTION:Pop & Clap ciné-club : Kill Bill: The Whole Bloody Affair\n\n\n\n\n\n			\n				Bande annonce\n			\n		 \n\n\n\n\n\n\n\n\n\n\n\n\n\n\n\n\n\n\n\n\n\n\n\n\n\n\n\n\n\n\n\n\n\n\n\n\n\n\n\n\n\n\n\n\n\n\n\n\n\n\n\n\n\nBande annonce
URL:https://plaza-mons.be/film/86696/2025-05-15
CATEGORIES:Action
ATTACH;FMTTYPE=image/jpeg:https://plaza-mons.be/wp-content/uploads/2025/03/reflet-dans-un-diamant-mort-poster.jpg
END:VEVENT
BEGIN:VEVENT
DTSTART;TZID=Europe/Brussels:20250515T180000
DTEND;TZID=Europe/Brussels:20250515T195400
DTSTAMP:20260420T011104
CREATED:20250425T124011Z
LAST-MODIFIED:20250519T000459Z
UID:87361-1747332000-1747338840@plaza-mons.be
SUMMARY:Septembre sans attendre
DESCRIPTION:Pop & Clap ciné-club : Kill Bill: The Whole Bloody Affair\n\n\n\n\n\n			\n				Bande annonce\n			\n		 \n\n\n\n\n\n\n\n\n\n\n\n\n\n\n\n\n\n\n\n\n\n\n\n\n\n\n\n\n\n\n\n\n\n\n\n\n\n\n\n\n\n\n\n\n\n\n\n\n\n\n\n\n\nBande annonce
URL:https://plaza-mons.be/film/septembre-sans-attendre/2025-05-15
CATEGORIES:Comédie dramatique
ATTACH;FMTTYPE=image/jpeg:https://plaza-mons.be/wp-content/uploads/2025/04/septembre-sans-attendre-poster.jpg
END:VEVENT
BEGIN:VEVENT
DTSTART;TZID=Europe/Brussels:20250515T200000
DTEND;TZID=Europe/Brussels:20250515T214300
DTSTAMP:20260420T011104
CREATED:20250427T141632Z
LAST-MODIFIED:20250514T133716Z
UID:86475-1747339200-1747345380@plaza-mons.be
SUMMARY:Ciné Women : Oxana
DESCRIPTION:Pop & Clap ciné-club : Kill Bill: The Whole Bloody Affair\n\n\n\n\n\n			\n				Bande annonce\n			\n		 \n\n\n\n\n\n\n\n\n\n\n\n\n\n\n\n\n\n\n\n\n\n\n\n\n\n\n\n\n\n\n\n\n\n\n\n\n\n\n\n\n\n\n\n\n\n\n\n\n\n\n\n\n\nBande annonce
URL:https://plaza-mons.be/film/86475/2025-05-15
CATEGORIES:Avant-première,Biopic
ATTACH;FMTTYPE=image/jpeg:https://plaza-mons.be/wp-content/uploads/2025/04/oxana-poster.jpg
END:VEVENT
BEGIN:VEVENT
DTSTART;TZID=Europe/Brussels:20250515T203000
DTEND;TZID=Europe/Brussels:20250515T222000
DTSTAMP:20260420T011104
CREATED:20250425T124902Z
LAST-MODIFIED:20250603T000430Z
UID:87392-1747341000-1747347600@plaza-mons.be
SUMMARY:Joika
DESCRIPTION:Pop & Clap ciné-club : Kill Bill: The Whole Bloody Affair\n\n\n\n\n\n			\n				Bande annonce\n			\n		 \n\n\n\n\n\n\n\n\n\n\n\n\n\n\n\n\n\n\n\n\n\n\n\n\n\n\n\n\n\n\n\n\n\n\n\n\n\n\n\n\n\n\n\n\n\n\n\n\n\n\n\n\n\nBande annonce
URL:https://plaza-mons.be/film/joika/2025-05-15
CATEGORIES:Drame
ATTACH;FMTTYPE=image/jpeg:https://plaza-mons.be/wp-content/uploads/2025/04/joika-poster.jpg
END:VEVENT
BEGIN:VEVENT
DTSTART;TZID=Europe/Brussels:20250515T203000
DTEND;TZID=Europe/Brussels:20250515T222600
DTSTAMP:20260420T011104
CREATED:20250513T094303Z
LAST-MODIFIED:20250624T000005Z
UID:87445-1747341000-1747347960@plaza-mons.be
SUMMARY:Armand
DESCRIPTION:Pop & Clap ciné-club : Kill Bill: The Whole Bloody Affair\n\n\n\n\n\n			\n				Bande annonce\n			\n		 \n\n\n\n\n\n\n\n\n\n\n\n\n\n\n\n\n\n\n\n\n\n\n\n\n\n\n\n\n\n\n\n\n\n\n\n\n\n\n\n\n\n\n\n\n\n\n\n\n\n\n\n\n\nBande annonce
URL:https://plaza-mons.be/film/armand-2/2025-05-15
CATEGORIES:Drame
ATTACH;FMTTYPE=image/jpeg:https://plaza-mons.be/wp-content/uploads/2025/05/armand-poster.jpg
END:VEVENT
BEGIN:VEVENT
DTSTART;TZID=Europe/Brussels:20250515T203000
DTEND;TZID=Europe/Brussels:20250515T223500
DTSTAMP:20260420T011104
CREATED:20250425T125601Z
LAST-MODIFIED:20250526T000440Z
UID:87416-1747341000-1747348500@plaza-mons.be
SUMMARY:Tardes de soledad
DESCRIPTION:Pop & Clap ciné-club : Kill Bill: The Whole Bloody Affair\n\n\n\n\n\n			\n				Bande annonce\n			\n		 \n\n\n\n\n\n\n\n\n\n\n\n\n\n\n\n\n\n\n\n\n\n\n\n\n\n\n\n\n\n\n\n\n\n\n\n\n\n\n\n\n\n\n\n\n\n\n\n\n\n\n\n\n\nBande annonce
URL:https://plaza-mons.be/film/tardes-de-soledad/2025-05-15
CATEGORIES:Documentaire
ATTACH;FMTTYPE=image/jpeg:https://plaza-mons.be/wp-content/uploads/2025/04/tardes-de-soledad-be-web-original.jpg
END:VEVENT
END:VCALENDAR