BEGIN:VCALENDAR
VERSION:2.0
PRODID:-//Plaza Arthouse Cinema - ECPv5.14.1//NONSGML v1.0//EN
CALSCALE:GREGORIAN
METHOD:PUBLISH
X-WR-CALNAME:Plaza Arthouse Cinema
X-ORIGINAL-URL:https://plaza-mons.be
X-WR-CALDESC:Events for Plaza Arthouse Cinema
REFRESH-INTERVAL;VALUE=DURATION:PT1H
X-Robots-Tag:noindex
X-PUBLISHED-TTL:PT1H
BEGIN:VTIMEZONE
TZID:Europe/Brussels
BEGIN:DAYLIGHT
TZOFFSETFROM:+0100
TZOFFSETTO:+0200
TZNAME:CEST
DTSTART:20250330T010000
END:DAYLIGHT
BEGIN:STANDARD
TZOFFSETFROM:+0200
TZOFFSETTO:+0100
TZNAME:CET
DTSTART:20251026T010000
END:STANDARD
END:VTIMEZONE
BEGIN:VEVENT
DTSTART;TZID=Europe/Brussels:20250503T110000
DTEND;TZID=Europe/Brussels:20250503T114500
DTSTAMP:20260425T001525
CREATED:20250425T095323Z
LAST-MODIFIED:20250518T000106Z
UID:86599-1746270000-1746272700@plaza-mons.be
SUMMARY:Chouette\, un jeu d'enfants !
DESCRIPTION:Super Charlie
URL:https://plaza-mons.be/film/chouette-un-jeu-denfants/2025-05-03
CATEGORIES:Animation
ATTACH;FMTTYPE=image/png:https://plaza-mons.be/wp-content/uploads/2025/03/chouette-un-jeu-denfants.png
END:VEVENT
BEGIN:VEVENT
DTSTART;TZID=Europe/Brussels:20250503T110000
DTEND;TZID=Europe/Brussels:20250503T122000
DTSTAMP:20260425T001525
CREATED:20250331T142631Z
LAST-MODIFIED:20250608T000034Z
UID:86622-1746270000-1746274800@plaza-mons.be
SUMMARY:La vie\, en gros
DESCRIPTION:Super Charlie\n\n\n\n\n\n			\n				Bande annonce\n			\n		 \n\n\n\n\n\n\n\n\n\n\n\n\n\n\n\n\n\n\n\n\n\n\n\n\n\n\n\n\n\n\n\n\n\n\n\n\n\n\n\n\n\n\n\n\n\n\n\n\n\n\n\n\n\nBande annonce
URL:https://plaza-mons.be/film/la-vie-en-gros-2/2025-05-03
CATEGORIES:Animation
ATTACH;FMTTYPE=image/png:https://plaza-mons.be/wp-content/uploads/2025/03/la-vie-en-gros-poster.png
END:VEVENT
BEGIN:VEVENT
DTSTART;TZID=Europe/Brussels:20250503T110000
DTEND;TZID=Europe/Brussels:20250503T122600
DTSTAMP:20260425T001525
CREATED:20250331T144712Z
LAST-MODIFIED:20250505T000617Z
UID:86615-1746270000-1746275160@plaza-mons.be
SUMMARY:La légende de l'ours blanc
DESCRIPTION:Super Charlie\n\n\n\n\n\n			\n				Bande annonce\n			\n		 \n\n\n\n\n\n\n\n\n\n\n\n\n\n\n\n\n\n\n\n\n\n\n\n\n\n\n\n\n\n\n\n\n\n\n\n\n\n\n\n\n\n\n\n\n\n\n\n\n\n\n\n\n\nBande annonce
URL:https://plaza-mons.be/film/la-legende-de-lours-blanc/2025-05-03
CATEGORIES:Animation
ATTACH;FMTTYPE=image/jpeg:https://plaza-mons.be/wp-content/uploads/2025/03/la-legende-de-lours-blanc-poster.jpg
END:VEVENT
BEGIN:VEVENT
DTSTART;TZID=Europe/Brussels:20250503T110000
DTEND;TZID=Europe/Brussels:20250503T130400
DTSTAMP:20260425T001525
CREATED:20250425T100629Z
LAST-MODIFIED:20250525T000222Z
UID:86636-1746270000-1746277440@plaza-mons.be
SUMMARY:Le garçon et le héron VF
DESCRIPTION:Super Charlie\n\n\n\n\n\n			\n				Bande annonce\n			\n		 \n\n\n\n\n\n\n\n\n\n\n\n\n\n\n\n\n\n\n\n\n\n\n\n\n\n\n\n\n\n\n\n\n\n\n\n\n\n\n\n\n\n\n\n\n\n\n\n\n\n\n\n\n\nBande annonce
URL:https://plaza-mons.be/film/le-garcon-et-le-heron-vf-2/2025-05-03
CATEGORIES:Animation
ATTACH;FMTTYPE=image/jpeg:https://plaza-mons.be/wp-content/uploads/2025/04/le-garcon-et-le-heron-poster.jpg
END:VEVENT
BEGIN:VEVENT
DTSTART;TZID=Europe/Brussels:20250503T140000
DTEND;TZID=Europe/Brussels:20250503T144500
DTSTAMP:20260425T001525
CREATED:20250425T095323Z
LAST-MODIFIED:20250518T000109Z
UID:86600-1746280800-1746283500@plaza-mons.be
SUMMARY:Chouette\, un jeu d'enfants !
DESCRIPTION:Super Charlie
URL:https://plaza-mons.be/film/chouette-un-jeu-denfants/2025-05-03/3
CATEGORIES:Animation
ATTACH;FMTTYPE=image/png:https://plaza-mons.be/wp-content/uploads/2025/03/chouette-un-jeu-denfants.png
END:VEVENT
BEGIN:VEVENT
DTSTART;TZID=Europe/Brussels:20250503T140000
DTEND;TZID=Europe/Brussels:20250503T152600
DTSTAMP:20260425T001525
CREATED:20250331T144712Z
LAST-MODIFIED:20250505T000618Z
UID:86616-1746280800-1746285960@plaza-mons.be
SUMMARY:La légende de l'ours blanc
DESCRIPTION:Super Charlie\n\n\n\n\n\n			\n				Bande annonce\n			\n		 \n\n\n\n\n\n\n\n\n\n\n\n\n\n\n\n\n\n\n\n\n\n\n\n\n\n\n\n\n\n\n\n\n\n\n\n\n\n\n\n\n\n\n\n\n\n\n\n\n\n\n\n\n\nBande annonce
URL:https://plaza-mons.be/film/la-legende-de-lours-blanc/2025-05-03/3
CATEGORIES:Animation
ATTACH;FMTTYPE=image/jpeg:https://plaza-mons.be/wp-content/uploads/2025/03/la-legende-de-lours-blanc-poster.jpg
END:VEVENT
BEGIN:VEVENT
DTSTART;TZID=Europe/Brussels:20250503T150000
DTEND;TZID=Europe/Brussels:20250503T163500
DTSTAMP:20260425T001525
CREATED:20250425T095943Z
LAST-MODIFIED:20250525T000007Z
UID:86680-1746284400-1746290100@plaza-mons.be
SUMMARY:Dog Man
DESCRIPTION:Super Charlie\n\n\n\n\n\n			\n				Bande annonce\n			\n		 \n\n\n\n\n\n\n\n\n\n\n\n\n\n\n\n\n\n\n\n\n\n\n\n\n\n\n\n\n\n\n\n\n\n\n\n\n\n\n\n\n\n\n\n\n\n\n\n\n\n\n\n\n\nBande annonce
URL:https://plaza-mons.be/film/dog-man/2025-05-03
CATEGORIES:Animation
ATTACH;FMTTYPE=image/png:https://plaza-mons.be/wp-content/uploads/2025/03/dog-man-poster.png
END:VEVENT
BEGIN:VEVENT
DTSTART;TZID=Europe/Brussels:20250503T150000
DTEND;TZID=Europe/Brussels:20250503T171500
DTSTAMP:20260425T001525
CREATED:20250224T135040Z
LAST-MODIFIED:20250505T000136Z
UID:86571-1746284400-1746292500@plaza-mons.be
SUMMARY:Je suis toujours là / I'm Still Here
DESCRIPTION:Super Charlie\n\n\n\n\n\n			\n				Bande annonce\n			\n		 \n\n\n\n\n\n\n\n\n\n\n\n\n\n\n\n\n\n\n\n\n\n\n\n\n\n\n\n\n\n\n\n\n\n\n\n\n\n\n\n\n\n\n\n\n\n\n\n\n\n\n\n\n\nBande annonce
URL:https://plaza-mons.be/film/je-suis-toujours-la-im-still-here/2025-05-03
CATEGORIES:Drame
ATTACH;FMTTYPE=image/jpeg:https://plaza-mons.be/wp-content/uploads/2025/02/je-suis-toujours-la-poster.jpg
END:VEVENT
BEGIN:VEVENT
DTSTART;TZID=Europe/Brussels:20250503T153000
DTEND;TZID=Europe/Brussels:20250503T172400
DTSTAMP:20260425T001525
CREATED:20250425T124011Z
LAST-MODIFIED:20250519T000436Z
UID:86641-1746286200-1746293040@plaza-mons.be
SUMMARY:Septembre sans attendre
DESCRIPTION:Super Charlie\n\n\n\n\n\n			\n				Bande annonce\n			\n		 \n\n\n\n\n\n\n\n\n\n\n\n\n\n\n\n\n\n\n\n\n\n\n\n\n\n\n\n\n\n\n\n\n\n\n\n\n\n\n\n\n\n\n\n\n\n\n\n\n\n\n\n\n\nBande annonce
URL:https://plaza-mons.be/film/septembre-sans-attendre/2025-05-03
CATEGORIES:Comédie dramatique
ATTACH;FMTTYPE=image/jpeg:https://plaza-mons.be/wp-content/uploads/2025/04/septembre-sans-attendre-poster.jpg
END:VEVENT
BEGIN:VEVENT
DTSTART;TZID=Europe/Brussels:20250503T160000
DTEND;TZID=Europe/Brussels:20250503T175100
DTSTAMP:20260425T001525
CREATED:20250331T143259Z
LAST-MODIFIED:20250505T000514Z
UID:86533-1746288000-1746294660@plaza-mons.be
SUMMARY:Dis moi juste que tu m'aimes
DESCRIPTION:Super Charlie\n\n\n\n\n\n			\n				Bande annonce\n			\n		 \n\n\n\n\n\n\n\n\n\n\n\n\n\n\n\n\n\n\n\n\n\n\n\n\n\n\n\n\n\n\n\n\n\n\n\n\n\n\n\n\n\n\n\n\n\n\n\n\n\n\n\n\n\nBande annonce
URL:https://plaza-mons.be/film/dis-moi-juste-que-tu-maimes/2025-05-03
CATEGORIES:Drame
ATTACH;FMTTYPE=image/jpeg:https://plaza-mons.be/wp-content/uploads/2025/03/dis-moi-juste-que-tu-maimes-poster.jpg
END:VEVENT
BEGIN:VEVENT
DTSTART;TZID=Europe/Brussels:20250503T180000
DTEND;TZID=Europe/Brussels:20250503T190000
DTSTAMP:20260425T001525
CREATED:20250331T143919Z
LAST-MODIFIED:20250519T000004Z
UID:86588-1746295200-1746298800@plaza-mons.be
SUMMARY:Black Dog
DESCRIPTION:Super Charlie\n\n\n\n\n\n			\n				Bande annonce\n			\n		 \n\n\n\n\n\n\n\n\n\n\n\n\n\n\n\n\n\n\n\n\n\n\n\n\n\n\n\n\n\n\n\n\n\n\n\n\n\n\n\n\n\n\n\n\n\n\n\n\n\n\n\n\n\nBande annonce
URL:https://plaza-mons.be/film/black-dog/2025-05-03
CATEGORIES:Drame
ATTACH;FMTTYPE=image/jpeg:https://plaza-mons.be/wp-content/uploads/2025/03/black-dog-poster.jpg
END:VEVENT
BEGIN:VEVENT
DTSTART;TZID=Europe/Brussels:20250503T180000
DTEND;TZID=Europe/Brussels:20250503T194300
DTSTAMP:20260425T001525
CREATED:20250331T144108Z
LAST-MODIFIED:20250519T000103Z
UID:86537-1746295200-1746301380@plaza-mons.be
SUMMARY:Le mélange des genres
DESCRIPTION:Super Charlie\n\n\n\n\n\n			\n				Bande annonce\n			\n		 \n\n\n\n\n\n\n\n\n\n\n\n\n\n\n\n\n\n\n\n\n\n\n\n\n\n\n\n\n\n\n\n\n\n\n\n\n\n\n\n\n\n\n\n\n\n\n\n\n\n\n\n\n\nBande annonce
URL:https://plaza-mons.be/film/le-melange-des-genres/2025-05-03
CATEGORIES:Comédie dramatique
ATTACH;FMTTYPE=image/jpeg:https://plaza-mons.be/wp-content/uploads/2025/03/le-melange-des-genres-poster.jpg
END:VEVENT
BEGIN:VEVENT
DTSTART;TZID=Europe/Brussels:20250503T180000
DTEND;TZID=Europe/Brussels:20250503T195800
DTSTAMP:20260425T001525
CREATED:20250331T142051Z
LAST-MODIFIED:20250512T000456Z
UID:86577-1746295200-1746302280@plaza-mons.be
SUMMARY:The Outrun
DESCRIPTION:Super Charlie\n\n\n\n\n\n			\n				Bande annonce\n			\n		 \n\n\n\n\n\n\n\n\n\n\n\n\n\n\n\n\n\n\n\n\n\n\n\n\n\n\n\n\n\n\n\n\n\n\n\n\n\n\n\n\n\n\n\n\n\n\n\n\n\n\n\n\n\nBande annonce
URL:https://plaza-mons.be/film/the-outrun/2025-05-03
CATEGORIES:Drame
ATTACH;FMTTYPE=image/jpeg:https://plaza-mons.be/wp-content/uploads/2025/03/the-outrun-poster-1.jpg
END:VEVENT
BEGIN:VEVENT
DTSTART;TZID=Europe/Brussels:20250503T183000
DTEND;TZID=Europe/Brussels:20250503T200400
DTSTAMP:20260425T001525
CREATED:20250331T142948Z
LAST-MODIFIED:20250519T000031Z
UID:86552-1746297000-1746302640@plaza-mons.be
SUMMARY:Mexico 86
DESCRIPTION:Super Charlie\n\n\n\n\n\n			\n				Bande annonce\n			\n		 \n\n\n\n\n\n\n\n\n\n\n\n\n\n\n\n\n\n\n\n\n\n\n\n\n\n\n\n\n\n\n\n\n\n\n\n\n\n\n\n\n\n\n\n\n\n\n\n\n\n\n\n\n\nBande annonce
URL:https://plaza-mons.be/film/mexico-86/2025-05-03
CATEGORIES:Drame
ATTACH;FMTTYPE=image/jpeg:https://plaza-mons.be/wp-content/uploads/2025/03/medium-affiche-mexico-86-1743065828311-2.jpg
END:VEVENT
BEGIN:VEVENT
DTSTART;TZID=Europe/Brussels:20250503T203000
DTEND;TZID=Europe/Brussels:20250503T215700
DTSTAMP:20260425T001525
CREATED:20250425T100210Z
LAST-MODIFIED:20250526T000014Z
UID:86698-1746304200-1746309420@plaza-mons.be
SUMMARY:Reflet dans un diamant  mort
DESCRIPTION:Super Charlie\n\n\n\n\n\n			\n				Bande annonce\n			\n		 \n\n\n\n\n\n\n\n\n\n\n\n\n\n\n\n\n\n\n\n\n\n\n\n\n\n\n\n\n\n\n\n\n\n\n\n\n\n\n\n\n\n\n\n\n\n\n\n\n\n\n\n\n\nBande annonce
URL:https://plaza-mons.be/film/86696/2025-05-03
CATEGORIES:Action
ATTACH;FMTTYPE=image/jpeg:https://plaza-mons.be/wp-content/uploads/2025/03/reflet-dans-un-diamant-mort-poster.jpg
END:VEVENT
BEGIN:VEVENT
DTSTART;TZID=Europe/Brussels:20250503T203000
DTEND;TZID=Europe/Brussels:20250503T215900
DTSTAMP:20260425T001525
CREATED:20250331T143408Z
LAST-MODIFIED:20250512T000559Z
UID:86522-1746304200-1746309540@plaza-mons.be
SUMMARY:The Last Showgirl
DESCRIPTION:Super Charlie\n\n\n\n\n\n			\n				Bande annonce\n			\n		 \n\n\n\n\n\n\n\n\n\n\n\n\n\n\n\n\n\n\n\n\n\n\n\n\n\n\n\n\n\n\n\n\n\n\n\n\n\n\n\n\n\n\n\n\n\n\n\n\n\n\n\n\n\nBande annonce
URL:https://plaza-mons.be/film/the-last-showgirl/2025-05-03
CATEGORIES:Drame
ATTACH;FMTTYPE=image/jpeg:https://plaza-mons.be/wp-content/uploads/2025/03/the-last-showgirl-poster.jpg
END:VEVENT
BEGIN:VEVENT
DTSTART;TZID=Europe/Brussels:20250503T203000
DTEND;TZID=Europe/Brussels:20250503T220500
DTSTAMP:20260425T001525
CREATED:20250425T095742Z
LAST-MODIFIED:20250526T000332Z
UID:86667-1746304200-1746309900@plaza-mons.be
SUMMARY:Warfare
DESCRIPTION:Super Charlie\n\n\n\n\n\n			\n				Bande annonce\n			\n		 \n\n\n\n\n\n\n\n\n\n\n\n\n\n\n\n\n\n\n\n\n\n\n\n\n\n\n\n\n\n\n\n\n\n\n\n\n\n\n\n\n\n\n\n\n\n\n\n\n\n\n\n\n\nBande annonce
URL:https://plaza-mons.be/film/warfare/2025-05-03
CATEGORIES:Action,Guerre
ATTACH;FMTTYPE=image/jpeg:https://plaza-mons.be/wp-content/uploads/2025/04/warfare-poster.jpg
END:VEVENT
BEGIN:VEVENT
DTSTART;TZID=Europe/Brussels:20250503T203000
DTEND;TZID=Europe/Brussels:20250503T220700
DTSTAMP:20260425T001525
CREATED:20250425T095538Z
LAST-MODIFIED:20250519T000047Z
UID:86653-1746304200-1746310020@plaza-mons.be
SUMMARY:Deux soeurs
DESCRIPTION:Super Charlie\n\n\n\n\n\n			\n				Bande annonce\n			\n		 \n\n\n\n\n\n\n\n\n\n\n\n\n\n\n\n\n\n\n\n\n\n\n\n\n\n\n\n\n\n\n\n\n\n\n\n\n\n\n\n\n\n\n\n\n\n\n\n\n\n\n\n\n\nBande annonce
URL:https://plaza-mons.be/film/deux-soeurs/2025-05-03
CATEGORIES:Drame
ATTACH;FMTTYPE=image/jpeg:https://plaza-mons.be/wp-content/uploads/2025/04/deux-soeurs-poster.jpg
END:VEVENT
END:VCALENDAR