BEGIN:VCALENDAR
VERSION:2.0
PRODID:-//Plaza Arthouse Cinema - ECPv5.14.1//NONSGML v1.0//EN
CALSCALE:GREGORIAN
METHOD:PUBLISH
X-WR-CALNAME:Plaza Arthouse Cinema
X-ORIGINAL-URL:https://plaza-mons.be
X-WR-CALDESC:Events for Plaza Arthouse Cinema
REFRESH-INTERVAL;VALUE=DURATION:PT1H
X-Robots-Tag:noindex
X-PUBLISHED-TTL:PT1H
BEGIN:VTIMEZONE
TZID:Europe/Brussels
BEGIN:DAYLIGHT
TZOFFSETFROM:+0100
TZOFFSETTO:+0200
TZNAME:CEST
DTSTART:20250330T010000
END:DAYLIGHT
BEGIN:STANDARD
TZOFFSETFROM:+0200
TZOFFSETTO:+0100
TZNAME:CET
DTSTART:20251026T010000
END:STANDARD
END:VTIMEZONE
BEGIN:VEVENT
DTSTART;TZID=Europe/Brussels:20250428T090000
DTEND;TZID=Europe/Brussels:20250430T160000
DTSTAMP:20260420T043510
CREATED:20250327T135657Z
LAST-MODIFIED:20250428T115715Z
UID:85455-1745830800-1746028800@plaza-mons.be
SUMMARY:Stage "Habiter le monde"
DESCRIPTION:Pop & Clap ciné-club : Kill Bill: The Whole Bloody Affair\n\n\n\n\n\n			\n				Bande annonce\n			\n		 \n\n\n\n\n\n\n\n\n\n\n\n\n\n\n\n\n\n\n\n\n\n\n\n\n\n\n\n\n\n\n\n\n\n\n\n\n\n\n\n\n\n\n\n\n\n\n\n\n\n\n\n\n\nBande annonce
URL:https://plaza-mons.be/film/stage-habiter-le-monde/2025-04-28
CATEGORIES:Avant-première,Jeune public
ATTACH;FMTTYPE=image/jpeg:https://plaza-mons.be/wp-content/uploads/2025/03/libraryutick-1.jpg
END:VEVENT
BEGIN:VEVENT
DTSTART;TZID=Europe/Brussels:20250429T150000
DTEND;TZID=Europe/Brussels:20250429T162600
DTSTAMP:20260420T043510
CREATED:20250331T135610Z
LAST-MODIFIED:20250428T115905Z
UID:85875-1745938800-1745943960@plaza-mons.be
SUMMARY:Aimer perdre
DESCRIPTION:Pop & Clap ciné-club : Kill Bill: The Whole Bloody Affair\n\n\n\n\n\n			\n				Bande annonce\n			\n		 \n\n\n\n\n\n\n\n\n\n\n\n\n\n\n\n\n\n\n\n\n\n\n\n\n\n\n\n\n\n\n\n\n\n\n\n\n\n\n\n\n\n\n\n\n\n\n\n\n\n\n\n\n\nBande annonce
URL:https://plaza-mons.be/film/aimer-perdre-2/2025-04-29
CATEGORIES:Drame
ATTACH;FMTTYPE=image/jpeg:https://plaza-mons.be/wp-content/uploads/2025/03/aimer-perdre-poster.jpg
END:VEVENT
BEGIN:VEVENT
DTSTART;TZID=Europe/Brussels:20250429T150000
DTEND;TZID=Europe/Brussels:20250429T164500
DTSTAMP:20260420T043510
CREATED:20250331T135231Z
LAST-MODIFIED:20250428T115913Z
UID:85853-1745938800-1745945100@plaza-mons.be
SUMMARY:Ernest Cole\, Lost and Found
DESCRIPTION:Pop & Clap ciné-club : Kill Bill: The Whole Bloody Affair\n\n\n\n\n\n			\n				Bande annonce\n			\n		 \n\n\n\n\n\n\n\n\n\n\n\n\n\n\n\n\n\n\n\n\n\n\n\n\n\n\n\n\n\n\n\n\n\n\n\n\n\n\n\n\n\n\n\n\n\n\n\n\n\n\n\n\n\nBande annonce
URL:https://plaza-mons.be/film/ernest-cole-lost-and-found/2025-04-29
CATEGORIES:Biopic
ATTACH;FMTTYPE=image/jpeg:https://plaza-mons.be/wp-content/uploads/2025/03/ernest-cole-lost-and-found-poster.jpg
END:VEVENT
BEGIN:VEVENT
DTSTART;TZID=Europe/Brussels:20250429T150000
DTEND;TZID=Europe/Brussels:20250429T165100
DTSTAMP:20260420T043510
CREATED:20250331T143259Z
LAST-MODIFIED:20250505T000512Z
UID:86021-1745938800-1745945460@plaza-mons.be
SUMMARY:Dis moi juste que tu m'aimes
DESCRIPTION:Pop & Clap ciné-club : Kill Bill: The Whole Bloody Affair\n\n\n\n\n\n			\n				Bande annonce\n			\n		 \n\n\n\n\n\n\n\n\n\n\n\n\n\n\n\n\n\n\n\n\n\n\n\n\n\n\n\n\n\n\n\n\n\n\n\n\n\n\n\n\n\n\n\n\n\n\n\n\n\n\n\n\n\nBande annonce
URL:https://plaza-mons.be/film/dis-moi-juste-que-tu-maimes/2025-04-29
CATEGORIES:Drame
ATTACH;FMTTYPE=image/jpeg:https://plaza-mons.be/wp-content/uploads/2025/03/dis-moi-juste-que-tu-maimes-poster.jpg
END:VEVENT
BEGIN:VEVENT
DTSTART;TZID=Europe/Brussels:20250429T150000
DTEND;TZID=Europe/Brussels:20250429T165900
DTSTAMP:20260420T043510
CREATED:20250331T142508Z
LAST-MODIFIED:20250428T115823Z
UID:85979-1745938800-1745945940@plaza-mons.be
SUMMARY:Vemiglio
DESCRIPTION:Pop & Clap ciné-club : Kill Bill: The Whole Bloody Affair\n\n\n\n\n\n			\n				Bande annonce\n			\n		 \n\n\n\n\n\n\n\n\n\n\n\n\n\n\n\n\n\n\n\n\n\n\n\n\n\n\n\n\n\n\n\n\n\n\n\n\n\n\n\n\n\n\n\n\n\n\n\n\n\n\n\n\n\nBande annonce
URL:https://plaza-mons.be/film/vemiglio/2025-04-29
CATEGORIES:Drame
ATTACH;FMTTYPE=image/jpeg:https://plaza-mons.be/wp-content/uploads/2025/03/vermiglio-poster.jpg
END:VEVENT
BEGIN:VEVENT
DTSTART;TZID=Europe/Brussels:20250429T173000
DTEND;TZID=Europe/Brussels:20250429T185600
DTSTAMP:20260420T043510
CREATED:20250331T142318Z
LAST-MODIFIED:20250428T115801Z
UID:85944-1745947800-1745952960@plaza-mons.be
SUMMARY:Poison
DESCRIPTION:Pop & Clap ciné-club : Kill Bill: The Whole Bloody Affair
URL:https://plaza-mons.be/film/poison/2025-04-29
CATEGORIES:Drame
ATTACH;FMTTYPE=image/jpeg:https://plaza-mons.be/wp-content/uploads/2025/03/poison-poster.jpg
END:VEVENT
BEGIN:VEVENT
DTSTART;TZID=Europe/Brussels:20250429T174500
DTEND;TZID=Europe/Brussels:20250429T200000
DTSTAMP:20260420T043510
CREATED:20250224T135040Z
LAST-MODIFIED:20250505T000132Z
UID:85600-1745948700-1745956800@plaza-mons.be
SUMMARY:Je suis toujours là / I'm Still Here
DESCRIPTION:Pop & Clap ciné-club : Kill Bill: The Whole Bloody Affair\n\n\n\n\n\n			\n				Bande annonce\n			\n		 \n\n\n\n\n\n\n\n\n\n\n\n\n\n\n\n\n\n\n\n\n\n\n\n\n\n\n\n\n\n\n\n\n\n\n\n\n\n\n\n\n\n\n\n\n\n\n\n\n\n\n\n\n\nBande annonce
URL:https://plaza-mons.be/film/je-suis-toujours-la-im-still-here/2025-04-29
CATEGORIES:Drame
ATTACH;FMTTYPE=image/jpeg:https://plaza-mons.be/wp-content/uploads/2025/02/je-suis-toujours-la-poster.jpg
END:VEVENT
BEGIN:VEVENT
DTSTART;TZID=Europe/Brussels:20250429T180000
DTEND;TZID=Europe/Brussels:20250429T190000
DTSTAMP:20260420T043510
CREATED:20250331T143919Z
LAST-MODIFIED:20250519T000003Z
UID:86043-1745949600-1745953200@plaza-mons.be
SUMMARY:Black Dog
DESCRIPTION:Pop & Clap ciné-club : Kill Bill: The Whole Bloody Affair\n\n\n\n\n\n			\n				Bande annonce\n			\n		 \n\n\n\n\n\n\n\n\n\n\n\n\n\n\n\n\n\n\n\n\n\n\n\n\n\n\n\n\n\n\n\n\n\n\n\n\n\n\n\n\n\n\n\n\n\n\n\n\n\n\n\n\n\nBande annonce
URL:https://plaza-mons.be/film/black-dog/2025-04-29
CATEGORIES:Drame
ATTACH;FMTTYPE=image/jpeg:https://plaza-mons.be/wp-content/uploads/2025/03/black-dog-poster.jpg
END:VEVENT
BEGIN:VEVENT
DTSTART;TZID=Europe/Brussels:20250429T180000
DTEND;TZID=Europe/Brussels:20250429T195800
DTSTAMP:20260420T043511
CREATED:20250331T142051Z
LAST-MODIFIED:20250512T000454Z
UID:85964-1745949600-1745956680@plaza-mons.be
SUMMARY:The Outrun
DESCRIPTION:Pop & Clap ciné-club : Kill Bill: The Whole Bloody Affair\n\n\n\n\n\n			\n				Bande annonce\n			\n		 \n\n\n\n\n\n\n\n\n\n\n\n\n\n\n\n\n\n\n\n\n\n\n\n\n\n\n\n\n\n\n\n\n\n\n\n\n\n\n\n\n\n\n\n\n\n\n\n\n\n\n\n\n\nBande annonce
URL:https://plaza-mons.be/film/the-outrun/2025-04-29
CATEGORIES:Drame
ATTACH;FMTTYPE=image/jpeg:https://plaza-mons.be/wp-content/uploads/2025/03/the-outrun-poster-1.jpg
END:VEVENT
BEGIN:VEVENT
DTSTART;TZID=Europe/Brussels:20250429T193000
DTEND;TZID=Europe/Brussels:20250429T213000
DTSTAMP:20260420T043511
CREATED:20250331T140453Z
LAST-MODIFIED:20250428T115915Z
UID:85900-1745955000-1745962200@plaza-mons.be
SUMMARY:Les graines du figuier sauvage / the Seed of the sacred fig
DESCRIPTION:Pop & Clap ciné-club : Kill Bill: The Whole Bloody Affair\n\n\n\n\n\n			\n				Bande annonce\n			\n		 \n\n\n\n\n\n\n\n\n\n\n\n\n\n\n\n\n\n\n\n\n\n\n\n\n\n\n\n\n\n\n\n\n\n\n\n\n\n\n\n\n\n\n\n\n\n\n\n\n\n\n\n\n\nBande annonce
URL:https://plaza-mons.be/film/les-graines-du-figuier-sauvage-the-seed-of-the-sacred-fig/2025-04-29
CATEGORIES:Drame
ATTACH;FMTTYPE=image/jpeg:https://plaza-mons.be/wp-content/uploads/2025/03/les-graines-du-figuier-sauvage-poster.jpg
END:VEVENT
BEGIN:VEVENT
DTSTART;TZID=Europe/Brussels:20250429T203000
DTEND;TZID=Europe/Brussels:20250429T215900
DTSTAMP:20260420T043511
CREATED:20250331T143408Z
LAST-MODIFIED:20250512T000557Z
UID:86034-1745958600-1745963940@plaza-mons.be
SUMMARY:The Last Showgirl
DESCRIPTION:Pop & Clap ciné-club : Kill Bill: The Whole Bloody Affair\n\n\n\n\n\n			\n				Bande annonce\n			\n		 \n\n\n\n\n\n\n\n\n\n\n\n\n\n\n\n\n\n\n\n\n\n\n\n\n\n\n\n\n\n\n\n\n\n\n\n\n\n\n\n\n\n\n\n\n\n\n\n\n\n\n\n\n\nBande annonce
URL:https://plaza-mons.be/film/the-last-showgirl/2025-04-29
CATEGORIES:Drame
ATTACH;FMTTYPE=image/jpeg:https://plaza-mons.be/wp-content/uploads/2025/03/the-last-showgirl-poster.jpg
END:VEVENT
BEGIN:VEVENT
DTSTART;TZID=Europe/Brussels:20250429T203000
DTEND;TZID=Europe/Brussels:20250429T220400
DTSTAMP:20260420T043511
CREATED:20250331T142948Z
LAST-MODIFIED:20250519T000028Z
UID:86009-1745958600-1745964240@plaza-mons.be
SUMMARY:Mexico 86
DESCRIPTION:Pop & Clap ciné-club : Kill Bill: The Whole Bloody Affair\n\n\n\n\n\n			\n				Bande annonce\n			\n		 \n\n\n\n\n\n\n\n\n\n\n\n\n\n\n\n\n\n\n\n\n\n\n\n\n\n\n\n\n\n\n\n\n\n\n\n\n\n\n\n\n\n\n\n\n\n\n\n\n\n\n\n\n\nBande annonce
URL:https://plaza-mons.be/film/mexico-86/2025-04-29
CATEGORIES:Drame
ATTACH;FMTTYPE=image/jpeg:https://plaza-mons.be/wp-content/uploads/2025/03/medium-affiche-mexico-86-1743065828311-2.jpg
END:VEVENT
BEGIN:VEVENT
DTSTART;TZID=Europe/Brussels:20250429T203000
DTEND;TZID=Europe/Brussels:20250429T221300
DTSTAMP:20260420T043511
CREATED:20250331T144108Z
LAST-MODIFIED:20250519T000058Z
UID:86050-1745958600-1745964780@plaza-mons.be
SUMMARY:Le mélange des genres
DESCRIPTION:Pop & Clap ciné-club : Kill Bill: The Whole Bloody Affair\n\n\n\n\n\n			\n				Bande annonce\n			\n		 \n\n\n\n\n\n\n\n\n\n\n\n\n\n\n\n\n\n\n\n\n\n\n\n\n\n\n\n\n\n\n\n\n\n\n\n\n\n\n\n\n\n\n\n\n\n\n\n\n\n\n\n\n\nBande annonce
URL:https://plaza-mons.be/film/le-melange-des-genres/2025-04-29
CATEGORIES:Comédie dramatique
ATTACH;FMTTYPE=image/jpeg:https://plaza-mons.be/wp-content/uploads/2025/03/le-melange-des-genres-poster.jpg
END:VEVENT
END:VCALENDAR