BEGIN:VCALENDAR
VERSION:2.0
PRODID:-//Plaza Arthouse Cinema - ECPv5.14.1//NONSGML v1.0//EN
CALSCALE:GREGORIAN
METHOD:PUBLISH
X-WR-CALNAME:Plaza Arthouse Cinema
X-ORIGINAL-URL:https://plaza-mons.be
X-WR-CALDESC:Events for Plaza Arthouse Cinema
REFRESH-INTERVAL;VALUE=DURATION:PT1H
X-Robots-Tag:noindex
X-PUBLISHED-TTL:PT1H
BEGIN:VTIMEZONE
TZID:Europe/Brussels
BEGIN:DAYLIGHT
TZOFFSETFROM:+0100
TZOFFSETTO:+0200
TZNAME:CEST
DTSTART:20250330T010000
END:DAYLIGHT
BEGIN:STANDARD
TZOFFSETFROM:+0200
TZOFFSETTO:+0100
TZNAME:CET
DTSTART:20251026T010000
END:STANDARD
END:VTIMEZONE
BEGIN:VEVENT
DTSTART;TZID=Europe/Brussels:20250426T110000
DTEND;TZID=Europe/Brussels:20250426T114500
DTSTAMP:20260420T092019
CREATED:20250425T095323Z
LAST-MODIFIED:20250518T000040Z
UID:86419-1745665200-1745667900@plaza-mons.be
SUMMARY:Chouette\, un jeu d'enfants !
DESCRIPTION:Pop & Clap ciné-club : Kill Bill: The Whole Bloody Affair
URL:https://plaza-mons.be/film/chouette-un-jeu-denfants/2025-04-26
CATEGORIES:Animation
ATTACH;FMTTYPE=image/png:https://plaza-mons.be/wp-content/uploads/2025/03/chouette-un-jeu-denfants.png
END:VEVENT
BEGIN:VEVENT
DTSTART;TZID=Europe/Brussels:20250426T110000
DTEND;TZID=Europe/Brussels:20250426T122000
DTSTAMP:20260420T092019
CREATED:20250331T142631Z
LAST-MODIFIED:20250608T000021Z
UID:85988-1745665200-1745670000@plaza-mons.be
SUMMARY:La vie\, en gros
DESCRIPTION:Pop & Clap ciné-club : Kill Bill: The Whole Bloody Affair\n\n\n\n\n\n			\n				Bande annonce\n			\n		 \n\n\n\n\n\n\n\n\n\n\n\n\n\n\n\n\n\n\n\n\n\n\n\n\n\n\n\n\n\n\n\n\n\n\n\n\n\n\n\n\n\n\n\n\n\n\n\n\n\n\n\n\n\nBande annonce
URL:https://plaza-mons.be/film/la-vie-en-gros-2/2025-04-26
CATEGORIES:Animation
ATTACH;FMTTYPE=image/png:https://plaza-mons.be/wp-content/uploads/2025/03/la-vie-en-gros-poster.png
END:VEVENT
BEGIN:VEVENT
DTSTART;TZID=Europe/Brussels:20250426T110000
DTEND;TZID=Europe/Brussels:20250426T122600
DTSTAMP:20260420T092019
CREATED:20250331T144712Z
LAST-MODIFIED:20250505T000610Z
UID:85831-1745665200-1745670360@plaza-mons.be
SUMMARY:La légende de l'ours blanc
DESCRIPTION:Pop & Clap ciné-club : Kill Bill: The Whole Bloody Affair\n\n\n\n\n\n			\n				Bande annonce\n			\n		 \n\n\n\n\n\n\n\n\n\n\n\n\n\n\n\n\n\n\n\n\n\n\n\n\n\n\n\n\n\n\n\n\n\n\n\n\n\n\n\n\n\n\n\n\n\n\n\n\n\n\n\n\n\nBande annonce
URL:https://plaza-mons.be/film/la-legende-de-lours-blanc/2025-04-26
CATEGORIES:Animation
ATTACH;FMTTYPE=image/jpeg:https://plaza-mons.be/wp-content/uploads/2025/03/la-legende-de-lours-blanc-poster.jpg
END:VEVENT
BEGIN:VEVENT
DTSTART;TZID=Europe/Brussels:20250426T110000
DTEND;TZID=Europe/Brussels:20250426T124500
DTSTAMP:20260420T092019
CREATED:20250331T135231Z
LAST-MODIFIED:20250428T115912Z
UID:85851-1745665200-1745671500@plaza-mons.be
SUMMARY:Ernest Cole\, Lost and Found
DESCRIPTION:Pop & Clap ciné-club : Kill Bill: The Whole Bloody Affair\n\n\n\n\n\n			\n				Bande annonce\n			\n		 \n\n\n\n\n\n\n\n\n\n\n\n\n\n\n\n\n\n\n\n\n\n\n\n\n\n\n\n\n\n\n\n\n\n\n\n\n\n\n\n\n\n\n\n\n\n\n\n\n\n\n\n\n\nBande annonce
URL:https://plaza-mons.be/film/ernest-cole-lost-and-found/2025-04-26
CATEGORIES:Biopic
ATTACH;FMTTYPE=image/jpeg:https://plaza-mons.be/wp-content/uploads/2025/03/ernest-cole-lost-and-found-poster.jpg
END:VEVENT
BEGIN:VEVENT
DTSTART;TZID=Europe/Brussels:20250426T140000
DTEND;TZID=Europe/Brussels:20250426T144500
DTSTAMP:20260420T092019
CREATED:20250425T095323Z
LAST-MODIFIED:20250518T000043Z
UID:86420-1745676000-1745678700@plaza-mons.be
SUMMARY:Chouette\, un jeu d'enfants !
DESCRIPTION:Pop & Clap ciné-club : Kill Bill: The Whole Bloody Affair
URL:https://plaza-mons.be/film/chouette-un-jeu-denfants/2025-04-26/2
CATEGORIES:Animation
ATTACH;FMTTYPE=image/png:https://plaza-mons.be/wp-content/uploads/2025/03/chouette-un-jeu-denfants.png
END:VEVENT
BEGIN:VEVENT
DTSTART;TZID=Europe/Brussels:20250426T140000
DTEND;TZID=Europe/Brussels:20250426T152000
DTSTAMP:20260420T092019
CREATED:20250331T142631Z
LAST-MODIFIED:20250608T000022Z
UID:85989-1745676000-1745680800@plaza-mons.be
SUMMARY:La vie\, en gros
DESCRIPTION:Pop & Clap ciné-club : Kill Bill: The Whole Bloody Affair\n\n\n\n\n\n			\n				Bande annonce\n			\n		 \n\n\n\n\n\n\n\n\n\n\n\n\n\n\n\n\n\n\n\n\n\n\n\n\n\n\n\n\n\n\n\n\n\n\n\n\n\n\n\n\n\n\n\n\n\n\n\n\n\n\n\n\n\nBande annonce
URL:https://plaza-mons.be/film/la-vie-en-gros-2/2025-04-26/2
CATEGORIES:Animation
ATTACH;FMTTYPE=image/png:https://plaza-mons.be/wp-content/uploads/2025/03/la-vie-en-gros-poster.png
END:VEVENT
BEGIN:VEVENT
DTSTART;TZID=Europe/Brussels:20250426T150000
DTEND;TZID=Europe/Brussels:20250426T164300
DTSTAMP:20260420T092019
CREATED:20250331T144108Z
LAST-MODIFIED:20250519T000053Z
UID:86047-1745679600-1745685780@plaza-mons.be
SUMMARY:Le mélange des genres
DESCRIPTION:Pop & Clap ciné-club : Kill Bill: The Whole Bloody Affair\n\n\n\n\n\n			\n				Bande annonce\n			\n		 \n\n\n\n\n\n\n\n\n\n\n\n\n\n\n\n\n\n\n\n\n\n\n\n\n\n\n\n\n\n\n\n\n\n\n\n\n\n\n\n\n\n\n\n\n\n\n\n\n\n\n\n\n\nBande annonce
URL:https://plaza-mons.be/film/le-melange-des-genres/2025-04-26
CATEGORIES:Comédie dramatique
ATTACH;FMTTYPE=image/jpeg:https://plaza-mons.be/wp-content/uploads/2025/03/le-melange-des-genres-poster.jpg
END:VEVENT
BEGIN:VEVENT
DTSTART;TZID=Europe/Brussels:20250426T150000
DTEND;TZID=Europe/Brussels:20250426T170700
DTSTAMP:20260420T092019
CREATED:20250331T141650Z
LAST-MODIFIED:20250428T115758Z
UID:85910-1745679600-1745687220@plaza-mons.be
SUMMARY:Le vent se lève / The Wind rises
DESCRIPTION:Pop & Clap ciné-club : Kill Bill: The Whole Bloody Affair\n\n\n\n\n\n			\n				Bande annonce\n			\n		 \n\n\n\n\n\n\n\n\n\n\n\n\n\n\n\n\n\n\n\n\n\n\n\n\n\n\n\n\n\n\n\n\n\n\n\n\n\n\n\n\n\n\n\n\n\n\n\n\n\n\n\n\n\nBande annonce
URL:https://plaza-mons.be/film/le-vent-se-leve-the-wind-rises/2025-04-26
CATEGORIES:Animation
ATTACH;FMTTYPE=image/webp:https://plaza-mons.be/wp-content/uploads/2025/03/le-vent-se-leve.webp
END:VEVENT
BEGIN:VEVENT
DTSTART;TZID=Europe/Brussels:20250426T160000
DTEND;TZID=Europe/Brussels:20250426T172600
DTSTAMP:20260420T092019
CREATED:20250331T135610Z
LAST-MODIFIED:20250428T115905Z
UID:85873-1745683200-1745688360@plaza-mons.be
SUMMARY:Aimer perdre
DESCRIPTION:Pop & Clap ciné-club : Kill Bill: The Whole Bloody Affair\n\n\n\n\n\n			\n				Bande annonce\n			\n		 \n\n\n\n\n\n\n\n\n\n\n\n\n\n\n\n\n\n\n\n\n\n\n\n\n\n\n\n\n\n\n\n\n\n\n\n\n\n\n\n\n\n\n\n\n\n\n\n\n\n\n\n\n\nBande annonce
URL:https://plaza-mons.be/film/aimer-perdre-2/2025-04-26
CATEGORIES:Drame
ATTACH;FMTTYPE=image/jpeg:https://plaza-mons.be/wp-content/uploads/2025/03/aimer-perdre-poster.jpg
END:VEVENT
BEGIN:VEVENT
DTSTART;TZID=Europe/Brussels:20250426T160000
DTEND;TZID=Europe/Brussels:20250426T172600
DTSTAMP:20260420T092019
CREATED:20250331T142318Z
LAST-MODIFIED:20250428T115801Z
UID:85941-1745683200-1745688360@plaza-mons.be
SUMMARY:Poison
DESCRIPTION:Pop & Clap ciné-club : Kill Bill: The Whole Bloody Affair
URL:https://plaza-mons.be/film/poison/2025-04-26
CATEGORIES:Drame
ATTACH;FMTTYPE=image/jpeg:https://plaza-mons.be/wp-content/uploads/2025/03/poison-poster.jpg
END:VEVENT
BEGIN:VEVENT
DTSTART;TZID=Europe/Brussels:20250426T180000
DTEND;TZID=Europe/Brussels:20250426T195800
DTSTAMP:20260420T092019
CREATED:20250331T142051Z
LAST-MODIFIED:20250512T000452Z
UID:85961-1745690400-1745697480@plaza-mons.be
SUMMARY:The Outrun
DESCRIPTION:Pop & Clap ciné-club : Kill Bill: The Whole Bloody Affair\n\n\n\n\n\n			\n				Bande annonce\n			\n		 \n\n\n\n\n\n\n\n\n\n\n\n\n\n\n\n\n\n\n\n\n\n\n\n\n\n\n\n\n\n\n\n\n\n\n\n\n\n\n\n\n\n\n\n\n\n\n\n\n\n\n\n\n\nBande annonce
URL:https://plaza-mons.be/film/the-outrun/2025-04-26
CATEGORIES:Drame
ATTACH;FMTTYPE=image/jpeg:https://plaza-mons.be/wp-content/uploads/2025/03/the-outrun-poster-1.jpg
END:VEVENT
BEGIN:VEVENT
DTSTART;TZID=Europe/Brussels:20250426T180000
DTEND;TZID=Europe/Brussels:20250426T195900
DTSTAMP:20260420T092019
CREATED:20250331T142508Z
LAST-MODIFIED:20250428T115822Z
UID:85977-1745690400-1745697540@plaza-mons.be
SUMMARY:Vemiglio
DESCRIPTION:Pop & Clap ciné-club : Kill Bill: The Whole Bloody Affair\n\n\n\n\n\n			\n				Bande annonce\n			\n		 \n\n\n\n\n\n\n\n\n\n\n\n\n\n\n\n\n\n\n\n\n\n\n\n\n\n\n\n\n\n\n\n\n\n\n\n\n\n\n\n\n\n\n\n\n\n\n\n\n\n\n\n\n\nBande annonce
URL:https://plaza-mons.be/film/vemiglio/2025-04-26
CATEGORIES:Drame
ATTACH;FMTTYPE=image/jpeg:https://plaza-mons.be/wp-content/uploads/2025/03/vermiglio-poster.jpg
END:VEVENT
BEGIN:VEVENT
DTSTART;TZID=Europe/Brussels:20250426T180000
DTEND;TZID=Europe/Brussels:20250426T200400
DTSTAMP:20260420T092019
CREATED:20250331T141851Z
LAST-MODIFIED:20250428T115809Z
UID:85927-1745690400-1745697840@plaza-mons.be
SUMMARY:Berlin\, été 42/ In Liebe\, Eure Hilde
DESCRIPTION:Pop & Clap ciné-club : Kill Bill: The Whole Bloody Affair\n\n\n\n\n\n			\n				Bande annonce\n			\n		 \n\n\n\n\n\n\n\n\n\n\n\n\n\n\n\n\n\n\n\n\n\n\n\n\n\n\n\n\n\n\n\n\n\n\n\n\n\n\n\n\n\n\n\n\n\n\n\n\n\n\n\n\n\nBande annonce
URL:https://plaza-mons.be/film/berlin-ete-42-in-liebe-eure-hilde/2025-04-26
CATEGORIES:Drame
ATTACH;FMTTYPE=image/jpeg:https://plaza-mons.be/wp-content/uploads/2025/03/berlin-ete42.jpg
END:VEVENT
BEGIN:VEVENT
DTSTART;TZID=Europe/Brussels:20250426T183000
DTEND;TZID=Europe/Brussels:20250426T200400
DTSTAMP:20260420T092019
CREATED:20250331T142948Z
LAST-MODIFIED:20250519T000026Z
UID:86006-1745692200-1745697840@plaza-mons.be
SUMMARY:Mexico 86
DESCRIPTION:Pop & Clap ciné-club : Kill Bill: The Whole Bloody Affair\n\n\n\n\n\n			\n				Bande annonce\n			\n		 \n\n\n\n\n\n\n\n\n\n\n\n\n\n\n\n\n\n\n\n\n\n\n\n\n\n\n\n\n\n\n\n\n\n\n\n\n\n\n\n\n\n\n\n\n\n\n\n\n\n\n\n\n\nBande annonce
URL:https://plaza-mons.be/film/mexico-86/2025-04-26
CATEGORIES:Drame
ATTACH;FMTTYPE=image/jpeg:https://plaza-mons.be/wp-content/uploads/2025/03/medium-affiche-mexico-86-1743065828311-2.jpg
END:VEVENT
BEGIN:VEVENT
DTSTART;TZID=Europe/Brussels:20250426T203000
DTEND;TZID=Europe/Brussels:20250426T213000
DTSTAMP:20260420T092019
CREATED:20250331T143919Z
LAST-MODIFIED:20250519T000003Z
UID:86040-1745699400-1745703000@plaza-mons.be
SUMMARY:Black Dog
DESCRIPTION:Pop & Clap ciné-club : Kill Bill: The Whole Bloody Affair\n\n\n\n\n\n			\n				Bande annonce\n			\n		 \n\n\n\n\n\n\n\n\n\n\n\n\n\n\n\n\n\n\n\n\n\n\n\n\n\n\n\n\n\n\n\n\n\n\n\n\n\n\n\n\n\n\n\n\n\n\n\n\n\n\n\n\n\nBande annonce
URL:https://plaza-mons.be/film/black-dog/2025-04-26
CATEGORIES:Drame
ATTACH;FMTTYPE=image/jpeg:https://plaza-mons.be/wp-content/uploads/2025/03/black-dog-poster.jpg
END:VEVENT
BEGIN:VEVENT
DTSTART;TZID=Europe/Brussels:20250426T203000
DTEND;TZID=Europe/Brussels:20250426T215900
DTSTAMP:20260420T092019
CREATED:20250331T143408Z
LAST-MODIFIED:20250512T000556Z
UID:86032-1745699400-1745704740@plaza-mons.be
SUMMARY:The Last Showgirl
DESCRIPTION:Pop & Clap ciné-club : Kill Bill: The Whole Bloody Affair\n\n\n\n\n\n			\n				Bande annonce\n			\n		 \n\n\n\n\n\n\n\n\n\n\n\n\n\n\n\n\n\n\n\n\n\n\n\n\n\n\n\n\n\n\n\n\n\n\n\n\n\n\n\n\n\n\n\n\n\n\n\n\n\n\n\n\n\nBande annonce
URL:https://plaza-mons.be/film/the-last-showgirl/2025-04-26
CATEGORIES:Drame
ATTACH;FMTTYPE=image/jpeg:https://plaza-mons.be/wp-content/uploads/2025/03/the-last-showgirl-poster.jpg
END:VEVENT
BEGIN:VEVENT
DTSTART;TZID=Europe/Brussels:20250426T203000
DTEND;TZID=Europe/Brussels:20250426T224500
DTSTAMP:20260420T092019
CREATED:20250224T135040Z
LAST-MODIFIED:20250505T000131Z
UID:85598-1745699400-1745707500@plaza-mons.be
SUMMARY:Je suis toujours là / I'm Still Here
DESCRIPTION:Pop & Clap ciné-club : Kill Bill: The Whole Bloody Affair\n\n\n\n\n\n			\n				Bande annonce\n			\n		 \n\n\n\n\n\n\n\n\n\n\n\n\n\n\n\n\n\n\n\n\n\n\n\n\n\n\n\n\n\n\n\n\n\n\n\n\n\n\n\n\n\n\n\n\n\n\n\n\n\n\n\n\n\nBande annonce
URL:https://plaza-mons.be/film/je-suis-toujours-la-im-still-here/2025-04-26
CATEGORIES:Drame
ATTACH;FMTTYPE=image/jpeg:https://plaza-mons.be/wp-content/uploads/2025/02/je-suis-toujours-la-poster.jpg
END:VEVENT
BEGIN:VEVENT
DTSTART;TZID=Europe/Brussels:20250426T203000
DTEND;TZID=Europe/Brussels:20250426T224600
DTSTAMP:20260420T092019
CREATED:20250224T133512Z
LAST-MODIFIED:20250428T115849Z
UID:85799-1745699400-1745707560@plaza-mons.be
SUMMARY:Mickey 17
DESCRIPTION:Pop & Clap ciné-club : Kill Bill: The Whole Bloody Affair\n\n\n\n\n\n			\n				Bande annonce\n			\n		 \n\n\n\n\n\n\n\n\n\n\n\n\n\n\n\n\n\n\n\n\n\n\n\n\n\n\n\n\n\n\n\n\n\n\n\n\n\n\n\n\n\n\n\n\n\n\n\n\n\n\n\n\n\nBande annonce
URL:https://plaza-mons.be/film/mickey-17/2025-04-26
CATEGORIES:Drame
ATTACH;FMTTYPE=image/jpeg:https://plaza-mons.be/wp-content/uploads/2025/02/mickey-17-poster.jpg
END:VEVENT
END:VCALENDAR