BEGIN:VCALENDAR
VERSION:2.0
PRODID:-//Plaza Arthouse Cinema - ECPv5.14.1//NONSGML v1.0//EN
CALSCALE:GREGORIAN
METHOD:PUBLISH
X-WR-CALNAME:Plaza Arthouse Cinema
X-ORIGINAL-URL:https://plaza-mons.be
X-WR-CALDESC:Events for Plaza Arthouse Cinema
REFRESH-INTERVAL;VALUE=DURATION:PT1H
X-Robots-Tag:noindex
X-PUBLISHED-TTL:PT1H
BEGIN:VTIMEZONE
TZID:Europe/Brussels
BEGIN:DAYLIGHT
TZOFFSETFROM:+0100
TZOFFSETTO:+0200
TZNAME:CEST
DTSTART:20250330T010000
END:DAYLIGHT
BEGIN:STANDARD
TZOFFSETFROM:+0200
TZOFFSETTO:+0100
TZNAME:CET
DTSTART:20251026T010000
END:STANDARD
END:VTIMEZONE
BEGIN:VEVENT
DTSTART;TZID=Europe/Brussels:20250419T100000
DTEND;TZID=Europe/Brussels:20250419T104500
DTSTAMP:20260424T182351
CREATED:20250401T080812Z
LAST-MODIFIED:20250418T125844Z
UID:85479-1745056800-1745059500@plaza-mons.be
SUMMARY:Chouette un jeu d’enfant ! -  Cinéma en famille\, Séance spéciale Chasse aux oeufs
DESCRIPTION:Super Charlie\n\n\n\n\n\n			\n				Bande annonce\n			\n		 \n\n\n\n\n\n\n\n\n\n\n\n\n\n\n\n\n\n\n\n\n\n\n\n\n\n\n\n\n\n\n\n\n\n\n\n\n\n\n\n\n\n\n\n\n\n\n\n\n\n\n\n\n\nBande annonce
URL:https://plaza-mons.be/film/chouette-un-jeu-denfant-cinema-en-famille-seance-speciale-chasse-aux-oeufs/2025-04-19
CATEGORIES:Animation,Avant-première,Jeune public
ATTACH;FMTTYPE=image/png:https://plaza-mons.be/wp-content/uploads/2025/03/chouette-un-jeu-denfants.png
END:VEVENT
BEGIN:VEVENT
DTSTART;TZID=Europe/Brussels:20250419T100000
DTEND;TZID=Europe/Brussels:20250419T112900
DTSTAMP:20260424T182351
CREATED:20250327T134843Z
LAST-MODIFIED:20250418T125844Z
UID:85480-1745056800-1745062140@plaza-mons.be
SUMMARY:Dog Man - Cinéma en famille\, séance spéciale chasse aux oeufs
DESCRIPTION:Super Charlie\n\n\n\n\n\n			\n				Bande annonce\n			\n		 \n\n\n\n\n\n\n\n\n\n\n\n\n\n\n\n\n\n\n\n\n\n\n\n\n\n\n\n\n\n\n\n\n\n\n\n\n\n\n\n\n\n\n\n\n\n\n\n\n\n\n\n\n\nBande annonce
URL:https://plaza-mons.be/film/dog-man-cinema-en-famille-seance-speciale-chasse-aux-oeufs/2025-04-19
CATEGORIES:Animation,Avant-première,Jeune public
ATTACH;FMTTYPE=image/png:https://plaza-mons.be/wp-content/uploads/2025/03/dog-man-poster.png
END:VEVENT
BEGIN:VEVENT
DTSTART;TZID=Europe/Brussels:20250419T100000
DTEND;TZID=Europe/Brussels:20250419T113900
DTSTAMP:20260424T182352
CREATED:20250327T135021Z
LAST-MODIFIED:20250418T125845Z
UID:85481-1745056800-1745062740@plaza-mons.be
SUMMARY:Moon le panda - Cinéma en famille\, Séance spéciale chasse aux œufs 
DESCRIPTION:Super Charlie\n\n\n\n\n\n			\n				Bande annonce\n			\n		 \n\n\n\n\n\n\n\n\n\n\n\n\n\n\n\n\n\n\n\n\n\n\n\n\n\n\n\n\n\n\n\n\n\n\n\n\n\n\n\n\n\n\n\n\n\n\n\n\n\n\n\n\n\nBande annonce
URL:https://plaza-mons.be/film/85481/2025-04-19
CATEGORIES:Avant-première,Aventure,Jeune public
ATTACH;FMTTYPE=image/jpeg:https://plaza-mons.be/wp-content/uploads/2025/03/moon-le-panda-poster.jpg
END:VEVENT
BEGIN:VEVENT
DTSTART;TZID=Europe/Brussels:20250419T140000
DTEND;TZID=Europe/Brussels:20250419T152000
DTSTAMP:20260424T182352
CREATED:20250331T142631Z
LAST-MODIFIED:20250608T000011Z
UID:85982-1745071200-1745076000@plaza-mons.be
SUMMARY:La vie\, en gros
DESCRIPTION:Super Charlie\n\n\n\n\n\n			\n				Bande annonce\n			\n		 \n\n\n\n\n\n\n\n\n\n\n\n\n\n\n\n\n\n\n\n\n\n\n\n\n\n\n\n\n\n\n\n\n\n\n\n\n\n\n\n\n\n\n\n\n\n\n\n\n\n\n\n\n\nBande annonce
URL:https://plaza-mons.be/film/la-vie-en-gros-2/2025-04-19
CATEGORIES:Animation
ATTACH;FMTTYPE=image/png:https://plaza-mons.be/wp-content/uploads/2025/03/la-vie-en-gros-poster.png
END:VEVENT
BEGIN:VEVENT
DTSTART;TZID=Europe/Brussels:20250419T140000
DTEND;TZID=Europe/Brussels:20250419T152600
DTSTAMP:20260424T182352
CREATED:20250331T135610Z
LAST-MODIFIED:20250428T115905Z
UID:85868-1745071200-1745076360@plaza-mons.be
SUMMARY:Aimer perdre
DESCRIPTION:Super Charlie\n\n\n\n\n\n			\n				Bande annonce\n			\n		 \n\n\n\n\n\n\n\n\n\n\n\n\n\n\n\n\n\n\n\n\n\n\n\n\n\n\n\n\n\n\n\n\n\n\n\n\n\n\n\n\n\n\n\n\n\n\n\n\n\n\n\n\n\nBande annonce
URL:https://plaza-mons.be/film/aimer-perdre-2/2025-04-19
CATEGORIES:Drame
ATTACH;FMTTYPE=image/jpeg:https://plaza-mons.be/wp-content/uploads/2025/03/aimer-perdre-poster.jpg
END:VEVENT
BEGIN:VEVENT
DTSTART;TZID=Europe/Brussels:20250419T143000
DTEND;TZID=Europe/Brussels:20250419T163400
DTSTAMP:20260424T182352
CREATED:20250331T141851Z
LAST-MODIFIED:20250428T115809Z
UID:85922-1745073000-1745080440@plaza-mons.be
SUMMARY:Berlin\, été 42/ In Liebe\, Eure Hilde
DESCRIPTION:Super Charlie\n\n\n\n\n\n			\n				Bande annonce\n			\n		 \n\n\n\n\n\n\n\n\n\n\n\n\n\n\n\n\n\n\n\n\n\n\n\n\n\n\n\n\n\n\n\n\n\n\n\n\n\n\n\n\n\n\n\n\n\n\n\n\n\n\n\n\n\nBande annonce
URL:https://plaza-mons.be/film/berlin-ete-42-in-liebe-eure-hilde/2025-04-19
CATEGORIES:Drame
ATTACH;FMTTYPE=image/jpeg:https://plaza-mons.be/wp-content/uploads/2025/03/berlin-ete42.jpg
END:VEVENT
BEGIN:VEVENT
DTSTART;TZID=Europe/Brussels:20250419T150000
DTEND;TZID=Europe/Brussels:20250419T170700
DTSTAMP:20260424T182352
CREATED:20250331T141650Z
LAST-MODIFIED:20250428T115756Z
UID:85907-1745074800-1745082420@plaza-mons.be
SUMMARY:Le vent se lève / The Wind rises
DESCRIPTION:Super Charlie\n\n\n\n\n\n			\n				Bande annonce\n			\n		 \n\n\n\n\n\n\n\n\n\n\n\n\n\n\n\n\n\n\n\n\n\n\n\n\n\n\n\n\n\n\n\n\n\n\n\n\n\n\n\n\n\n\n\n\n\n\n\n\n\n\n\n\n\nBande annonce
URL:https://plaza-mons.be/film/le-vent-se-leve-the-wind-rises/2025-04-19
CATEGORIES:Animation
ATTACH;FMTTYPE=image/webp:https://plaza-mons.be/wp-content/uploads/2025/03/le-vent-se-leve.webp
END:VEVENT
BEGIN:VEVENT
DTSTART;TZID=Europe/Brussels:20250419T160000
DTEND;TZID=Europe/Brussels:20250419T172600
DTSTAMP:20260424T182352
CREATED:20250331T144712Z
LAST-MODIFIED:20250505T000606Z
UID:85826-1745078400-1745083560@plaza-mons.be
SUMMARY:La légende de l'ours blanc
DESCRIPTION:Super Charlie\n\n\n\n\n\n			\n				Bande annonce\n			\n		 \n\n\n\n\n\n\n\n\n\n\n\n\n\n\n\n\n\n\n\n\n\n\n\n\n\n\n\n\n\n\n\n\n\n\n\n\n\n\n\n\n\n\n\n\n\n\n\n\n\n\n\n\n\nBande annonce
URL:https://plaza-mons.be/film/la-legende-de-lours-blanc/2025-04-19
CATEGORIES:Animation
ATTACH;FMTTYPE=image/jpeg:https://plaza-mons.be/wp-content/uploads/2025/03/la-legende-de-lours-blanc-poster.jpg
END:VEVENT
BEGIN:VEVENT
DTSTART;TZID=Europe/Brussels:20250419T160000
DTEND;TZID=Europe/Brussels:20250419T175100
DTSTAMP:20260424T182352
CREATED:20250331T143259Z
LAST-MODIFIED:20250505T000507Z
UID:86013-1745078400-1745085060@plaza-mons.be
SUMMARY:Dis moi juste que tu m'aimes
DESCRIPTION:Super Charlie\n\n\n\n\n\n			\n				Bande annonce\n			\n		 \n\n\n\n\n\n\n\n\n\n\n\n\n\n\n\n\n\n\n\n\n\n\n\n\n\n\n\n\n\n\n\n\n\n\n\n\n\n\n\n\n\n\n\n\n\n\n\n\n\n\n\n\n\nBande annonce
URL:https://plaza-mons.be/film/dis-moi-juste-que-tu-maimes/2025-04-19
CATEGORIES:Drame
ATTACH;FMTTYPE=image/jpeg:https://plaza-mons.be/wp-content/uploads/2025/03/dis-moi-juste-que-tu-maimes-poster.jpg
END:VEVENT
BEGIN:VEVENT
DTSTART;TZID=Europe/Brussels:20250419T170000
DTEND;TZID=Europe/Brussels:20250419T185900
DTSTAMP:20260424T182352
CREATED:20250331T142508Z
LAST-MODIFIED:20250428T115821Z
UID:85973-1745082000-1745089140@plaza-mons.be
SUMMARY:Vemiglio
DESCRIPTION:Super Charlie\n\n\n\n\n\n			\n				Bande annonce\n			\n		 \n\n\n\n\n\n\n\n\n\n\n\n\n\n\n\n\n\n\n\n\n\n\n\n\n\n\n\n\n\n\n\n\n\n\n\n\n\n\n\n\n\n\n\n\n\n\n\n\n\n\n\n\n\nBande annonce
URL:https://plaza-mons.be/film/vemiglio/2025-04-19
CATEGORIES:Drame
ATTACH;FMTTYPE=image/jpeg:https://plaza-mons.be/wp-content/uploads/2025/03/vermiglio-poster.jpg
END:VEVENT
BEGIN:VEVENT
DTSTART;TZID=Europe/Brussels:20250419T174500
DTEND;TZID=Europe/Brussels:20250419T200000
DTSTAMP:20260424T182352
CREATED:20250224T135040Z
LAST-MODIFIED:20250505T000126Z
UID:85591-1745084700-1745092800@plaza-mons.be
SUMMARY:Je suis toujours là / I'm Still Here
DESCRIPTION:Super Charlie\n\n\n\n\n\n			\n				Bande annonce\n			\n		 \n\n\n\n\n\n\n\n\n\n\n\n\n\n\n\n\n\n\n\n\n\n\n\n\n\n\n\n\n\n\n\n\n\n\n\n\n\n\n\n\n\n\n\n\n\n\n\n\n\n\n\n\n\nBande annonce
URL:https://plaza-mons.be/film/je-suis-toujours-la-im-still-here/2025-04-19
CATEGORIES:Drame
ATTACH;FMTTYPE=image/jpeg:https://plaza-mons.be/wp-content/uploads/2025/02/je-suis-toujours-la-poster.jpg
END:VEVENT
BEGIN:VEVENT
DTSTART;TZID=Europe/Brussels:20250419T180000
DTEND;TZID=Europe/Brussels:20250419T193400
DTSTAMP:20260424T182352
CREATED:20250331T142948Z
LAST-MODIFIED:20250519T000019Z
UID:85998-1745085600-1745091240@plaza-mons.be
SUMMARY:Mexico 86
DESCRIPTION:Super Charlie\n\n\n\n\n\n			\n				Bande annonce\n			\n		 \n\n\n\n\n\n\n\n\n\n\n\n\n\n\n\n\n\n\n\n\n\n\n\n\n\n\n\n\n\n\n\n\n\n\n\n\n\n\n\n\n\n\n\n\n\n\n\n\n\n\n\n\n\nBande annonce
URL:https://plaza-mons.be/film/mexico-86/2025-04-19
CATEGORIES:Drame
ATTACH;FMTTYPE=image/jpeg:https://plaza-mons.be/wp-content/uploads/2025/03/medium-affiche-mexico-86-1743065828311-2.jpg
END:VEVENT
BEGIN:VEVENT
DTSTART;TZID=Europe/Brussels:20250419T183000
DTEND;TZID=Europe/Brussels:20250419T202800
DTSTAMP:20260424T182352
CREATED:20250401T080930Z
LAST-MODIFIED:20250418T130032Z
UID:86036-1745087400-1745094480@plaza-mons.be
SUMMARY:Pop & Clap Ciné-club  Spécial BIFFF Planète B
DESCRIPTION:Super Charlie\n\n\n\n\n\n			\n				Bande annonce\n			\n		 \n\n\n\n\n\n\n\n\n\n\n\n\n\n\n\n\n\n\n\n\n\n\n\n\n\n\n\n\n\n\n\n\n\n\n\n\n\n\n\n\n\n\n\n\n\n\n\n\n\n\n\n\n\nBande annonce
URL:https://plaza-mons.be/film/pop-clap-cine-club-special-bifff-planete-b/2025-04-19
CATEGORIES:Avant-première,Fantastique,Horreur
ATTACH;FMTTYPE=image/png:https://plaza-mons.be/wp-content/uploads/2025/03/planete-b-poster.png
END:VEVENT
BEGIN:VEVENT
DTSTART;TZID=Europe/Brussels:20250419T193000
DTEND;TZID=Europe/Brussels:20250419T213000
DTSTAMP:20260424T182352
CREATED:20250331T140453Z
LAST-MODIFIED:20250428T115915Z
UID:85892-1745091000-1745098200@plaza-mons.be
SUMMARY:Les graines du figuier sauvage / the Seed of the sacred fig
DESCRIPTION:Super Charlie\n\n\n\n\n\n			\n				Bande annonce\n			\n		 \n\n\n\n\n\n\n\n\n\n\n\n\n\n\n\n\n\n\n\n\n\n\n\n\n\n\n\n\n\n\n\n\n\n\n\n\n\n\n\n\n\n\n\n\n\n\n\n\n\n\n\n\n\nBande annonce
URL:https://plaza-mons.be/film/les-graines-du-figuier-sauvage-the-seed-of-the-sacred-fig/2025-04-19
CATEGORIES:Drame
ATTACH;FMTTYPE=image/jpeg:https://plaza-mons.be/wp-content/uploads/2025/03/les-graines-du-figuier-sauvage-poster.jpg
END:VEVENT
BEGIN:VEVENT
DTSTART;TZID=Europe/Brussels:20250419T203000
DTEND;TZID=Europe/Brussels:20250419T215900
DTSTAMP:20260424T182352
CREATED:20250331T143408Z
LAST-MODIFIED:20250512T000554Z
UID:86025-1745094600-1745099940@plaza-mons.be
SUMMARY:The Last Showgirl
DESCRIPTION:Super Charlie\n\n\n\n\n\n			\n				Bande annonce\n			\n		 \n\n\n\n\n\n\n\n\n\n\n\n\n\n\n\n\n\n\n\n\n\n\n\n\n\n\n\n\n\n\n\n\n\n\n\n\n\n\n\n\n\n\n\n\n\n\n\n\n\n\n\n\n\nBande annonce
URL:https://plaza-mons.be/film/the-last-showgirl/2025-04-19
CATEGORIES:Drame
ATTACH;FMTTYPE=image/jpeg:https://plaza-mons.be/wp-content/uploads/2025/03/the-last-showgirl-poster.jpg
END:VEVENT
BEGIN:VEVENT
DTSTART;TZID=Europe/Brussels:20250419T203000
DTEND;TZID=Europe/Brussels:20250419T222800
DTSTAMP:20260424T182352
CREATED:20250331T142051Z
LAST-MODIFIED:20250512T000447Z
UID:85955-1745094600-1745101680@plaza-mons.be
SUMMARY:The Outrun
DESCRIPTION:Super Charlie\n\n\n\n\n\n			\n				Bande annonce\n			\n		 \n\n\n\n\n\n\n\n\n\n\n\n\n\n\n\n\n\n\n\n\n\n\n\n\n\n\n\n\n\n\n\n\n\n\n\n\n\n\n\n\n\n\n\n\n\n\n\n\n\n\n\n\n\nBande annonce
URL:https://plaza-mons.be/film/the-outrun/2025-04-19
CATEGORIES:Drame
ATTACH;FMTTYPE=image/jpeg:https://plaza-mons.be/wp-content/uploads/2025/03/the-outrun-poster-1.jpg
END:VEVENT
BEGIN:VEVENT
DTSTART;TZID=Europe/Brussels:20250419T210000
DTEND;TZID=Europe/Brussels:20250419T224000
DTSTAMP:20260424T182352
CREATED:20250401T081140Z
LAST-MODIFIED:20250418T130116Z
UID:86037-1745096400-1745102400@plaza-mons.be
SUMMARY:Pop & Clap Ciné-club  Spécial BIFFF : Else
DESCRIPTION:Super Charlie\n\n\n\n\n\n			\n				Bande annonce\n			\n		 \n\n\n\n\n\n\n\n\n\n\n\n\n\n\n\n\n\n\n\n\n\n\n\n\n\n\n\n\n\n\n\n\n\n\n\n\n\n\n\n\n\n\n\n\n\n\n\n\n\n\n\n\n\nBande annonce
URL:https://plaza-mons.be/film/pop-clap-cine-club-special-bifff-else/2025-04-19
CATEGORIES:Avant-première,Fantastique,Horreur
ATTACH;FMTTYPE=image/jpeg:https://plaza-mons.be/wp-content/uploads/2025/03/else-poster.jpg
END:VEVENT
END:VCALENDAR