BEGIN:VCALENDAR
VERSION:2.0
PRODID:-//Plaza Arthouse Cinema - ECPv5.14.1//NONSGML v1.0//EN
CALSCALE:GREGORIAN
METHOD:PUBLISH
X-WR-CALNAME:Plaza Arthouse Cinema
X-ORIGINAL-URL:https://plaza-mons.be
X-WR-CALDESC:Events for Plaza Arthouse Cinema
REFRESH-INTERVAL;VALUE=DURATION:PT1H
X-Robots-Tag:noindex
X-PUBLISHED-TTL:PT1H
BEGIN:VTIMEZONE
TZID:Europe/Brussels
BEGIN:DAYLIGHT
TZOFFSETFROM:+0100
TZOFFSETTO:+0200
TZNAME:CEST
DTSTART:20250330T010000
END:DAYLIGHT
BEGIN:STANDARD
TZOFFSETFROM:+0200
TZOFFSETTO:+0100
TZNAME:CET
DTSTART:20251026T010000
END:STANDARD
END:VTIMEZONE
BEGIN:VEVENT
DTSTART;TZID=Europe/Brussels:20250415T140000
DTEND;TZID=Europe/Brussels:20250415T152600
DTSTAMP:20260420T094051
CREATED:20250327T133717Z
LAST-MODIFIED:20250411T001049Z
UID:85514-1744725600-1744730760@plaza-mons.be
SUMMARY:Ciné Pour Tous : Doux Jésus
DESCRIPTION:Pop & Clap ciné-club : Kill Bill: The Whole Bloody Affair\n\n\n\n\n\n			\n				Bande annonce\n			\n		 \n\n\n\n\n\n\n\n\n\n\n\n\n\n\n\n\n\n\n\n\n\n\n\n\n\n\n\n\n\n\n\n\n\n\n\n\n\n\n\n\n\n\n\n\n\n\n\n\n\n\n\n\n\nBande annonce
URL:https://plaza-mons.be/film/doux-jesus/2025-04-15
CATEGORIES:Avant-première,Comedie
ATTACH;FMTTYPE=image/jpeg:https://plaza-mons.be/wp-content/uploads/2025/03/doux-jesus-poster.jpg
END:VEVENT
BEGIN:VEVENT
DTSTART;TZID=Europe/Brussels:20250415T150000
DTEND;TZID=Europe/Brussels:20250415T162600
DTSTAMP:20260420T094051
CREATED:20250331T142318Z
LAST-MODIFIED:20250428T115800Z
UID:85934-1744729200-1744734360@plaza-mons.be
SUMMARY:Poison
DESCRIPTION:Pop & Clap ciné-club : Kill Bill: The Whole Bloody Affair
URL:https://plaza-mons.be/film/poison/2025-04-15
CATEGORIES:Drame
ATTACH;FMTTYPE=image/jpeg:https://plaza-mons.be/wp-content/uploads/2025/03/poison-poster.jpg
END:VEVENT
BEGIN:VEVENT
DTSTART;TZID=Europe/Brussels:20250415T150000
DTEND;TZID=Europe/Brussels:20250415T163800
DTSTAMP:20260420T094051
CREATED:20250224T134930Z
LAST-MODIFIED:20250422T000146Z
UID:85707-1744729200-1744735080@plaza-mons.be
SUMMARY:Sarah Bernardt\, La Divine
DESCRIPTION:Pop & Clap ciné-club : Kill Bill: The Whole Bloody Affair\n\n\n\n\n\n			\n				Bande annonce\n			\n		 \n\n\n\n\n\n\n\n\n\n\n\n\n\n\n\n\n\n\n\n\n\n\n\n\n\n\n\n\n\n\n\n\n\n\n\n\n\n\n\n\n\n\n\n\n\n\n\n\n\n\n\n\n\nBande annonce
URL:https://plaza-mons.be/film/sarah-bernardt-la-divine/2025-04-15
CATEGORIES:Biopic
ATTACH;FMTTYPE=image/jpeg:https://plaza-mons.be/wp-content/uploads/2025/02/sarah-bernhardt-la-divine-poster-def-be-original.jpg
END:VEVENT
BEGIN:VEVENT
DTSTART;TZID=Europe/Brussels:20250415T150000
DTEND;TZID=Europe/Brussels:20250415T164500
DTSTAMP:20260420T094051
CREATED:20250331T135231Z
LAST-MODIFIED:20250428T115911Z
UID:85845-1744729200-1744735500@plaza-mons.be
SUMMARY:Ernest Cole\, Lost and Found
DESCRIPTION:Pop & Clap ciné-club : Kill Bill: The Whole Bloody Affair\n\n\n\n\n\n			\n				Bande annonce\n			\n		 \n\n\n\n\n\n\n\n\n\n\n\n\n\n\n\n\n\n\n\n\n\n\n\n\n\n\n\n\n\n\n\n\n\n\n\n\n\n\n\n\n\n\n\n\n\n\n\n\n\n\n\n\n\nBande annonce
URL:https://plaza-mons.be/film/ernest-cole-lost-and-found/2025-04-15
CATEGORIES:Biopic
ATTACH;FMTTYPE=image/jpeg:https://plaza-mons.be/wp-content/uploads/2025/03/ernest-cole-lost-and-found-poster.jpg
END:VEVENT
BEGIN:VEVENT
DTSTART;TZID=Europe/Brussels:20250415T170000
DTEND;TZID=Europe/Brussels:20250415T180000
DTSTAMP:20260420T094051
CREATED:20250224T134620Z
LAST-MODIFIED:20250411T000234Z
UID:85693-1744736400-1744740000@plaza-mons.be
SUMMARY:Soft Leaves
DESCRIPTION:Pop & Clap ciné-club : Kill Bill: The Whole Bloody Affair\n\n\n\n\n\n			\n				Bande annonce\n			\n		 \n\n\n\n\n\n\n\n\n\n\n\n\n\n\n\n\n\n\n\n\n\n\n\n\n\n\n\n\n\n\n\n\n\n\n\n\n\n\n\n\n\n\n\n\n\n\n\n\n\n\n\n\n\nBande annonce
URL:https://plaza-mons.be/film/soft-leaves/2025-04-15
CATEGORIES:Drame
ATTACH;FMTTYPE=image/jpeg:https://plaza-mons.be/wp-content/uploads/2025/02/soft-leaves-poster.jpg
END:VEVENT
BEGIN:VEVENT
DTSTART;TZID=Europe/Brussels:20250415T174500
DTEND;TZID=Europe/Brussels:20250415T200100
DTSTAMP:20260420T094051
CREATED:20250224T133933Z
LAST-MODIFIED:20250411T000349Z
UID:85778-1744739100-1744747260@plaza-mons.be
SUMMARY:Parthenope
DESCRIPTION:Pop & Clap ciné-club : Kill Bill: The Whole Bloody Affair\n\n\n\n\n\n			\n				Bande annonce\n			\n		 \n\n\n\n\n\n\n\n\n\n\n\n\n\n\n\n\n\n\n\n\n\n\n\n\n\n\n\n\n\n\n\n\n\n\n\n\n\n\n\n\n\n\n\n\n\n\n\n\n\n\n\n\n\nBande annonce
URL:https://plaza-mons.be/film/parthenope/2025-04-15
CATEGORIES:Drame
ATTACH;FMTTYPE=image/jpeg:https://plaza-mons.be/wp-content/uploads/2025/02/parthenope-poster.jpg
END:VEVENT
BEGIN:VEVENT
DTSTART;TZID=Europe/Brussels:20250415T180000
DTEND;TZID=Europe/Brussels:20250415T195800
DTSTAMP:20260420T094051
CREATED:20250331T142051Z
LAST-MODIFIED:20250512T000443Z
UID:85951-1744740000-1744747080@plaza-mons.be
SUMMARY:The Outrun
DESCRIPTION:Pop & Clap ciné-club : Kill Bill: The Whole Bloody Affair\n\n\n\n\n\n			\n				Bande annonce\n			\n		 \n\n\n\n\n\n\n\n\n\n\n\n\n\n\n\n\n\n\n\n\n\n\n\n\n\n\n\n\n\n\n\n\n\n\n\n\n\n\n\n\n\n\n\n\n\n\n\n\n\n\n\n\n\nBande annonce
URL:https://plaza-mons.be/film/the-outrun/2025-04-15
CATEGORIES:Drame
ATTACH;FMTTYPE=image/jpeg:https://plaza-mons.be/wp-content/uploads/2025/03/the-outrun-poster-1.jpg
END:VEVENT
BEGIN:VEVENT
DTSTART;TZID=Europe/Brussels:20250415T180000
DTEND;TZID=Europe/Brussels:20250415T195900
DTSTAMP:20260420T094051
CREATED:20250331T142508Z
LAST-MODIFIED:20250428T115819Z
UID:85969-1744740000-1744747140@plaza-mons.be
SUMMARY:Vemiglio
DESCRIPTION:Pop & Clap ciné-club : Kill Bill: The Whole Bloody Affair\n\n\n\n\n\n			\n				Bande annonce\n			\n		 \n\n\n\n\n\n\n\n\n\n\n\n\n\n\n\n\n\n\n\n\n\n\n\n\n\n\n\n\n\n\n\n\n\n\n\n\n\n\n\n\n\n\n\n\n\n\n\n\n\n\n\n\n\nBande annonce
URL:https://plaza-mons.be/film/vemiglio/2025-04-15
CATEGORIES:Drame
ATTACH;FMTTYPE=image/jpeg:https://plaza-mons.be/wp-content/uploads/2025/03/vermiglio-poster.jpg
END:VEVENT
BEGIN:VEVENT
DTSTART;TZID=Europe/Brussels:20250415T190000
DTEND;TZID=Europe/Brussels:20250415T210000
DTSTAMP:20260420T094051
CREATED:20250331T140453Z
LAST-MODIFIED:20250428T115915Z
UID:85889-1744743600-1744750800@plaza-mons.be
SUMMARY:Les graines du figuier sauvage / the Seed of the sacred fig
DESCRIPTION:Pop & Clap ciné-club : Kill Bill: The Whole Bloody Affair\n\n\n\n\n\n			\n				Bande annonce\n			\n		 \n\n\n\n\n\n\n\n\n\n\n\n\n\n\n\n\n\n\n\n\n\n\n\n\n\n\n\n\n\n\n\n\n\n\n\n\n\n\n\n\n\n\n\n\n\n\n\n\n\n\n\n\n\nBande annonce
URL:https://plaza-mons.be/film/les-graines-du-figuier-sauvage-the-seed-of-the-sacred-fig/2025-04-15
CATEGORIES:Drame
ATTACH;FMTTYPE=image/jpeg:https://plaza-mons.be/wp-content/uploads/2025/03/les-graines-du-figuier-sauvage-poster.jpg
END:VEVENT
BEGIN:VEVENT
DTSTART;TZID=Europe/Brussels:20250415T203000
DTEND;TZID=Europe/Brussels:20250415T223400
DTSTAMP:20260420T094051
CREATED:20250331T141851Z
LAST-MODIFIED:20250428T115809Z
UID:85919-1744749000-1744756440@plaza-mons.be
SUMMARY:Berlin\, été 42/ In Liebe\, Eure Hilde
DESCRIPTION:Pop & Clap ciné-club : Kill Bill: The Whole Bloody Affair\n\n\n\n\n\n			\n				Bande annonce\n			\n		 \n\n\n\n\n\n\n\n\n\n\n\n\n\n\n\n\n\n\n\n\n\n\n\n\n\n\n\n\n\n\n\n\n\n\n\n\n\n\n\n\n\n\n\n\n\n\n\n\n\n\n\n\n\nBande annonce
URL:https://plaza-mons.be/film/berlin-ete-42-in-liebe-eure-hilde/2025-04-15
CATEGORIES:Drame
ATTACH;FMTTYPE=image/jpeg:https://plaza-mons.be/wp-content/uploads/2025/03/berlin-ete42.jpg
END:VEVENT
BEGIN:VEVENT
DTSTART;TZID=Europe/Brussels:20250415T203000
DTEND;TZID=Europe/Brussels:20250415T224500
DTSTAMP:20260420T094051
CREATED:20250224T135040Z
LAST-MODIFIED:20250505T000121Z
UID:85587-1744749000-1744757100@plaza-mons.be
SUMMARY:Je suis toujours là / I'm Still Here
DESCRIPTION:Pop & Clap ciné-club : Kill Bill: The Whole Bloody Affair\n\n\n\n\n\n			\n				Bande annonce\n			\n		 \n\n\n\n\n\n\n\n\n\n\n\n\n\n\n\n\n\n\n\n\n\n\n\n\n\n\n\n\n\n\n\n\n\n\n\n\n\n\n\n\n\n\n\n\n\n\n\n\n\n\n\n\n\nBande annonce
URL:https://plaza-mons.be/film/je-suis-toujours-la-im-still-here/2025-04-15
CATEGORIES:Drame
ATTACH;FMTTYPE=image/jpeg:https://plaza-mons.be/wp-content/uploads/2025/02/je-suis-toujours-la-poster.jpg
END:VEVENT
BEGIN:VEVENT
DTSTART;TZID=Europe/Brussels:20250415T203000
DTEND;TZID=Europe/Brussels:20250415T224600
DTSTAMP:20260420T094051
CREATED:20250224T133512Z
LAST-MODIFIED:20250428T115845Z
UID:85791-1744749000-1744757160@plaza-mons.be
SUMMARY:Mickey 17
DESCRIPTION:Pop & Clap ciné-club : Kill Bill: The Whole Bloody Affair\n\n\n\n\n\n			\n				Bande annonce\n			\n		 \n\n\n\n\n\n\n\n\n\n\n\n\n\n\n\n\n\n\n\n\n\n\n\n\n\n\n\n\n\n\n\n\n\n\n\n\n\n\n\n\n\n\n\n\n\n\n\n\n\n\n\n\n\nBande annonce
URL:https://plaza-mons.be/film/mickey-17/2025-04-15
CATEGORIES:Drame
ATTACH;FMTTYPE=image/jpeg:https://plaza-mons.be/wp-content/uploads/2025/02/mickey-17-poster.jpg
END:VEVENT
END:VCALENDAR