BEGIN:VCALENDAR
VERSION:2.0
PRODID:-//Plaza Arthouse Cinema - ECPv5.14.1//NONSGML v1.0//EN
CALSCALE:GREGORIAN
METHOD:PUBLISH
X-WR-CALNAME:Plaza Arthouse Cinema
X-ORIGINAL-URL:https://plaza-mons.be
X-WR-CALDESC:Events for Plaza Arthouse Cinema
REFRESH-INTERVAL;VALUE=DURATION:PT1H
X-Robots-Tag:noindex
X-PUBLISHED-TTL:PT1H
BEGIN:VTIMEZONE
TZID:Europe/Brussels
BEGIN:DAYLIGHT
TZOFFSETFROM:+0100
TZOFFSETTO:+0200
TZNAME:CEST
DTSTART:20250330T010000
END:DAYLIGHT
BEGIN:STANDARD
TZOFFSETFROM:+0200
TZOFFSETTO:+0100
TZNAME:CET
DTSTART:20251026T010000
END:STANDARD
END:VTIMEZONE
BEGIN:VEVENT
DTSTART;TZID=Europe/Brussels:20250409T140000
DTEND;TZID=Europe/Brussels:20250409T144500
DTSTAMP:20260424T205739
CREATED:20250425T095323Z
LAST-MODIFIED:20250518T000006Z
UID:86409-1744207200-1744209900@plaza-mons.be
SUMMARY:Chouette\, un jeu d'enfants !
DESCRIPTION:Super Charlie
URL:https://plaza-mons.be/film/chouette-un-jeu-denfants/2025-04-09
CATEGORIES:Animation
ATTACH;FMTTYPE=image/png:https://plaza-mons.be/wp-content/uploads/2025/03/chouette-un-jeu-denfants.png
END:VEVENT
BEGIN:VEVENT
DTSTART;TZID=Europe/Brussels:20250409T143000
DTEND;TZID=Europe/Brussels:20250409T155100
DTSTAMP:20260424T205739
CREATED:20250128T124252Z
LAST-MODIFIED:20250411T000939Z
UID:85568-1744209000-1744213860@plaza-mons.be
SUMMARY:Angelo dans la forêt mystérieuse
DESCRIPTION:Super Charlie\n\n\n\n\n\n			\n				Bande annonce\n			\n		 \n\n\n\n\n\n\n\n\n\n\n\n\n\n\n\n\n\n\n\n\n\n\n\n\n\n\n\n\n\n\n\n\n\n\n\n\n\n\n\n\n\n\n\n\n\n\n\n\n\n\n\n\n\nBande annonce
URL:https://plaza-mons.be/film/angelo-dans-la-foret-mysterieuse/2025-04-09
CATEGORIES:Animation
ATTACH;FMTTYPE=image/jpeg:https://plaza-mons.be/wp-content/uploads/2025/01/angelo-dans-la-foret-mysterieuse-poster.jpg
END:VEVENT
BEGIN:VEVENT
DTSTART;TZID=Europe/Brussels:20250409T150000
DTEND;TZID=Europe/Brussels:20250409T162600
DTSTAMP:20260424T205739
CREATED:20250331T144712Z
LAST-MODIFIED:20250505T000601Z
UID:85821-1744210800-1744215960@plaza-mons.be
SUMMARY:La légende de l'ours blanc
DESCRIPTION:Super Charlie\n\n\n\n\n\n			\n				Bande annonce\n			\n		 \n\n\n\n\n\n\n\n\n\n\n\n\n\n\n\n\n\n\n\n\n\n\n\n\n\n\n\n\n\n\n\n\n\n\n\n\n\n\n\n\n\n\n\n\n\n\n\n\n\n\n\n\n\nBande annonce
URL:https://plaza-mons.be/film/la-legende-de-lours-blanc/2025-04-09
CATEGORIES:Animation
ATTACH;FMTTYPE=image/jpeg:https://plaza-mons.be/wp-content/uploads/2025/03/la-legende-de-lours-blanc-poster.jpg
END:VEVENT
BEGIN:VEVENT
DTSTART;TZID=Europe/Brussels:20250409T150000
DTEND;TZID=Europe/Brussels:20250409T171500
DTSTAMP:20260424T205739
CREATED:20250224T135040Z
LAST-MODIFIED:20250505T000112Z
UID:85582-1744210800-1744218900@plaza-mons.be
SUMMARY:Je suis toujours là / I'm Still Here
DESCRIPTION:Super Charlie\n\n\n\n\n\n			\n				Bande annonce\n			\n		 \n\n\n\n\n\n\n\n\n\n\n\n\n\n\n\n\n\n\n\n\n\n\n\n\n\n\n\n\n\n\n\n\n\n\n\n\n\n\n\n\n\n\n\n\n\n\n\n\n\n\n\n\n\nBande annonce
URL:https://plaza-mons.be/film/je-suis-toujours-la-im-still-here/2025-04-09
CATEGORIES:Drame
ATTACH;FMTTYPE=image/jpeg:https://plaza-mons.be/wp-content/uploads/2025/02/je-suis-toujours-la-poster.jpg
END:VEVENT
BEGIN:VEVENT
DTSTART;TZID=Europe/Brussels:20250409T151500
DTEND;TZID=Europe/Brussels:20250409T151500
DTSTAMP:20260424T205739
CREATED:20250224T134124Z
LAST-MODIFIED:20250411T000156Z
UID:85608-1744211700-1744211700@plaza-mons.be
SUMMARY:Ma mère\, Dieu et Sylvie Vartan
DESCRIPTION:Super Charlie\n\n\n\n\n\n			\n				Bande annonce\n			\n		 \n\n\n\n\n\n\n\n\n\n\n\n\n\n\n\n\n\n\n\n\n\n\n\n\n\n\n\n\n\n\n\n\n\n\n\n\n\n\n\n\n\n\n\n\n\n\n\n\n\n\n\n\n\nBande annonce
URL:https://plaza-mons.be/film/ma-mere-dieu-et-sylvie-vartan/2025-04-09
CATEGORIES:Drame
ATTACH;FMTTYPE=image/jpeg:https://plaza-mons.be/wp-content/uploads/2025/02/ma-mere-dieu-et-sylvie-vartan-poster.jpg
END:VEVENT
BEGIN:VEVENT
DTSTART;TZID=Europe/Brussels:20250409T170000
DTEND;TZID=Europe/Brussels:20250409T190000
DTSTAMP:20260424T205739
CREATED:20250331T140453Z
LAST-MODIFIED:20250428T115915Z
UID:85883-1744218000-1744225200@plaza-mons.be
SUMMARY:Les graines du figuier sauvage / the Seed of the sacred fig
DESCRIPTION:Super Charlie\n\n\n\n\n\n			\n				Bande annonce\n			\n		 \n\n\n\n\n\n\n\n\n\n\n\n\n\n\n\n\n\n\n\n\n\n\n\n\n\n\n\n\n\n\n\n\n\n\n\n\n\n\n\n\n\n\n\n\n\n\n\n\n\n\n\n\n\nBande annonce
URL:https://plaza-mons.be/film/les-graines-du-figuier-sauvage-the-seed-of-the-sacred-fig/2025-04-09
CATEGORIES:Drame
ATTACH;FMTTYPE=image/jpeg:https://plaza-mons.be/wp-content/uploads/2025/03/les-graines-du-figuier-sauvage-poster.jpg
END:VEVENT
BEGIN:VEVENT
DTSTART;TZID=Europe/Brussels:20250409T174500
DTEND;TZID=Europe/Brussels:20250409T200100
DTSTAMP:20260424T205739
CREATED:20250224T133512Z
LAST-MODIFIED:20250428T115843Z
UID:85786-1744220700-1744228860@plaza-mons.be
SUMMARY:Mickey 17
DESCRIPTION:Super Charlie\n\n\n\n\n\n			\n				Bande annonce\n			\n		 \n\n\n\n\n\n\n\n\n\n\n\n\n\n\n\n\n\n\n\n\n\n\n\n\n\n\n\n\n\n\n\n\n\n\n\n\n\n\n\n\n\n\n\n\n\n\n\n\n\n\n\n\n\nBande annonce
URL:https://plaza-mons.be/film/mickey-17/2025-04-09
CATEGORIES:Drame
ATTACH;FMTTYPE=image/jpeg:https://plaza-mons.be/wp-content/uploads/2025/02/mickey-17-poster.jpg
END:VEVENT
BEGIN:VEVENT
DTSTART;TZID=Europe/Brussels:20250409T180000
DTEND;TZID=Europe/Brussels:20250409T193800
DTSTAMP:20260424T205739
CREATED:20250224T134930Z
LAST-MODIFIED:20250422T000140Z
UID:85701-1744221600-1744227480@plaza-mons.be
SUMMARY:Sarah Bernardt\, La Divine
DESCRIPTION:Super Charlie\n\n\n\n\n\n			\n				Bande annonce\n			\n		 \n\n\n\n\n\n\n\n\n\n\n\n\n\n\n\n\n\n\n\n\n\n\n\n\n\n\n\n\n\n\n\n\n\n\n\n\n\n\n\n\n\n\n\n\n\n\n\n\n\n\n\n\n\nBande annonce
URL:https://plaza-mons.be/film/sarah-bernardt-la-divine/2025-04-09
CATEGORIES:Biopic
ATTACH;FMTTYPE=image/jpeg:https://plaza-mons.be/wp-content/uploads/2025/02/sarah-bernhardt-la-divine-poster-def-be-original.jpg
END:VEVENT
BEGIN:VEVENT
DTSTART;TZID=Europe/Brussels:20250409T180000
DTEND;TZID=Europe/Brussels:20250409T200400
DTSTAMP:20260424T205739
CREATED:20250331T141851Z
LAST-MODIFIED:20250428T115808Z
UID:85915-1744221600-1744229040@plaza-mons.be
SUMMARY:Berlin\, été 42/ In Liebe\, Eure Hilde
DESCRIPTION:Super Charlie\n\n\n\n\n\n			\n				Bande annonce\n			\n		 \n\n\n\n\n\n\n\n\n\n\n\n\n\n\n\n\n\n\n\n\n\n\n\n\n\n\n\n\n\n\n\n\n\n\n\n\n\n\n\n\n\n\n\n\n\n\n\n\n\n\n\n\n\nBande annonce
URL:https://plaza-mons.be/film/berlin-ete-42-in-liebe-eure-hilde/2025-04-09
CATEGORIES:Drame
ATTACH;FMTTYPE=image/jpeg:https://plaza-mons.be/wp-content/uploads/2025/03/berlin-ete42.jpg
END:VEVENT
BEGIN:VEVENT
DTSTART;TZID=Europe/Brussels:20250409T203000
DTEND;TZID=Europe/Brussels:20250409T215600
DTSTAMP:20260424T205739
CREATED:20250331T142318Z
LAST-MODIFIED:20250428T115800Z
UID:85930-1744230600-1744235760@plaza-mons.be
SUMMARY:Poison
DESCRIPTION:Super Charlie
URL:https://plaza-mons.be/film/poison/2025-04-09
CATEGORIES:Drame
ATTACH;FMTTYPE=image/jpeg:https://plaza-mons.be/wp-content/uploads/2025/03/poison-poster.jpg
END:VEVENT
BEGIN:VEVENT
DTSTART;TZID=Europe/Brussels:20250409T203000
DTEND;TZID=Europe/Brussels:20250409T222800
DTSTAMP:20260424T205739
CREATED:20250331T142051Z
LAST-MODIFIED:20250512T000437Z
UID:85945-1744230600-1744237680@plaza-mons.be
SUMMARY:The Outrun
DESCRIPTION:Super Charlie\n\n\n\n\n\n			\n				Bande annonce\n			\n		 \n\n\n\n\n\n\n\n\n\n\n\n\n\n\n\n\n\n\n\n\n\n\n\n\n\n\n\n\n\n\n\n\n\n\n\n\n\n\n\n\n\n\n\n\n\n\n\n\n\n\n\n\n\nBande annonce
URL:https://plaza-mons.be/film/the-outrun/2025-04-09
CATEGORIES:Drame
ATTACH;FMTTYPE=image/jpeg:https://plaza-mons.be/wp-content/uploads/2025/03/the-outrun-poster-1.jpg
END:VEVENT
BEGIN:VEVENT
DTSTART;TZID=Europe/Brussels:20250409T203000
DTEND;TZID=Europe/Brussels:20250409T222900
DTSTAMP:20260424T205739
CREATED:20250331T142508Z
LAST-MODIFIED:20250428T115816Z
UID:85965-1744230600-1744237740@plaza-mons.be
SUMMARY:Vemiglio
DESCRIPTION:Super Charlie\n\n\n\n\n\n			\n				Bande annonce\n			\n		 \n\n\n\n\n\n\n\n\n\n\n\n\n\n\n\n\n\n\n\n\n\n\n\n\n\n\n\n\n\n\n\n\n\n\n\n\n\n\n\n\n\n\n\n\n\n\n\n\n\n\n\n\n\nBande annonce
URL:https://plaza-mons.be/film/vemiglio/2025-04-09
CATEGORIES:Drame
ATTACH;FMTTYPE=image/jpeg:https://plaza-mons.be/wp-content/uploads/2025/03/vermiglio-poster.jpg
END:VEVENT
BEGIN:VEVENT
DTSTART;TZID=Europe/Brussels:20250409T203000
DTEND;TZID=Europe/Brussels:20250409T224600
DTSTAMP:20260424T205739
CREATED:20250224T133933Z
LAST-MODIFIED:20250411T000332Z
UID:85773-1744230600-1744238760@plaza-mons.be
SUMMARY:Parthenope
DESCRIPTION:Super Charlie\n\n\n\n\n\n			\n				Bande annonce\n			\n		 \n\n\n\n\n\n\n\n\n\n\n\n\n\n\n\n\n\n\n\n\n\n\n\n\n\n\n\n\n\n\n\n\n\n\n\n\n\n\n\n\n\n\n\n\n\n\n\n\n\n\n\n\n\nBande annonce
URL:https://plaza-mons.be/film/parthenope/2025-04-09
CATEGORIES:Drame
ATTACH;FMTTYPE=image/jpeg:https://plaza-mons.be/wp-content/uploads/2025/02/parthenope-poster.jpg
END:VEVENT
END:VCALENDAR