BEGIN:VCALENDAR
VERSION:2.0
PRODID:-//Plaza Arthouse Cinema - ECPv5.14.1//NONSGML v1.0//EN
CALSCALE:GREGORIAN
METHOD:PUBLISH
X-WR-CALNAME:Plaza Arthouse Cinema
X-ORIGINAL-URL:https://plaza-mons.be
X-WR-CALDESC:Events for Plaza Arthouse Cinema
REFRESH-INTERVAL;VALUE=DURATION:PT1H
X-Robots-Tag:noindex
X-PUBLISHED-TTL:PT1H
BEGIN:VTIMEZONE
TZID:Europe/Brussels
BEGIN:DAYLIGHT
TZOFFSETFROM:+0100
TZOFFSETTO:+0200
TZNAME:CEST
DTSTART:20250330T010000
END:DAYLIGHT
BEGIN:STANDARD
TZOFFSETFROM:+0200
TZOFFSETTO:+0100
TZNAME:CET
DTSTART:20251026T010000
END:STANDARD
END:VTIMEZONE
BEGIN:VEVENT
DTSTART;TZID=Europe/Brussels:20250408T143000
DTEND;TZID=Europe/Brussels:20250408T165500
DTSTAMP:20260424T192049
CREATED:20250128T124517Z
LAST-MODIFIED:20250407T000026Z
UID:85538-1744122600-1744131300@plaza-mons.be
SUMMARY:A Complete Unknown
DESCRIPTION:Super Charlie\n\n\n\n\n\n			\n				Bande annonce\n			\n		 \n\n\n\n\n\n\n\n\n\n\n\n\n\n\n\n\n\n\n\n\n\n\n\n\n\n\n\n\n\n\n\n\n\n\n\n\n\n\n\n\n\n\n\n\n\n\n\n\n\n\n\n\n\nBande annonce
URL:https://plaza-mons.be/film/a-complete-unknown/2025-04-08
CATEGORIES:Biopic,Nouveauté
ATTACH;FMTTYPE=image/jpeg:https://plaza-mons.be/wp-content/uploads/2025/01/a-complete-unknown-poster.jpg
END:VEVENT
BEGIN:VEVENT
DTSTART;TZID=Europe/Brussels:20250408T150000
DTEND;TZID=Europe/Brussels:20250408T150000
DTSTAMP:20260424T192049
CREATED:20250224T134124Z
LAST-MODIFIED:20250411T000153Z
UID:85545-1744124400-1744124400@plaza-mons.be
SUMMARY:Ma mère\, Dieu et Sylvie Vartan
DESCRIPTION:Super Charlie\n\n\n\n\n\n			\n				Bande annonce\n			\n		 \n\n\n\n\n\n\n\n\n\n\n\n\n\n\n\n\n\n\n\n\n\n\n\n\n\n\n\n\n\n\n\n\n\n\n\n\n\n\n\n\n\n\n\n\n\n\n\n\n\n\n\n\n\nBande annonce
URL:https://plaza-mons.be/film/ma-mere-dieu-et-sylvie-vartan/2025-04-08
CATEGORIES:Drame
ATTACH;FMTTYPE=image/jpeg:https://plaza-mons.be/wp-content/uploads/2025/02/ma-mere-dieu-et-sylvie-vartan-poster.jpg
END:VEVENT
BEGIN:VEVENT
DTSTART;TZID=Europe/Brussels:20250408T150000
DTEND;TZID=Europe/Brussels:20250408T162600
DTSTAMP:20260424T192049
CREATED:20250331T135610Z
LAST-MODIFIED:20250428T115904Z
UID:85860-1744124400-1744129560@plaza-mons.be
SUMMARY:Aimer perdre
DESCRIPTION:Super Charlie\n\n\n\n\n\n			\n				Bande annonce\n			\n		 \n\n\n\n\n\n\n\n\n\n\n\n\n\n\n\n\n\n\n\n\n\n\n\n\n\n\n\n\n\n\n\n\n\n\n\n\n\n\n\n\n\n\n\n\n\n\n\n\n\n\n\n\n\nBande annonce
URL:https://plaza-mons.be/film/aimer-perdre-2/2025-04-08
CATEGORIES:Drame
ATTACH;FMTTYPE=image/jpeg:https://plaza-mons.be/wp-content/uploads/2025/03/aimer-perdre-poster.jpg
END:VEVENT
BEGIN:VEVENT
DTSTART;TZID=Europe/Brussels:20250408T150000
DTEND;TZID=Europe/Brussels:20250408T170000
DTSTAMP:20260424T192049
CREATED:20250331T140453Z
LAST-MODIFIED:20250428T115915Z
UID:85882-1744124400-1744131600@plaza-mons.be
SUMMARY:Les graines du figuier sauvage / the Seed of the sacred fig
DESCRIPTION:Super Charlie\n\n\n\n\n\n			\n				Bande annonce\n			\n		 \n\n\n\n\n\n\n\n\n\n\n\n\n\n\n\n\n\n\n\n\n\n\n\n\n\n\n\n\n\n\n\n\n\n\n\n\n\n\n\n\n\n\n\n\n\n\n\n\n\n\n\n\n\nBande annonce
URL:https://plaza-mons.be/film/les-graines-du-figuier-sauvage-the-seed-of-the-sacred-fig/2025-04-08
CATEGORIES:Drame
ATTACH;FMTTYPE=image/jpeg:https://plaza-mons.be/wp-content/uploads/2025/03/les-graines-du-figuier-sauvage-poster.jpg
END:VEVENT
BEGIN:VEVENT
DTSTART;TZID=Europe/Brussels:20250408T170000
DTEND;TZID=Europe/Brussels:20250408T191700
DTSTAMP:20260424T192049
CREATED:20250224T131738Z
LAST-MODIFIED:20250407T000145Z
UID:85564-1744131600-1744139820@plaza-mons.be
SUMMARY:Queer
DESCRIPTION:Super Charlie\n\n\n\n\n\n			\n				Bande annonce\n			\n		 \n\n\n\n\n\n\n\n\n\n\n\n\n\n\n\n\n\n\n\n\n\n\n\n\n\n\n\n\n\n\n\n\n\n\n\n\n\n\n\n\n\n\n\n\n\n\n\n\n\n\n\n\n\nBande annonce
URL:https://plaza-mons.be/film/queer/2025-04-08
CATEGORIES:Drame
ATTACH;FMTTYPE=image/jpeg:https://plaza-mons.be/wp-content/uploads/2025/02/queer-poster.jpg
END:VEVENT
BEGIN:VEVENT
DTSTART;TZID=Europe/Brussels:20250408T174500
DTEND;TZID=Europe/Brussels:20250408T200000
DTSTAMP:20260424T192049
CREATED:20250224T135040Z
LAST-MODIFIED:20250505T000112Z
UID:85581-1744134300-1744142400@plaza-mons.be
SUMMARY:Je suis toujours là / I'm Still Here
DESCRIPTION:Super Charlie\n\n\n\n\n\n			\n				Bande annonce\n			\n		 \n\n\n\n\n\n\n\n\n\n\n\n\n\n\n\n\n\n\n\n\n\n\n\n\n\n\n\n\n\n\n\n\n\n\n\n\n\n\n\n\n\n\n\n\n\n\n\n\n\n\n\n\n\nBande annonce
URL:https://plaza-mons.be/film/je-suis-toujours-la-im-still-here/2025-04-08
CATEGORIES:Drame
ATTACH;FMTTYPE=image/jpeg:https://plaza-mons.be/wp-content/uploads/2025/02/je-suis-toujours-la-poster.jpg
END:VEVENT
BEGIN:VEVENT
DTSTART;TZID=Europe/Brussels:20250408T180000
DTEND;TZID=Europe/Brussels:20250408T193800
DTSTAMP:20260424T192049
CREATED:20250224T134930Z
LAST-MODIFIED:20250422T000139Z
UID:85700-1744135200-1744141080@plaza-mons.be
SUMMARY:Sarah Bernardt\, La Divine
DESCRIPTION:Super Charlie\n\n\n\n\n\n			\n				Bande annonce\n			\n		 \n\n\n\n\n\n\n\n\n\n\n\n\n\n\n\n\n\n\n\n\n\n\n\n\n\n\n\n\n\n\n\n\n\n\n\n\n\n\n\n\n\n\n\n\n\n\n\n\n\n\n\n\n\nBande annonce
URL:https://plaza-mons.be/film/sarah-bernardt-la-divine/2025-04-08
CATEGORIES:Biopic
ATTACH;FMTTYPE=image/jpeg:https://plaza-mons.be/wp-content/uploads/2025/02/sarah-bernhardt-la-divine-poster-def-be-original.jpg
END:VEVENT
BEGIN:VEVENT
DTSTART;TZID=Europe/Brussels:20250408T181500
DTEND;TZID=Europe/Brussels:20250408T200000
DTSTAMP:20260424T192049
CREATED:20250331T135231Z
LAST-MODIFIED:20250428T115910Z
UID:85840-1744136100-1744142400@plaza-mons.be
SUMMARY:Ernest Cole\, Lost and Found
DESCRIPTION:Super Charlie\n\n\n\n\n\n			\n				Bande annonce\n			\n		 \n\n\n\n\n\n\n\n\n\n\n\n\n\n\n\n\n\n\n\n\n\n\n\n\n\n\n\n\n\n\n\n\n\n\n\n\n\n\n\n\n\n\n\n\n\n\n\n\n\n\n\n\n\nBande annonce
URL:https://plaza-mons.be/film/ernest-cole-lost-and-found/2025-04-08
CATEGORIES:Biopic
ATTACH;FMTTYPE=image/jpeg:https://plaza-mons.be/wp-content/uploads/2025/03/ernest-cole-lost-and-found-poster.jpg
END:VEVENT
BEGIN:VEVENT
DTSTART;TZID=Europe/Brussels:20250408T200000
DTEND;TZID=Europe/Brussels:20250408T221600
DTSTAMP:20260424T192049
CREATED:20250327T132616Z
LAST-MODIFIED:20250407T000919Z
UID:85492-1744142400-1744150560@plaza-mons.be
SUMMARY:Ciné Genre.S : All Shall Be Well
DESCRIPTION:Super Charlie\n\n\n\n\n\n			\n				Bande annonce\n			\n		 \n\n\n\n\n\n\n\n\n\n\n\n\n\n\n\n\n\n\n\n\n\n\n\n\n\n\n\n\n\n\n\n\n\n\n\n\n\n\n\n\n\n\n\n\n\n\n\n\n\n\n\n\n\nBande annonce
URL:https://plaza-mons.be/film/cine-genre-s-all-shall-be-well/2025-04-08
CATEGORIES:Avant-première,Drame
ATTACH;FMTTYPE=image/jpeg:https://plaza-mons.be/wp-content/uploads/2025/03/all-shall-be-well-poster.jpg
END:VEVENT
BEGIN:VEVENT
DTSTART;TZID=Europe/Brussels:20250408T203000
DTEND;TZID=Europe/Brussels:20250408T213000
DTSTAMP:20260424T192050
CREATED:20250224T134620Z
LAST-MODIFIED:20250411T000233Z
UID:85688-1744144200-1744147800@plaza-mons.be
SUMMARY:Soft Leaves
DESCRIPTION:Super Charlie\n\n\n\n\n\n			\n				Bande annonce\n			\n		 \n\n\n\n\n\n\n\n\n\n\n\n\n\n\n\n\n\n\n\n\n\n\n\n\n\n\n\n\n\n\n\n\n\n\n\n\n\n\n\n\n\n\n\n\n\n\n\n\n\n\n\n\n\nBande annonce
URL:https://plaza-mons.be/film/soft-leaves/2025-04-08
CATEGORIES:Drame
ATTACH;FMTTYPE=image/jpeg:https://plaza-mons.be/wp-content/uploads/2025/02/soft-leaves-poster.jpg
END:VEVENT
BEGIN:VEVENT
DTSTART;TZID=Europe/Brussels:20250408T203000
DTEND;TZID=Europe/Brussels:20250408T224600
DTSTAMP:20260424T192050
CREATED:20250224T133512Z
LAST-MODIFIED:20250428T115842Z
UID:85552-1744144200-1744152360@plaza-mons.be
SUMMARY:Mickey 17
DESCRIPTION:Super Charlie\n\n\n\n\n\n			\n				Bande annonce\n			\n		 \n\n\n\n\n\n\n\n\n\n\n\n\n\n\n\n\n\n\n\n\n\n\n\n\n\n\n\n\n\n\n\n\n\n\n\n\n\n\n\n\n\n\n\n\n\n\n\n\n\n\n\n\n\nBande annonce
URL:https://plaza-mons.be/film/mickey-17/2025-04-08
CATEGORIES:Drame
ATTACH;FMTTYPE=image/jpeg:https://plaza-mons.be/wp-content/uploads/2025/02/mickey-17-poster.jpg
END:VEVENT
BEGIN:VEVENT
DTSTART;TZID=Europe/Brussels:20250408T203000
DTEND;TZID=Europe/Brussels:20250408T224600
DTSTAMP:20260424T192050
CREATED:20250224T133933Z
LAST-MODIFIED:20250411T000329Z
UID:85559-1744144200-1744152360@plaza-mons.be
SUMMARY:Parthenope
DESCRIPTION:Super Charlie\n\n\n\n\n\n			\n				Bande annonce\n			\n		 \n\n\n\n\n\n\n\n\n\n\n\n\n\n\n\n\n\n\n\n\n\n\n\n\n\n\n\n\n\n\n\n\n\n\n\n\n\n\n\n\n\n\n\n\n\n\n\n\n\n\n\n\n\nBande annonce
URL:https://plaza-mons.be/film/parthenope/2025-04-08
CATEGORIES:Drame
ATTACH;FMTTYPE=image/jpeg:https://plaza-mons.be/wp-content/uploads/2025/02/parthenope-poster.jpg
END:VEVENT
END:VCALENDAR