BEGIN:VCALENDAR
VERSION:2.0
PRODID:-//Plaza Arthouse Cinema - ECPv5.14.1//NONSGML v1.0//EN
CALSCALE:GREGORIAN
METHOD:PUBLISH
X-WR-CALNAME:Plaza Arthouse Cinema
X-ORIGINAL-URL:https://plaza-mons.be
X-WR-CALDESC:Events for Plaza Arthouse Cinema
REFRESH-INTERVAL;VALUE=DURATION:PT1H
X-Robots-Tag:noindex
X-PUBLISHED-TTL:PT1H
BEGIN:VTIMEZONE
TZID:Europe/Brussels
BEGIN:DAYLIGHT
TZOFFSETFROM:+0100
TZOFFSETTO:+0200
TZNAME:CEST
DTSTART:20250330T010000
END:DAYLIGHT
BEGIN:STANDARD
TZOFFSETFROM:+0200
TZOFFSETTO:+0100
TZNAME:CET
DTSTART:20251026T010000
END:STANDARD
END:VTIMEZONE
BEGIN:VEVENT
DTSTART;TZID=Europe/Brussels:20250329T140000
DTEND;TZID=Europe/Brussels:20250329T152100
DTSTAMP:20260425T044650
CREATED:20250224T135510Z
LAST-MODIFIED:20250329T000008Z
UID:83854-1743256800-1743261660@plaza-mons.be
SUMMARY:Séance-débat : La plus précieuse  des marchandises
DESCRIPTION:Super Charlie\n\n\n\n\n\n			\n				Bande annonce\n			\n		 \n\n\n\n\n\n\n\n\n\n\n\n\n\n\n\n\n\n\n\n\n\n\n\n\n\n\n\n\n\n\n\n\n\n\n\n\n\n\n\n\n\n\n\n\n\n\n\n\n\n\n\n\n\nBande annonce
URL:https://plaza-mons.be/film/seance-debat-la-plus-precieuse-des-marchandises/2025-03-29
CATEGORIES:Avant-première
ATTACH;FMTTYPE=image/jpeg:https://plaza-mons.be/wp-content/uploads/2025/02/la-plus-precieuse-des-marchandises-poster.jpg
END:VEVENT
BEGIN:VEVENT
DTSTART;TZID=Europe/Brussels:20250329T140000
DTEND;TZID=Europe/Brussels:20250329T152300
DTSTAMP:20260425T044650
CREATED:20250224T133121Z
LAST-MODIFIED:20250331T125609Z
UID:83426-1743256800-1743261780@plaza-mons.be
SUMMARY:Merckx
DESCRIPTION:Super Charlie\n\n\n\n\n\n			\n				Bande annonce\n			\n		 \n\n\n\n\n\n\n\n\n\n\n\n\n\n\n\n\n\n\n\n\n\n\n\n\n\n\n\n\n\n\n\n\n\n\n\n\n\n\n\n\n\n\n\n\n\n\n\n\n\n\n\n\n\nBande annonce
URL:https://plaza-mons.be/film/merckx/2025-03-29
CATEGORIES:Documentaire
ATTACH;FMTTYPE=image/png:https://plaza-mons.be/wp-content/uploads/2025/02/merckx-poster.png
END:VEVENT
BEGIN:VEVENT
DTSTART;TZID=Europe/Brussels:20250329T150000
DTEND;TZID=Europe/Brussels:20250329T150000
DTSTAMP:20260425T044650
CREATED:20250224T134124Z
LAST-MODIFIED:20250411T000116Z
UID:83455-1743260400-1743260400@plaza-mons.be
SUMMARY:Ma mère\, Dieu et Sylvie Vartan
DESCRIPTION:Super Charlie\n\n\n\n\n\n			\n				Bande annonce\n			\n		 \n\n\n\n\n\n\n\n\n\n\n\n\n\n\n\n\n\n\n\n\n\n\n\n\n\n\n\n\n\n\n\n\n\n\n\n\n\n\n\n\n\n\n\n\n\n\n\n\n\n\n\n\n\nBande annonce
URL:https://plaza-mons.be/film/ma-mere-dieu-et-sylvie-vartan/2025-03-29
CATEGORIES:Drame
ATTACH;FMTTYPE=image/jpeg:https://plaza-mons.be/wp-content/uploads/2025/02/ma-mere-dieu-et-sylvie-vartan-poster.jpg
END:VEVENT
BEGIN:VEVENT
DTSTART;TZID=Europe/Brussels:20250329T150000
DTEND;TZID=Europe/Brussels:20250329T164100
DTSTAMP:20260425T044650
CREATED:20250224T132334Z
LAST-MODIFIED:20250329T000137Z
UID:83392-1743260400-1743266460@plaza-mons.be
SUMMARY:Ponyo sur la falaise VF
DESCRIPTION:Super Charlie
URL:https://plaza-mons.be/film/ponyo-sur-la-falaise-vf/2025-03-29
ATTACH;FMTTYPE=image/jpeg:https://plaza-mons.be/wp-content/uploads/2025/02/ponyo-sur-la-falaise-poster.jpeg
END:VEVENT
BEGIN:VEVENT
DTSTART;TZID=Europe/Brussels:20250329T160000
DTEND;TZID=Europe/Brussels:20250329T170000
DTSTAMP:20260425T044650
CREATED:20250224T134620Z
LAST-MODIFIED:20250411T000231Z
UID:83489-1743264000-1743267600@plaza-mons.be
SUMMARY:Soft Leaves
DESCRIPTION:Super Charlie\n\n\n\n\n\n			\n				Bande annonce\n			\n		 \n\n\n\n\n\n\n\n\n\n\n\n\n\n\n\n\n\n\n\n\n\n\n\n\n\n\n\n\n\n\n\n\n\n\n\n\n\n\n\n\n\n\n\n\n\n\n\n\n\n\n\n\n\nBande annonce
URL:https://plaza-mons.be/film/soft-leaves/2025-03-29
CATEGORIES:Drame
ATTACH;FMTTYPE=image/jpeg:https://plaza-mons.be/wp-content/uploads/2025/02/soft-leaves-poster.jpg
END:VEVENT
BEGIN:VEVENT
DTSTART;TZID=Europe/Brussels:20250329T170000
DTEND;TZID=Europe/Brussels:20250329T183800
DTSTAMP:20260425T044650
CREATED:20250224T134930Z
LAST-MODIFIED:20250422T000132Z
UID:83495-1743267600-1743273480@plaza-mons.be
SUMMARY:Sarah Bernardt\, La Divine
DESCRIPTION:Super Charlie\n\n\n\n\n\n			\n				Bande annonce\n			\n		 \n\n\n\n\n\n\n\n\n\n\n\n\n\n\n\n\n\n\n\n\n\n\n\n\n\n\n\n\n\n\n\n\n\n\n\n\n\n\n\n\n\n\n\n\n\n\n\n\n\n\n\n\n\nBande annonce
URL:https://plaza-mons.be/film/sarah-bernardt-la-divine/2025-03-29
CATEGORIES:Biopic
ATTACH;FMTTYPE=image/jpeg:https://plaza-mons.be/wp-content/uploads/2025/02/sarah-bernhardt-la-divine-poster-def-be-original.jpg
END:VEVENT
BEGIN:VEVENT
DTSTART;TZID=Europe/Brussels:20250329T173000
DTEND;TZID=Europe/Brussels:20250329T194700
DTSTAMP:20260425T044650
CREATED:20250224T131738Z
LAST-MODIFIED:20250407T000139Z
UID:83362-1743269400-1743277620@plaza-mons.be
SUMMARY:Queer
DESCRIPTION:Super Charlie\n\n\n\n\n\n			\n				Bande annonce\n			\n		 \n\n\n\n\n\n\n\n\n\n\n\n\n\n\n\n\n\n\n\n\n\n\n\n\n\n\n\n\n\n\n\n\n\n\n\n\n\n\n\n\n\n\n\n\n\n\n\n\n\n\n\n\n\nBande annonce
URL:https://plaza-mons.be/film/queer/2025-03-29
CATEGORIES:Drame
ATTACH;FMTTYPE=image/jpeg:https://plaza-mons.be/wp-content/uploads/2025/02/queer-poster.jpg
END:VEVENT
BEGIN:VEVENT
DTSTART;TZID=Europe/Brussels:20250329T174500
DTEND;TZID=Europe/Brussels:20250329T200000
DTSTAMP:20260425T044650
CREATED:20250224T135040Z
LAST-MODIFIED:20250505T000106Z
UID:83504-1743270300-1743278400@plaza-mons.be
SUMMARY:Je suis toujours là / I'm Still Here
DESCRIPTION:Super Charlie\n\n\n\n\n\n			\n				Bande annonce\n			\n		 \n\n\n\n\n\n\n\n\n\n\n\n\n\n\n\n\n\n\n\n\n\n\n\n\n\n\n\n\n\n\n\n\n\n\n\n\n\n\n\n\n\n\n\n\n\n\n\n\n\n\n\n\n\nBande annonce
URL:https://plaza-mons.be/film/je-suis-toujours-la-im-still-here/2025-03-29
CATEGORIES:Drame
ATTACH;FMTTYPE=image/jpeg:https://plaza-mons.be/wp-content/uploads/2025/02/je-suis-toujours-la-poster.jpg
END:VEVENT
BEGIN:VEVENT
DTSTART;TZID=Europe/Brussels:20250329T180000
DTEND;TZID=Europe/Brussels:20250329T192200
DTSTAMP:20260425T044650
CREATED:20250224T132657Z
LAST-MODIFIED:20250331T124724Z
UID:83411-1743271200-1743276120@plaza-mons.be
SUMMARY:When The Light Breaks
DESCRIPTION:Super Charlie\n\n\n\n\n\n			\n				Bande annonce\n			\n		 \n\n\n\n\n\n\n\n\n\n\n\n\n\n\n\n\n\n\n\n\n\n\n\n\n\n\n\n\n\n\n\n\n\n\n\n\n\n\n\n\n\n\n\n\n\n\n\n\n\n\n\n\n\nBande annonce
URL:https://plaza-mons.be/film/83400/2025-03-29
CATEGORIES:Drame
ATTACH;FMTTYPE=image/jpeg:https://plaza-mons.be/wp-content/uploads/2025/02/when-the-light-breaks-affiche-be-original.jpg
END:VEVENT
BEGIN:VEVENT
DTSTART;TZID=Europe/Brussels:20250329T193000
DTEND;TZID=Europe/Brussels:20250329T223000
DTSTAMP:20260425T044650
CREATED:20250128T112504Z
LAST-MODIFIED:20250331T124944Z
UID:83207-1743276600-1743287400@plaza-mons.be
SUMMARY:The Brutalist
DESCRIPTION:Super Charlie\n\n\n\n\n\n			\n				Bande annonce\n			\n		 \n\n\n\n\n\n\n\n\n\n\n\n\n\n\n\n\n\n\n\n\n\n\n\n\n\n\n\n\n\n\n\n\n\n\n\n\n\n\n\n\n\n\n\n\n\n\n\n\n\n\n\n\n\nBande annonce
URL:https://plaza-mons.be/film/the-brutalist/2025-03-29
CATEGORIES:Drame
ATTACH;FMTTYPE=image/jpeg:https://plaza-mons.be/wp-content/uploads/2025/01/the-brutalist-poster.jpg
END:VEVENT
BEGIN:VEVENT
DTSTART;TZID=Europe/Brussels:20250329T203000
DTEND;TZID=Europe/Brussels:20250329T220800
DTSTAMP:20260425T044650
CREATED:20250224T135655Z
LAST-MODIFIED:20250324T000501Z
UID:83855-1743280200-1743286080@plaza-mons.be
SUMMARY:Décentralisation Offscreen : Oddity
DESCRIPTION:Super Charlie\n\n\n\n\n\n			\n				Bande annonce\n			\n		 \n\n\n\n\n\n\n\n\n\n\n\n\n\n\n\n\n\n\n\n\n\n\n\n\n\n\n\n\n\n\n\n\n\n\n\n\n\n\n\n\n\n\n\n\n\n\n\n\n\n\n\n\n\nBande annonce
URL:https://plaza-mons.be/film/decentralisation-offscreen-oddity/2025-03-29
CATEGORIES:Avant-première
ATTACH;FMTTYPE=image/jpeg:https://plaza-mons.be/wp-content/uploads/2025/02/oddity-poster.jpg
END:VEVENT
BEGIN:VEVENT
DTSTART;TZID=Europe/Brussels:20250329T203000
DTEND;TZID=Europe/Brussels:20250329T224600
DTSTAMP:20260425T044650
CREATED:20250224T133512Z
LAST-MODIFIED:20250428T115837Z
UID:83470-1743280200-1743288360@plaza-mons.be
SUMMARY:Mickey 17
DESCRIPTION:Super Charlie\n\n\n\n\n\n			\n				Bande annonce\n			\n		 \n\n\n\n\n\n\n\n\n\n\n\n\n\n\n\n\n\n\n\n\n\n\n\n\n\n\n\n\n\n\n\n\n\n\n\n\n\n\n\n\n\n\n\n\n\n\n\n\n\n\n\n\n\nBande annonce
URL:https://plaza-mons.be/film/mickey-17/2025-03-29
CATEGORIES:Drame
ATTACH;FMTTYPE=image/jpeg:https://plaza-mons.be/wp-content/uploads/2025/02/mickey-17-poster.jpg
END:VEVENT
BEGIN:VEVENT
DTSTART;TZID=Europe/Brussels:20250329T203000
DTEND;TZID=Europe/Brussels:20250329T224600
DTSTAMP:20260425T044650
CREATED:20250224T133933Z
LAST-MODIFIED:20250411T000300Z
UID:83483-1743280200-1743288360@plaza-mons.be
SUMMARY:Parthenope
DESCRIPTION:Super Charlie\n\n\n\n\n\n			\n				Bande annonce\n			\n		 \n\n\n\n\n\n\n\n\n\n\n\n\n\n\n\n\n\n\n\n\n\n\n\n\n\n\n\n\n\n\n\n\n\n\n\n\n\n\n\n\n\n\n\n\n\n\n\n\n\n\n\n\n\nBande annonce
URL:https://plaza-mons.be/film/parthenope/2025-03-29
CATEGORIES:Drame
ATTACH;FMTTYPE=image/jpeg:https://plaza-mons.be/wp-content/uploads/2025/02/parthenope-poster.jpg
END:VEVENT
END:VCALENDAR