BEGIN:VCALENDAR
VERSION:2.0
PRODID:-//Plaza Arthouse Cinema - ECPv5.14.1//NONSGML v1.0//EN
CALSCALE:GREGORIAN
METHOD:PUBLISH
X-WR-CALNAME:Plaza Arthouse Cinema
X-ORIGINAL-URL:https://plaza-mons.be
X-WR-CALDESC:Events for Plaza Arthouse Cinema
REFRESH-INTERVAL;VALUE=DURATION:PT1H
X-Robots-Tag:noindex
X-PUBLISHED-TTL:PT1H
BEGIN:VTIMEZONE
TZID:Europe/Brussels
BEGIN:DAYLIGHT
TZOFFSETFROM:+0100
TZOFFSETTO:+0200
TZNAME:CEST
DTSTART:20250330T010000
END:DAYLIGHT
BEGIN:STANDARD
TZOFFSETFROM:+0200
TZOFFSETTO:+0100
TZNAME:CET
DTSTART:20251026T010000
END:STANDARD
END:VTIMEZONE
BEGIN:VEVENT
DTSTART;TZID=Europe/Brussels:20250328T150000
DTEND;TZID=Europe/Brussels:20250328T162300
DTSTAMP:20260425T044646
CREATED:20250224T133121Z
LAST-MODIFIED:20250331T125609Z
UID:83425-1743174000-1743178980@plaza-mons.be
SUMMARY:Merckx
DESCRIPTION:Super Charlie\n\n\n\n\n\n			\n				Bande annonce\n			\n		 \n\n\n\n\n\n\n\n\n\n\n\n\n\n\n\n\n\n\n\n\n\n\n\n\n\n\n\n\n\n\n\n\n\n\n\n\n\n\n\n\n\n\n\n\n\n\n\n\n\n\n\n\n\nBande annonce
URL:https://plaza-mons.be/film/merckx/2025-03-28
CATEGORIES:Documentaire
ATTACH;FMTTYPE=image/png:https://plaza-mons.be/wp-content/uploads/2025/02/merckx-poster.png
END:VEVENT
BEGIN:VEVENT
DTSTART;TZID=Europe/Brussels:20250328T150000
DTEND;TZID=Europe/Brussels:20250328T163400
DTSTAMP:20260425T044646
CREATED:20250224T133018Z
LAST-MODIFIED:20250407T000308Z
UID:83441-1743174000-1743179640@plaza-mons.be
SUMMARY:Mémoires d'un escargot  / Memoir of a Snail
DESCRIPTION:Super Charlie\n\n\n\n\n\n			\n				Bande annonce\n			\n		 \n\n\n\n\n\n\n\n\n\n\n\n\n\n\n\n\n\n\n\n\n\n\n\n\n\n\n\n\n\n\n\n\n\n\n\n\n\n\n\n\n\n\n\n\n\n\n\n\n\n\n\n\n\nBande annonce
URL:https://plaza-mons.be/film/memoires-dun-escargot-memoir-of-a-snail/2025-03-28
CATEGORIES:Animation
ATTACH;FMTTYPE=image/jpeg:https://plaza-mons.be/wp-content/uploads/2025/02/memoir-of-a-snail-poster-1.jpg
END:VEVENT
BEGIN:VEVENT
DTSTART;TZID=Europe/Brussels:20250328T150000
DTEND;TZID=Europe/Brussels:20250328T171500
DTSTAMP:20260425T044646
CREATED:20250224T135040Z
LAST-MODIFIED:20250505T000105Z
UID:83502-1743174000-1743182100@plaza-mons.be
SUMMARY:Je suis toujours là / I'm Still Here
DESCRIPTION:Super Charlie\n\n\n\n\n\n			\n				Bande annonce\n			\n		 \n\n\n\n\n\n\n\n\n\n\n\n\n\n\n\n\n\n\n\n\n\n\n\n\n\n\n\n\n\n\n\n\n\n\n\n\n\n\n\n\n\n\n\n\n\n\n\n\n\n\n\n\n\nBande annonce
URL:https://plaza-mons.be/film/je-suis-toujours-la-im-still-here/2025-03-28
CATEGORIES:Drame
ATTACH;FMTTYPE=image/jpeg:https://plaza-mons.be/wp-content/uploads/2025/02/je-suis-toujours-la-poster.jpg
END:VEVENT
BEGIN:VEVENT
DTSTART;TZID=Europe/Brussels:20250328T153000
DTEND;TZID=Europe/Brussels:20250328T170800
DTSTAMP:20260425T044646
CREATED:20250224T134930Z
LAST-MODIFIED:20250422T000131Z
UID:83494-1743175800-1743181680@plaza-mons.be
SUMMARY:Sarah Bernardt\, La Divine
DESCRIPTION:Super Charlie\n\n\n\n\n\n			\n				Bande annonce\n			\n		 \n\n\n\n\n\n\n\n\n\n\n\n\n\n\n\n\n\n\n\n\n\n\n\n\n\n\n\n\n\n\n\n\n\n\n\n\n\n\n\n\n\n\n\n\n\n\n\n\n\n\n\n\n\nBande annonce
URL:https://plaza-mons.be/film/sarah-bernardt-la-divine/2025-03-28
CATEGORIES:Biopic
ATTACH;FMTTYPE=image/jpeg:https://plaza-mons.be/wp-content/uploads/2025/02/sarah-bernhardt-la-divine-poster-def-be-original.jpg
END:VEVENT
BEGIN:VEVENT
DTSTART;TZID=Europe/Brussels:20250328T174500
DTEND;TZID=Europe/Brussels:20250328T200100
DTSTAMP:20260425T044646
CREATED:20250224T133512Z
LAST-MODIFIED:20250428T115836Z
UID:83469-1743183900-1743192060@plaza-mons.be
SUMMARY:Mickey 17
DESCRIPTION:Super Charlie\n\n\n\n\n\n			\n				Bande annonce\n			\n		 \n\n\n\n\n\n\n\n\n\n\n\n\n\n\n\n\n\n\n\n\n\n\n\n\n\n\n\n\n\n\n\n\n\n\n\n\n\n\n\n\n\n\n\n\n\n\n\n\n\n\n\n\n\nBande annonce
URL:https://plaza-mons.be/film/mickey-17/2025-03-28
CATEGORIES:Drame
ATTACH;FMTTYPE=image/jpeg:https://plaza-mons.be/wp-content/uploads/2025/02/mickey-17-poster.jpg
END:VEVENT
BEGIN:VEVENT
DTSTART;TZID=Europe/Brussels:20250328T174500
DTEND;TZID=Europe/Brussels:20250328T200200
DTSTAMP:20260425T044646
CREATED:20250224T131738Z
LAST-MODIFIED:20250407T000138Z
UID:83361-1743183900-1743192120@plaza-mons.be
SUMMARY:Queer
DESCRIPTION:Super Charlie\n\n\n\n\n\n			\n				Bande annonce\n			\n		 \n\n\n\n\n\n\n\n\n\n\n\n\n\n\n\n\n\n\n\n\n\n\n\n\n\n\n\n\n\n\n\n\n\n\n\n\n\n\n\n\n\n\n\n\n\n\n\n\n\n\n\n\n\nBande annonce
URL:https://plaza-mons.be/film/queer/2025-03-28
CATEGORIES:Drame
ATTACH;FMTTYPE=image/jpeg:https://plaza-mons.be/wp-content/uploads/2025/02/queer-poster.jpg
END:VEVENT
BEGIN:VEVENT
DTSTART;TZID=Europe/Brussels:20250328T180000
DTEND;TZID=Europe/Brussels:20250328T180000
DTSTAMP:20260425T044646
CREATED:20250224T134124Z
LAST-MODIFIED:20250411T000112Z
UID:83454-1743184800-1743184800@plaza-mons.be
SUMMARY:Ma mère\, Dieu et Sylvie Vartan
DESCRIPTION:Super Charlie\n\n\n\n\n\n			\n				Bande annonce\n			\n		 \n\n\n\n\n\n\n\n\n\n\n\n\n\n\n\n\n\n\n\n\n\n\n\n\n\n\n\n\n\n\n\n\n\n\n\n\n\n\n\n\n\n\n\n\n\n\n\n\n\n\n\n\n\nBande annonce
URL:https://plaza-mons.be/film/ma-mere-dieu-et-sylvie-vartan/2025-03-28
CATEGORIES:Drame
ATTACH;FMTTYPE=image/jpeg:https://plaza-mons.be/wp-content/uploads/2025/02/ma-mere-dieu-et-sylvie-vartan-poster.jpg
END:VEVENT
BEGIN:VEVENT
DTSTART;TZID=Europe/Brussels:20250328T180000
DTEND;TZID=Europe/Brussels:20250328T192200
DTSTAMP:20260425T044646
CREATED:20250224T132657Z
LAST-MODIFIED:20250331T124723Z
UID:83410-1743184800-1743189720@plaza-mons.be
SUMMARY:When The Light Breaks
DESCRIPTION:Super Charlie\n\n\n\n\n\n			\n				Bande annonce\n			\n		 \n\n\n\n\n\n\n\n\n\n\n\n\n\n\n\n\n\n\n\n\n\n\n\n\n\n\n\n\n\n\n\n\n\n\n\n\n\n\n\n\n\n\n\n\n\n\n\n\n\n\n\n\n\nBande annonce
URL:https://plaza-mons.be/film/83400/2025-03-28
CATEGORIES:Drame
ATTACH;FMTTYPE=image/jpeg:https://plaza-mons.be/wp-content/uploads/2025/02/when-the-light-breaks-affiche-be-original.jpg
END:VEVENT
BEGIN:VEVENT
DTSTART;TZID=Europe/Brussels:20250328T203000
DTEND;TZID=Europe/Brussels:20250328T221300
DTSTAMP:20260425T044646
CREATED:20250224T132035Z
LAST-MODIFIED:20250331T124923Z
UID:83383-1743193800-1743199980@plaza-mons.be
SUMMARY:Diamant brut
DESCRIPTION:Super Charlie\n\n\n\n\n\n			\n				Bande annonce\n			\n		 \n\n\n\n\n\n\n\n\n\n\n\n\n\n\n\n\n\n\n\n\n\n\n\n\n\n\n\n\n\n\n\n\n\n\n\n\n\n\n\n\n\n\n\n\n\n\n\n\n\n\n\n\n\nBande annonce
URL:https://plaza-mons.be/film/diamant-brut/2025-03-28
CATEGORIES:Drame
ATTACH;FMTTYPE=image/jpeg:https://plaza-mons.be/wp-content/uploads/2025/02/diamant-brut-poster-1.jpg
END:VEVENT
BEGIN:VEVENT
DTSTART;TZID=Europe/Brussels:20250328T203000
DTEND;TZID=Europe/Brussels:20250328T224500
DTSTAMP:20260425T044646
CREATED:20250224T135040Z
LAST-MODIFIED:20250505T000106Z
UID:83503-1743193800-1743201900@plaza-mons.be
SUMMARY:Je suis toujours là / I'm Still Here
DESCRIPTION:Super Charlie\n\n\n\n\n\n			\n				Bande annonce\n			\n		 \n\n\n\n\n\n\n\n\n\n\n\n\n\n\n\n\n\n\n\n\n\n\n\n\n\n\n\n\n\n\n\n\n\n\n\n\n\n\n\n\n\n\n\n\n\n\n\n\n\n\n\n\n\nBande annonce
URL:https://plaza-mons.be/film/je-suis-toujours-la-im-still-here/2025-03-28/2
CATEGORIES:Drame
ATTACH;FMTTYPE=image/jpeg:https://plaza-mons.be/wp-content/uploads/2025/02/je-suis-toujours-la-poster.jpg
END:VEVENT
BEGIN:VEVENT
DTSTART;TZID=Europe/Brussels:20250328T203000
DTEND;TZID=Europe/Brussels:20250328T224600
DTSTAMP:20260425T044646
CREATED:20250224T133933Z
LAST-MODIFIED:20250411T000257Z
UID:83482-1743193800-1743201960@plaza-mons.be
SUMMARY:Parthenope
DESCRIPTION:Super Charlie\n\n\n\n\n\n			\n				Bande annonce\n			\n		 \n\n\n\n\n\n\n\n\n\n\n\n\n\n\n\n\n\n\n\n\n\n\n\n\n\n\n\n\n\n\n\n\n\n\n\n\n\n\n\n\n\n\n\n\n\n\n\n\n\n\n\n\n\nBande annonce
URL:https://plaza-mons.be/film/parthenope/2025-03-28
CATEGORIES:Drame
ATTACH;FMTTYPE=image/jpeg:https://plaza-mons.be/wp-content/uploads/2025/02/parthenope-poster.jpg
END:VEVENT
BEGIN:VEVENT
DTSTART;TZID=Europe/Brussels:20250328T203000
DTEND;TZID=Europe/Brussels:20250328T225500
DTSTAMP:20260425T044646
CREATED:20250128T124517Z
LAST-MODIFIED:20250407T000021Z
UID:83234-1743193800-1743202500@plaza-mons.be
SUMMARY:A Complete Unknown
DESCRIPTION:Super Charlie\n\n\n\n\n\n			\n				Bande annonce\n			\n		 \n\n\n\n\n\n\n\n\n\n\n\n\n\n\n\n\n\n\n\n\n\n\n\n\n\n\n\n\n\n\n\n\n\n\n\n\n\n\n\n\n\n\n\n\n\n\n\n\n\n\n\n\n\nBande annonce
URL:https://plaza-mons.be/film/a-complete-unknown/2025-03-28
CATEGORIES:Biopic,Nouveauté
ATTACH;FMTTYPE=image/jpeg:https://plaza-mons.be/wp-content/uploads/2025/01/a-complete-unknown-poster.jpg
END:VEVENT
END:VCALENDAR