BEGIN:VCALENDAR
VERSION:2.0
PRODID:-//Plaza Arthouse Cinema - ECPv5.14.1//NONSGML v1.0//EN
CALSCALE:GREGORIAN
METHOD:PUBLISH
X-WR-CALNAME:Plaza Arthouse Cinema
X-ORIGINAL-URL:https://plaza-mons.be
X-WR-CALDESC:Events for Plaza Arthouse Cinema
REFRESH-INTERVAL;VALUE=DURATION:PT1H
X-Robots-Tag:noindex
X-PUBLISHED-TTL:PT1H
BEGIN:VTIMEZONE
TZID:Europe/Brussels
BEGIN:DAYLIGHT
TZOFFSETFROM:+0100
TZOFFSETTO:+0200
TZNAME:CEST
DTSTART:20250330T010000
END:DAYLIGHT
BEGIN:STANDARD
TZOFFSETFROM:+0200
TZOFFSETTO:+0100
TZNAME:CET
DTSTART:20251026T010000
END:STANDARD
END:VTIMEZONE
BEGIN:VEVENT
DTSTART;TZID=Europe/Brussels:20250324T150000
DTEND;TZID=Europe/Brussels:20250324T150000
DTSTAMP:20260425T044642
CREATED:20250224T134124Z
LAST-MODIFIED:20250411T000054Z
UID:83450-1742828400-1742828400@plaza-mons.be
SUMMARY:Ma mère\, Dieu et Sylvie Vartan
DESCRIPTION:Super Charlie\n\n\n\n\n\n			\n				Bande annonce\n			\n		 \n\n\n\n\n\n\n\n\n\n\n\n\n\n\n\n\n\n\n\n\n\n\n\n\n\n\n\n\n\n\n\n\n\n\n\n\n\n\n\n\n\n\n\n\n\n\n\n\n\n\n\n\n\nBande annonce
URL:https://plaza-mons.be/film/ma-mere-dieu-et-sylvie-vartan/2025-03-24
CATEGORIES:Drame
ATTACH;FMTTYPE=image/jpeg:https://plaza-mons.be/wp-content/uploads/2025/02/ma-mere-dieu-et-sylvie-vartan-poster.jpg
END:VEVENT
BEGIN:VEVENT
DTSTART;TZID=Europe/Brussels:20250324T150000
DTEND;TZID=Europe/Brussels:20250324T162200
DTSTAMP:20260425T044642
CREATED:20250224T132657Z
LAST-MODIFIED:20250331T124723Z
UID:83408-1742828400-1742833320@plaza-mons.be
SUMMARY:When The Light Breaks
DESCRIPTION:Super Charlie\n\n\n\n\n\n			\n				Bande annonce\n			\n		 \n\n\n\n\n\n\n\n\n\n\n\n\n\n\n\n\n\n\n\n\n\n\n\n\n\n\n\n\n\n\n\n\n\n\n\n\n\n\n\n\n\n\n\n\n\n\n\n\n\n\n\n\n\nBande annonce
URL:https://plaza-mons.be/film/83400/2025-03-24
CATEGORIES:Drame
ATTACH;FMTTYPE=image/jpeg:https://plaza-mons.be/wp-content/uploads/2025/02/when-the-light-breaks-affiche-be-original.jpg
END:VEVENT
BEGIN:VEVENT
DTSTART;TZID=Europe/Brussels:20250324T150000
DTEND;TZID=Europe/Brussels:20250324T162300
DTSTAMP:20260425T044642
CREATED:20250224T133121Z
LAST-MODIFIED:20250331T125608Z
UID:83421-1742828400-1742833380@plaza-mons.be
SUMMARY:Merckx
DESCRIPTION:Super Charlie\n\n\n\n\n\n			\n				Bande annonce\n			\n		 \n\n\n\n\n\n\n\n\n\n\n\n\n\n\n\n\n\n\n\n\n\n\n\n\n\n\n\n\n\n\n\n\n\n\n\n\n\n\n\n\n\n\n\n\n\n\n\n\n\n\n\n\n\nBande annonce
URL:https://plaza-mons.be/film/merckx/2025-03-24
CATEGORIES:Documentaire
ATTACH;FMTTYPE=image/png:https://plaza-mons.be/wp-content/uploads/2025/02/merckx-poster.png
END:VEVENT
BEGIN:VEVENT
DTSTART;TZID=Europe/Brussels:20250324T150000
DTEND;TZID=Europe/Brussels:20250324T171600
DTSTAMP:20260425T044642
CREATED:20250224T133512Z
LAST-MODIFIED:20250428T115831Z
UID:83464-1742828400-1742836560@plaza-mons.be
SUMMARY:Mickey 17
DESCRIPTION:Super Charlie\n\n\n\n\n\n			\n				Bande annonce\n			\n		 \n\n\n\n\n\n\n\n\n\n\n\n\n\n\n\n\n\n\n\n\n\n\n\n\n\n\n\n\n\n\n\n\n\n\n\n\n\n\n\n\n\n\n\n\n\n\n\n\n\n\n\n\n\nBande annonce
URL:https://plaza-mons.be/film/mickey-17/2025-03-24
CATEGORIES:Drame
ATTACH;FMTTYPE=image/jpeg:https://plaza-mons.be/wp-content/uploads/2025/02/mickey-17-poster.jpg
END:VEVENT
BEGIN:VEVENT
DTSTART;TZID=Europe/Brussels:20250324T174500
DTEND;TZID=Europe/Brussels:20250324T200200
DTSTAMP:20260425T044642
CREATED:20250224T131738Z
LAST-MODIFIED:20250407T000133Z
UID:83357-1742838300-1742846520@plaza-mons.be
SUMMARY:Queer
DESCRIPTION:Super Charlie\n\n\n\n\n\n			\n				Bande annonce\n			\n		 \n\n\n\n\n\n\n\n\n\n\n\n\n\n\n\n\n\n\n\n\n\n\n\n\n\n\n\n\n\n\n\n\n\n\n\n\n\n\n\n\n\n\n\n\n\n\n\n\n\n\n\n\n\nBande annonce
URL:https://plaza-mons.be/film/queer/2025-03-24
CATEGORIES:Drame
ATTACH;FMTTYPE=image/jpeg:https://plaza-mons.be/wp-content/uploads/2025/02/queer-poster.jpg
END:VEVENT
BEGIN:VEVENT
DTSTART;TZID=Europe/Brussels:20250324T174500
DTEND;TZID=Europe/Brussels:20250324T201000
DTSTAMP:20260425T044642
CREATED:20250128T124517Z
LAST-MODIFIED:20250407T000019Z
UID:83231-1742838300-1742847000@plaza-mons.be
SUMMARY:A Complete Unknown
DESCRIPTION:Super Charlie\n\n\n\n\n\n			\n				Bande annonce\n			\n		 \n\n\n\n\n\n\n\n\n\n\n\n\n\n\n\n\n\n\n\n\n\n\n\n\n\n\n\n\n\n\n\n\n\n\n\n\n\n\n\n\n\n\n\n\n\n\n\n\n\n\n\n\n\nBande annonce
URL:https://plaza-mons.be/film/a-complete-unknown/2025-03-24
CATEGORIES:Biopic,Nouveauté
ATTACH;FMTTYPE=image/jpeg:https://plaza-mons.be/wp-content/uploads/2025/01/a-complete-unknown-poster.jpg
END:VEVENT
BEGIN:VEVENT
DTSTART;TZID=Europe/Brussels:20250324T180000
DTEND;TZID=Europe/Brussels:20250324T194300
DTSTAMP:20260425T044642
CREATED:20250224T132035Z
LAST-MODIFIED:20250331T124922Z
UID:83380-1742839200-1742845380@plaza-mons.be
SUMMARY:Diamant brut
DESCRIPTION:Super Charlie\n\n\n\n\n\n			\n				Bande annonce\n			\n		 \n\n\n\n\n\n\n\n\n\n\n\n\n\n\n\n\n\n\n\n\n\n\n\n\n\n\n\n\n\n\n\n\n\n\n\n\n\n\n\n\n\n\n\n\n\n\n\n\n\n\n\n\n\nBande annonce
URL:https://plaza-mons.be/film/diamant-brut/2025-03-24
CATEGORIES:Drame
ATTACH;FMTTYPE=image/jpeg:https://plaza-mons.be/wp-content/uploads/2025/02/diamant-brut-poster-1.jpg
END:VEVENT
BEGIN:VEVENT
DTSTART;TZID=Europe/Brussels:20250324T180000
DTEND;TZID=Europe/Brussels:20250324T194600
DTSTAMP:20260425T044642
CREATED:20250128T124641Z
LAST-MODIFIED:20250324T000224Z
UID:83262-1742839200-1742845560@plaza-mons.be
SUMMARY:L'attachement
DESCRIPTION:Super Charlie\n\n\n\n\n\n			\n				Bande annonce\n			\n		 \n\n\n\n\n\n\n\n\n\n\n\n\n\n\n\n\n\n\n\n\n\n\n\n\n\n\n\n\n\n\n\n\n\n\n\n\n\n\n\n\n\n\n\n\n\n\n\n\n\n\n\n\n\nBande annonce
URL:https://plaza-mons.be/film/lattachement/2025-03-24
CATEGORIES:Drame
ATTACH;FMTTYPE=image/jpeg:https://plaza-mons.be/wp-content/uploads/2025/01/lattachement-poster.jpg
END:VEVENT
BEGIN:VEVENT
DTSTART;TZID=Europe/Brussels:20250324T203000
DTEND;TZID=Europe/Brussels:20250324T220400
DTSTAMP:20260425T044642
CREATED:20250224T133018Z
LAST-MODIFIED:20250407T000301Z
UID:83437-1742848200-1742853840@plaza-mons.be
SUMMARY:Mémoires d'un escargot  / Memoir of a Snail
DESCRIPTION:Super Charlie\n\n\n\n\n\n			\n				Bande annonce\n			\n		 \n\n\n\n\n\n\n\n\n\n\n\n\n\n\n\n\n\n\n\n\n\n\n\n\n\n\n\n\n\n\n\n\n\n\n\n\n\n\n\n\n\n\n\n\n\n\n\n\n\n\n\n\n\nBande annonce
URL:https://plaza-mons.be/film/memoires-dun-escargot-memoir-of-a-snail/2025-03-24
CATEGORIES:Animation
ATTACH;FMTTYPE=image/jpeg:https://plaza-mons.be/wp-content/uploads/2025/02/memoir-of-a-snail-poster-1.jpg
END:VEVENT
BEGIN:VEVENT
DTSTART;TZID=Europe/Brussels:20250324T203000
DTEND;TZID=Europe/Brussels:20250324T223300
DTSTAMP:20260425T044642
CREATED:20250128T124838Z
LAST-MODIFIED:20250325T000049Z
UID:83166-1742848200-1742855580@plaza-mons.be
SUMMARY:Maria
DESCRIPTION:Super Charlie\n\n\n\n\n\n			\n				Bande annonce\n			\n		 \n\n\n\n\n\n\n\n\n\n\n\n\n\n\n\n\n\n\n\n\n\n\n\n\n\n\n\n\n\n\n\n\n\n\n\n\n\n\n\n\n\n\n\n\n\n\n\n\n\n\n\n\n\nBande annonce
URL:https://plaza-mons.be/film/maria-2/2025-03-24
CATEGORIES:Biopic
ATTACH;FMTTYPE=image/jpeg:https://plaza-mons.be/wp-content/uploads/2025/01/maria-poster.jpg
END:VEVENT
BEGIN:VEVENT
DTSTART;TZID=Europe/Brussels:20250324T203000
DTEND;TZID=Europe/Brussels:20250324T224600
DTSTAMP:20260425T044642
CREATED:20250224T133512Z
LAST-MODIFIED:20250428T115832Z
UID:83465-1742848200-1742856360@plaza-mons.be
SUMMARY:Mickey 17
DESCRIPTION:Super Charlie\n\n\n\n\n\n			\n				Bande annonce\n			\n		 \n\n\n\n\n\n\n\n\n\n\n\n\n\n\n\n\n\n\n\n\n\n\n\n\n\n\n\n\n\n\n\n\n\n\n\n\n\n\n\n\n\n\n\n\n\n\n\n\n\n\n\n\n\nBande annonce
URL:https://plaza-mons.be/film/mickey-17/2025-03-24/2
CATEGORIES:Drame
ATTACH;FMTTYPE=image/jpeg:https://plaza-mons.be/wp-content/uploads/2025/02/mickey-17-poster.jpg
END:VEVENT
BEGIN:VEVENT
DTSTART;TZID=Europe/Brussels:20250324T203000
DTEND;TZID=Europe/Brussels:20250324T224600
DTSTAMP:20260425T044642
CREATED:20250224T133933Z
LAST-MODIFIED:20250411T000246Z
UID:83478-1742848200-1742856360@plaza-mons.be
SUMMARY:Parthenope
DESCRIPTION:Super Charlie\n\n\n\n\n\n			\n				Bande annonce\n			\n		 \n\n\n\n\n\n\n\n\n\n\n\n\n\n\n\n\n\n\n\n\n\n\n\n\n\n\n\n\n\n\n\n\n\n\n\n\n\n\n\n\n\n\n\n\n\n\n\n\n\n\n\n\n\nBande annonce
URL:https://plaza-mons.be/film/parthenope/2025-03-24
CATEGORIES:Drame
ATTACH;FMTTYPE=image/jpeg:https://plaza-mons.be/wp-content/uploads/2025/02/parthenope-poster.jpg
END:VEVENT
END:VCALENDAR