BEGIN:VCALENDAR
VERSION:2.0
PRODID:-//Plaza Arthouse Cinema - ECPv5.14.1//NONSGML v1.0//EN
CALSCALE:GREGORIAN
METHOD:PUBLISH
X-WR-CALNAME:Plaza Arthouse Cinema
X-ORIGINAL-URL:https://plaza-mons.be
X-WR-CALDESC:Events for Plaza Arthouse Cinema
REFRESH-INTERVAL;VALUE=DURATION:PT1H
X-Robots-Tag:noindex
X-PUBLISHED-TTL:PT1H
BEGIN:VTIMEZONE
TZID:Europe/Brussels
BEGIN:DAYLIGHT
TZOFFSETFROM:+0100
TZOFFSETTO:+0200
TZNAME:CEST
DTSTART:20250330T010000
END:DAYLIGHT
BEGIN:STANDARD
TZOFFSETFROM:+0200
TZOFFSETTO:+0100
TZNAME:CET
DTSTART:20251026T010000
END:STANDARD
END:VTIMEZONE
BEGIN:VEVENT
DTSTART;TZID=Europe/Brussels:20250323T100000
DTEND;TZID=Europe/Brussels:20250323T114100
DTSTAMP:20260425T044637
CREATED:20250224T134725Z
LAST-MODIFIED:20250323T000000Z
UID:83832-1742724000-1742730060@plaza-mons.be
SUMMARY:Séance spéciale : Ponyo sur la falaise
DESCRIPTION:Super Charlie
URL:https://plaza-mons.be/film/seance-speciale-ponyo-sur-la-falaise/2025-03-23
CATEGORIES:Avant-première
ATTACH;FMTTYPE=image/jpeg:https://plaza-mons.be/wp-content/uploads/2025/02/ponyo-sur-la-falaise-poster.jpeg
END:VEVENT
BEGIN:VEVENT
DTSTART;TZID=Europe/Brussels:20250323T110000
DTEND;TZID=Europe/Brussels:20250323T122100
DTSTAMP:20260425T044637
CREATED:20250128T124252Z
LAST-MODIFIED:20250411T000935Z
UID:83284-1742727600-1742732460@plaza-mons.be
SUMMARY:Angelo dans la forêt mystérieuse
DESCRIPTION:Super Charlie\n\n\n\n\n\n			\n				Bande annonce\n			\n		 \n\n\n\n\n\n\n\n\n\n\n\n\n\n\n\n\n\n\n\n\n\n\n\n\n\n\n\n\n\n\n\n\n\n\n\n\n\n\n\n\n\n\n\n\n\n\n\n\n\n\n\n\n\nBande annonce
URL:https://plaza-mons.be/film/angelo-dans-la-foret-mysterieuse/2025-03-23
CATEGORIES:Animation
ATTACH;FMTTYPE=image/jpeg:https://plaza-mons.be/wp-content/uploads/2025/01/angelo-dans-la-foret-mysterieuse-poster.jpg
END:VEVENT
BEGIN:VEVENT
DTSTART;TZID=Europe/Brussels:20250323T110000
DTEND;TZID=Europe/Brussels:20250323T122500
DTSTAMP:20260425T044637
CREATED:20250106T095937Z
LAST-MODIFIED:20250325T000017Z
UID:83077-1742727600-1742732700@plaza-mons.be
SUMMARY:Flow\, le chat qui n’avait  plus peur de l’eau
DESCRIPTION:Super Charlie\n\n\n\n\n\n			\n				Bande annonce\n			\n		 \n\n\n\n\n\n\n\n\n\n\n\n\n\n\n\n\n\n\n\n\n\n\n\n\n\n\n\n\n\n\n\n\n\n\n\n\n\n\n\n\n\n\n\n\n\n\n\n\n\n\n\n\n\nBande annonce
URL:https://plaza-mons.be/film/flow-le-chat-qui-navait-plus-peur-de-leau/2025-03-23
CATEGORIES:Animation
ATTACH;FMTTYPE=image/jpeg:https://plaza-mons.be/wp-content/uploads/2025/01/flow-poster.jpg
END:VEVENT
BEGIN:VEVENT
DTSTART;TZID=Europe/Brussels:20250323T110000
DTEND;TZID=Europe/Brussels:20250323T124700
DTSTAMP:20260425T044637
CREATED:20250219T145748Z
LAST-MODIFIED:20250331T125716Z
UID:83315-1742727600-1742734020@plaza-mons.be
SUMMARY:Paddington au Pérou
DESCRIPTION:Super Charlie\n\n\n\n\n\n			\n				Bande annonce\n			\n		 \n\n\n\n\n\n\n\n\n\n\n\n\n\n\n\n\n\n\n\n\n\n\n\n\n\n\n\n\n\n\n\n\n\n\n\n\n\n\n\n\n\n\n\n\n\n\n\n\n\n\n\n\n\nBande annonce
URL:https://plaza-mons.be/film/paddington-au-perou/2025-03-23
CATEGORIES:Animation
ATTACH;FMTTYPE=image/jpeg:https://plaza-mons.be/wp-content/uploads/2025/02/paddington-au-perou-poster.jpg
END:VEVENT
BEGIN:VEVENT
DTSTART;TZID=Europe/Brussels:20250323T140000
DTEND;TZID=Europe/Brussels:20250323T154300
DTSTAMP:20260425T044637
CREATED:20250224T132035Z
LAST-MODIFIED:20250331T124921Z
UID:83379-1742738400-1742744580@plaza-mons.be
SUMMARY:Diamant brut
DESCRIPTION:Super Charlie\n\n\n\n\n\n			\n				Bande annonce\n			\n		 \n\n\n\n\n\n\n\n\n\n\n\n\n\n\n\n\n\n\n\n\n\n\n\n\n\n\n\n\n\n\n\n\n\n\n\n\n\n\n\n\n\n\n\n\n\n\n\n\n\n\n\n\n\nBande annonce
URL:https://plaza-mons.be/film/diamant-brut/2025-03-23
CATEGORIES:Drame
ATTACH;FMTTYPE=image/jpeg:https://plaza-mons.be/wp-content/uploads/2025/02/diamant-brut-poster-1.jpg
END:VEVENT
BEGIN:VEVENT
DTSTART;TZID=Europe/Brussels:20250323T140000
DTEND;TZID=Europe/Brussels:20250323T154600
DTSTAMP:20260425T044637
CREATED:20250128T124641Z
LAST-MODIFIED:20250324T000224Z
UID:83261-1742738400-1742744760@plaza-mons.be
SUMMARY:L'attachement
DESCRIPTION:Super Charlie\n\n\n\n\n\n			\n				Bande annonce\n			\n		 \n\n\n\n\n\n\n\n\n\n\n\n\n\n\n\n\n\n\n\n\n\n\n\n\n\n\n\n\n\n\n\n\n\n\n\n\n\n\n\n\n\n\n\n\n\n\n\n\n\n\n\n\n\nBande annonce
URL:https://plaza-mons.be/film/lattachement/2025-03-23
CATEGORIES:Drame
ATTACH;FMTTYPE=image/jpeg:https://plaza-mons.be/wp-content/uploads/2025/01/lattachement-poster.jpg
END:VEVENT
BEGIN:VEVENT
DTSTART;TZID=Europe/Brussels:20250323T140000
DTEND;TZID=Europe/Brussels:20250323T170000
DTSTAMP:20260425T044637
CREATED:20250128T112504Z
LAST-MODIFIED:20250331T124944Z
UID:83205-1742738400-1742749200@plaza-mons.be
SUMMARY:The Brutalist
DESCRIPTION:Super Charlie\n\n\n\n\n\n			\n				Bande annonce\n			\n		 \n\n\n\n\n\n\n\n\n\n\n\n\n\n\n\n\n\n\n\n\n\n\n\n\n\n\n\n\n\n\n\n\n\n\n\n\n\n\n\n\n\n\n\n\n\n\n\n\n\n\n\n\n\nBande annonce
URL:https://plaza-mons.be/film/the-brutalist/2025-03-23
CATEGORIES:Drame
ATTACH;FMTTYPE=image/jpeg:https://plaza-mons.be/wp-content/uploads/2025/01/the-brutalist-poster.jpg
END:VEVENT
BEGIN:VEVENT
DTSTART;TZID=Europe/Brussels:20250323T143000
DTEND;TZID=Europe/Brussels:20250323T164700
DTSTAMP:20260425T044637
CREATED:20250224T131738Z
LAST-MODIFIED:20250407T000133Z
UID:83356-1742740200-1742748420@plaza-mons.be
SUMMARY:Queer
DESCRIPTION:Super Charlie\n\n\n\n\n\n			\n				Bande annonce\n			\n		 \n\n\n\n\n\n\n\n\n\n\n\n\n\n\n\n\n\n\n\n\n\n\n\n\n\n\n\n\n\n\n\n\n\n\n\n\n\n\n\n\n\n\n\n\n\n\n\n\n\n\n\n\n\nBande annonce
URL:https://plaza-mons.be/film/queer/2025-03-23
CATEGORIES:Drame
ATTACH;FMTTYPE=image/jpeg:https://plaza-mons.be/wp-content/uploads/2025/02/queer-poster.jpg
END:VEVENT
BEGIN:VEVENT
DTSTART;TZID=Europe/Brussels:20250323T161500
DTEND;TZID=Europe/Brussels:20250323T173600
DTSTAMP:20260425T044637
CREATED:20250128T124252Z
LAST-MODIFIED:20250411T000935Z
UID:83285-1742746500-1742751360@plaza-mons.be
SUMMARY:Angelo dans la forêt mystérieuse
DESCRIPTION:Super Charlie\n\n\n\n\n\n			\n				Bande annonce\n			\n		 \n\n\n\n\n\n\n\n\n\n\n\n\n\n\n\n\n\n\n\n\n\n\n\n\n\n\n\n\n\n\n\n\n\n\n\n\n\n\n\n\n\n\n\n\n\n\n\n\n\n\n\n\n\nBande annonce
URL:https://plaza-mons.be/film/angelo-dans-la-foret-mysterieuse/2025-03-23/4
CATEGORIES:Animation
ATTACH;FMTTYPE=image/jpeg:https://plaza-mons.be/wp-content/uploads/2025/01/angelo-dans-la-foret-mysterieuse-poster.jpg
END:VEVENT
BEGIN:VEVENT
DTSTART;TZID=Europe/Brussels:20250323T161500
DTEND;TZID=Europe/Brussels:20250323T173800
DTSTAMP:20260425T044637
CREATED:20250224T133121Z
LAST-MODIFIED:20250331T125608Z
UID:83420-1742746500-1742751480@plaza-mons.be
SUMMARY:Merckx
DESCRIPTION:Super Charlie\n\n\n\n\n\n			\n				Bande annonce\n			\n		 \n\n\n\n\n\n\n\n\n\n\n\n\n\n\n\n\n\n\n\n\n\n\n\n\n\n\n\n\n\n\n\n\n\n\n\n\n\n\n\n\n\n\n\n\n\n\n\n\n\n\n\n\n\nBande annonce
URL:https://plaza-mons.be/film/merckx/2025-03-23
CATEGORIES:Documentaire
ATTACH;FMTTYPE=image/png:https://plaza-mons.be/wp-content/uploads/2025/02/merckx-poster.png
END:VEVENT
BEGIN:VEVENT
DTSTART;TZID=Europe/Brussels:20250323T174500
DTEND;TZID=Europe/Brussels:20250323T200100
DTSTAMP:20260425T044637
CREATED:20250224T133512Z
LAST-MODIFIED:20250428T115831Z
UID:83463-1742751900-1742760060@plaza-mons.be
SUMMARY:Mickey 17
DESCRIPTION:Super Charlie\n\n\n\n\n\n			\n				Bande annonce\n			\n		 \n\n\n\n\n\n\n\n\n\n\n\n\n\n\n\n\n\n\n\n\n\n\n\n\n\n\n\n\n\n\n\n\n\n\n\n\n\n\n\n\n\n\n\n\n\n\n\n\n\n\n\n\n\nBande annonce
URL:https://plaza-mons.be/film/mickey-17/2025-03-23
CATEGORIES:Drame
ATTACH;FMTTYPE=image/jpeg:https://plaza-mons.be/wp-content/uploads/2025/02/mickey-17-poster.jpg
END:VEVENT
BEGIN:VEVENT
DTSTART;TZID=Europe/Brussels:20250323T180000
DTEND;TZID=Europe/Brussels:20250323T193400
DTSTAMP:20260425T044637
CREATED:20250224T133018Z
LAST-MODIFIED:20250407T000259Z
UID:83436-1742752800-1742758440@plaza-mons.be
SUMMARY:Mémoires d'un escargot  / Memoir of a Snail
DESCRIPTION:Super Charlie\n\n\n\n\n\n			\n				Bande annonce\n			\n		 \n\n\n\n\n\n\n\n\n\n\n\n\n\n\n\n\n\n\n\n\n\n\n\n\n\n\n\n\n\n\n\n\n\n\n\n\n\n\n\n\n\n\n\n\n\n\n\n\n\n\n\n\n\nBande annonce
URL:https://plaza-mons.be/film/memoires-dun-escargot-memoir-of-a-snail/2025-03-23
CATEGORIES:Animation
ATTACH;FMTTYPE=image/jpeg:https://plaza-mons.be/wp-content/uploads/2025/02/memoir-of-a-snail-poster-1.jpg
END:VEVENT
BEGIN:VEVENT
DTSTART;TZID=Europe/Brussels:20250323T180000
DTEND;TZID=Europe/Brussels:20250323T200300
DTSTAMP:20260425T044637
CREATED:20250128T124838Z
LAST-MODIFIED:20250325T000048Z
UID:83165-1742752800-1742760180@plaza-mons.be
SUMMARY:Maria
DESCRIPTION:Super Charlie\n\n\n\n\n\n			\n				Bande annonce\n			\n		 \n\n\n\n\n\n\n\n\n\n\n\n\n\n\n\n\n\n\n\n\n\n\n\n\n\n\n\n\n\n\n\n\n\n\n\n\n\n\n\n\n\n\n\n\n\n\n\n\n\n\n\n\n\nBande annonce
URL:https://plaza-mons.be/film/maria-2/2025-03-23
CATEGORIES:Biopic
ATTACH;FMTTYPE=image/jpeg:https://plaza-mons.be/wp-content/uploads/2025/01/maria-poster.jpg
END:VEVENT
BEGIN:VEVENT
DTSTART;TZID=Europe/Brussels:20250323T183000
DTEND;TZID=Europe/Brussels:20250323T195200
DTSTAMP:20260425T044637
CREATED:20250224T132657Z
LAST-MODIFIED:20250331T124722Z
UID:83407-1742754600-1742759520@plaza-mons.be
SUMMARY:When The Light Breaks
DESCRIPTION:Super Charlie\n\n\n\n\n\n			\n				Bande annonce\n			\n		 \n\n\n\n\n\n\n\n\n\n\n\n\n\n\n\n\n\n\n\n\n\n\n\n\n\n\n\n\n\n\n\n\n\n\n\n\n\n\n\n\n\n\n\n\n\n\n\n\n\n\n\n\n\nBande annonce
URL:https://plaza-mons.be/film/83400/2025-03-23
CATEGORIES:Drame
ATTACH;FMTTYPE=image/jpeg:https://plaza-mons.be/wp-content/uploads/2025/02/when-the-light-breaks-affiche-be-original.jpg
END:VEVENT
BEGIN:VEVENT
DTSTART;TZID=Europe/Brussels:20250323T203000
DTEND;TZID=Europe/Brussels:20250323T203000
DTSTAMP:20260425T044637
CREATED:20250224T134124Z
LAST-MODIFIED:20250411T000049Z
UID:83449-1742761800-1742761800@plaza-mons.be
SUMMARY:Ma mère\, Dieu et Sylvie Vartan
DESCRIPTION:Super Charlie\n\n\n\n\n\n			\n				Bande annonce\n			\n		 \n\n\n\n\n\n\n\n\n\n\n\n\n\n\n\n\n\n\n\n\n\n\n\n\n\n\n\n\n\n\n\n\n\n\n\n\n\n\n\n\n\n\n\n\n\n\n\n\n\n\n\n\n\nBande annonce
URL:https://plaza-mons.be/film/ma-mere-dieu-et-sylvie-vartan/2025-03-23
CATEGORIES:Drame
ATTACH;FMTTYPE=image/jpeg:https://plaza-mons.be/wp-content/uploads/2025/02/ma-mere-dieu-et-sylvie-vartan-poster.jpg
END:VEVENT
BEGIN:VEVENT
DTSTART;TZID=Europe/Brussels:20250323T203000
DTEND;TZID=Europe/Brussels:20250323T223300
DTSTAMP:20260425T044637
CREATED:20250224T130822Z
LAST-MODIFIED:20250325T000335Z
UID:83336-1742761800-1742769180@plaza-mons.be
SUMMARY:All we Imagine as Light
DESCRIPTION:Super Charlie\n\n\n\n\n\n			\n				Bande annonce\n			\n		 \n\n\n\n\n\n\n\n\n\n\n\n\n\n\n\n\n\n\n\n\n\n\n\n\n\n\n\n\n\n\n\n\n\n\n\n\n\n\n\n\n\n\n\n\n\n\n\n\n\n\n\n\n\nBande annonce
URL:https://plaza-mons.be/film/all-we-imagine-as-light/2025-03-23
CATEGORIES:Drame
ATTACH;FMTTYPE=image/jpeg:https://plaza-mons.be/wp-content/uploads/2025/02/all-we-imagine-as-light-poster.jpg
END:VEVENT
BEGIN:VEVENT
DTSTART;TZID=Europe/Brussels:20250323T203000
DTEND;TZID=Europe/Brussels:20250323T224600
DTSTAMP:20260425T044637
CREATED:20250224T133933Z
LAST-MODIFIED:20250411T000244Z
UID:83477-1742761800-1742769960@plaza-mons.be
SUMMARY:Parthenope
DESCRIPTION:Super Charlie\n\n\n\n\n\n			\n				Bande annonce\n			\n		 \n\n\n\n\n\n\n\n\n\n\n\n\n\n\n\n\n\n\n\n\n\n\n\n\n\n\n\n\n\n\n\n\n\n\n\n\n\n\n\n\n\n\n\n\n\n\n\n\n\n\n\n\n\nBande annonce
URL:https://plaza-mons.be/film/parthenope/2025-03-23
CATEGORIES:Drame
ATTACH;FMTTYPE=image/jpeg:https://plaza-mons.be/wp-content/uploads/2025/02/parthenope-poster.jpg
END:VEVENT
BEGIN:VEVENT
DTSTART;TZID=Europe/Brussels:20250323T203000
DTEND;TZID=Europe/Brussels:20250323T225500
DTSTAMP:20260425T044637
CREATED:20250128T124517Z
LAST-MODIFIED:20250407T000019Z
UID:83230-1742761800-1742770500@plaza-mons.be
SUMMARY:A Complete Unknown
DESCRIPTION:Super Charlie\n\n\n\n\n\n			\n				Bande annonce\n			\n		 \n\n\n\n\n\n\n\n\n\n\n\n\n\n\n\n\n\n\n\n\n\n\n\n\n\n\n\n\n\n\n\n\n\n\n\n\n\n\n\n\n\n\n\n\n\n\n\n\n\n\n\n\n\nBande annonce
URL:https://plaza-mons.be/film/a-complete-unknown/2025-03-23
CATEGORIES:Biopic,Nouveauté
ATTACH;FMTTYPE=image/jpeg:https://plaza-mons.be/wp-content/uploads/2025/01/a-complete-unknown-poster.jpg
END:VEVENT
END:VCALENDAR