BEGIN:VCALENDAR
VERSION:2.0
PRODID:-//Plaza Arthouse Cinema - ECPv5.14.1//NONSGML v1.0//EN
CALSCALE:GREGORIAN
METHOD:PUBLISH
X-WR-CALNAME:Plaza Arthouse Cinema
X-ORIGINAL-URL:https://plaza-mons.be
X-WR-CALDESC:Events for Plaza Arthouse Cinema
REFRESH-INTERVAL;VALUE=DURATION:PT1H
X-Robots-Tag:noindex
X-PUBLISHED-TTL:PT1H
BEGIN:VTIMEZONE
TZID:Europe/Brussels
BEGIN:DAYLIGHT
TZOFFSETFROM:+0100
TZOFFSETTO:+0200
TZNAME:CEST
DTSTART:20250330T010000
END:DAYLIGHT
BEGIN:STANDARD
TZOFFSETFROM:+0200
TZOFFSETTO:+0100
TZNAME:CET
DTSTART:20251026T010000
END:STANDARD
END:VTIMEZONE
BEGIN:VEVENT
DTSTART;TZID=Europe/Brussels:20250311T143000
DTEND;TZID=Europe/Brussels:20250311T163000
DTSTAMP:20260426T014003
CREATED:20250226T103258Z
LAST-MODIFIED:20250226T103353Z
UID:84550-1741703400-1741710600@plaza-mons.be
SUMMARY:Smell of burnt milk
DESCRIPTION:Die my Love\n\n\nJustine Bauer \n\n\n\nBande annonce \n\n\n\n\n\n\n\n\n\n\n\n\n\n\n\nLe lait n’est plus une denrée rentable depuis un certain temps. L’agriculture en général souffre et de plus en plus de fermes doivent fermer. Mais Katinka s’accroche à l’entreprise familiale\, suit une formation agricole et cherche son avenir dans un endroit qui se souvient de ce qu’étaient les choses autrefois. \n\n\n\n\n\n\n\n\n\n\n\n\n\n\n\n\n\n\n\n\n\n\n\n\n\n\n\n\n\n\n\n\n\n\n\n\n\n\n\nBande annonce
URL:https://plaza-mons.be/film/smell-of-burnt-milk/2025-03-11
CATEGORIES:LIFF
ATTACH;FMTTYPE=image/jpeg:https://plaza-mons.be/wp-content/uploads/2025/02/smell-of-the-burnt-milk-affiche.jpg
END:VEVENT
BEGIN:VEVENT
DTSTART;TZID=Europe/Brussels:20250311T150000
DTEND;TZID=Europe/Brussels:20250311T170000
DTSTAMP:20260426T014003
CREATED:20250226T125720Z
LAST-MODIFIED:20250226T125723Z
UID:84610-1741705200-1741712400@plaza-mons.be
SUMMARY:Le Panache
DESCRIPTION:Die my Love\n\n\n\n\nBande annonce \n\n\n\n\n\n\n\n\n\n\n\n\n\n\n\nColin\, 14 ans\, fait son entrée dans un nouveau collège et il flippe : comment s’en sortir quand\, comme lui\, on est bègue ? Sa rencontre avec Monsieur Devarseau\, charismatique prof de français\, va le pousser à affronter ses peurs et sortir de son isolement. Maintenant Colin a une bande de copains et un projet : monter sur scène pour jouer Cyrano devant toute l’école \n\n\n\n\n\n\n\n\n\n\n\n\n\n\n\n\n\n\n\n\n\n\n\n\n\n\n\n\n\n\n\n\n\n\n\n\n\n\n\nBande annonce
URL:https://plaza-mons.be/film/le-panache
CATEGORIES:LIFF
ATTACH;FMTTYPE=image/jpeg:https://plaza-mons.be/wp-content/uploads/2025/02/le-panache-1.jpg
END:VEVENT
BEGIN:VEVENT
DTSTART;TZID=Europe/Brussels:20250311T150000
DTEND;TZID=Europe/Brussels:20250311T170000
DTSTAMP:20260426T014003
CREATED:20250226T105300Z
LAST-MODIFIED:20250226T105300Z
UID:85363-1741705200-1741712400@plaza-mons.be
SUMMARY:Soy nevenka
DESCRIPTION:Die my Love\n\n\n\n\nBande annonce \n\n\n\n\n\n\n\n\n\n\n\n\n\n\n\nÀ la fin des années 90\, Nevenka Fernández\, est élue à 25 ans conseillère municipale auprès du maire de Ponferrada\, le charismatique et populaire Ismael Alvarez. C’est le début d’une descente aux enfers pour Nevenka\, manipulée et harcelée pendant des mois par le maire. Pour s’en sortir\, elle décide de dénoncer ses agissements et lui intente un procès. Inspiré de faits réels\, L’AFFAIRE NEVENKA révèle le premier cas de #MeToo politique en Espagne. \n\n\n\n\n\n\n\n\n\n\n\n\n\n\n\n\n\n\n\n\n\n\n\n\n\n\n\n\n\n\n\n\n\n\n\n\n\n\n\nBande annonce
URL:https://plaza-mons.be/film/soy-nevenka/2025-03-11
CATEGORIES:LIFF
ATTACH;FMTTYPE=image/jpeg:https://plaza-mons.be/wp-content/uploads/2025/02/soy-nevenka.jpg
END:VEVENT
BEGIN:VEVENT
DTSTART;TZID=Europe/Brussels:20250311T173000
DTEND;TZID=Europe/Brussels:20250311T193000
DTSTAMP:20260426T014003
CREATED:20250225T153420Z
LAST-MODIFIED:20250225T153420Z
UID:85395-1741714200-1741721400@plaza-mons.be
SUMMARY:The Father
DESCRIPTION:Die my Love\n\n\n\n\nBande annonce \n\n\n\n\n\n\n\n\n\n\n\n\n\n\n\nTHE FATHER raconte la trajectoire intérieure d’un homme de 81 ans\, Anthony\, dont la réalité se brise peu à peu sous nos yeux.Mais c’est aussi l’histoire d’Anne\, sa fille\, qui tente de l’accompagner dans un labyrinthe de questions sans réponses. \n\n\n\n\n\n\n\n\n\n\n\n\n\n\n\n\n\n\n\n\n\n\n\n\n\n\n\n\n\n\n\n\n\n\n\n\n\n\n\nBande annonce
URL:https://plaza-mons.be/film/the-father/2025-03-11
CATEGORIES:LIFF
ATTACH;FMTTYPE=image/jpeg:https://plaza-mons.be/wp-content/uploads/2025/02/the-father.jpg
END:VEVENT
BEGIN:VEVENT
DTSTART;TZID=Europe/Brussels:20250311T200000
DTEND;TZID=Europe/Brussels:20250311T213000
DTSTAMP:20260426T014003
CREATED:20250225T150019Z
LAST-MODIFIED:20250225T150022Z
UID:84476-1741723200-1741728600@plaza-mons.be
SUMMARY:Honeymoon
DESCRIPTION:Die my Love\n\n\n\n\nBande annonce \n\n\n\n\n\n\n\n\n\n\n\n\n\n\n\nPersonne n’est prêt à se réveiller avec des explosions dehors sans plan\, sans perspective de vie. Pris sous occupation dans son propre appartement\, le couple doit découvrir la peur\, le désespoir\, l’amour et l’espoir. \n\n\n\n\n\n\n\n\n\n\n\n\n\n\n\n\n\n\n\n\n\n\n\n\n\n\n\n\n\n\n\n\n\n\n\n\n\n\n\nBande annonce
URL:https://plaza-mons.be/film/honeymoon/2025-03-11
CATEGORIES:LIFF
ATTACH;FMTTYPE=image/jpeg:https://plaza-mons.be/wp-content/uploads/2025/02/honeymoon-scaled.jpg
END:VEVENT
BEGIN:VEVENT
DTSTART;TZID=Europe/Brussels:20250311T203000
DTEND;TZID=Europe/Brussels:20250311T223000
DTSTAMP:20260426T014003
CREATED:20250225T152820Z
LAST-MODIFIED:20250225T153018Z
UID:84498-1741725000-1741732200@plaza-mons.be
SUMMARY:Querelle
DESCRIPTION:Die my Love\n\n\nRainer Werner Fassbinder \n\n\n\nBande annonce \n\n\n\n\n\n\n\n\n\n\n\n\n\n\n\nL’histoire d’un jeune marin à la sexualité en mutation\, Querelle\, qui débarque à Brest. Beau et viril\, il attire son supérieur le lieutenant Seblon. Il fréquente la Feria\, un bar à prostituées mené par madame Lysiane qui est la maîtresse de Robert\, le frère de Querelle. Querelle veut coucher avec Lysiane et sait qu’il doit d’abord se soumettre au hasard et jouer aux dés avec Nono\, le mari de Lysiane : s’il perd\, il doit se laisser sodomiser par Nono\, c’est le prix à payer pour coucher avec sa femme\, Lysiane. Querelle perd volontairement aux dés. Il se donne aussi à un policier\, et fréquente un jeune assassin\, Gil. Querelle a lui aussi tué auparavant son complice dans un traffic d’opium… \n\n\n\n\n\n\n\n\n\n\n\n\n\n\n\n\n\n\n\n\n\n\n\n\n\n\n\n\n\n\n\n\n\n\n\n\n\n\n\nBande annonce
URL:https://plaza-mons.be/film/querelle
CATEGORIES:LIFF
ATTACH;FMTTYPE=image/jpeg:https://plaza-mons.be/wp-content/uploads/2025/02/querelle.jpg
END:VEVENT
BEGIN:VEVENT
DTSTART;TZID=Europe/Brussels:20250311T210000
DTEND;TZID=Europe/Brussels:20250311T230000
DTSTAMP:20260426T014003
CREATED:20250225T155817Z
LAST-MODIFIED:20250225T160436Z
UID:84521-1741726800-1741734000@plaza-mons.be
SUMMARY:Demain
DESCRIPTION:Die my Love\n\n\n\n\nBande annonce \n\n\n\n\n\n\n\n\n\n\n\n\n\n\n\nEt si montrer des solutions\, raconter une histoire qui fait du bien\, était la meilleure façon de résoudre les crises écologiques\, économiques et sociales\, que traversent nos pays ?Suite à la publication d’une étude qui annonce la possible disparition d’une partie de l’humanité d’ici 2100\, Cyril Dion et Mélanie Laurent sont partis avec une équipe de quatre personnes enquêter dans dix pays pour comprendre ce qui pourrait provoquer cette catastrophe et surtout comment l’éviter. \n\n\n\nDurant leur voyage\, ils ont rencontré les pionniers qui réinventent l’agriculture\, l’énergie\, l’économie\, la démocratie et l’éducation. En mettant bout à bout ces initiatives positives et concrètes qui fonctionnent déjà\, ils commencent à voir émerger ce que pourrait être le monde de demain… \n\n\n\n \n\n\n\n\n\n\n\n\n\n\n\n\n\n\n\n\n\n\n\n\n\n\n\n\n\n\n\n\n\n\n\n\n\n\n\n\n\n\n\nBande annonce
URL:https://plaza-mons.be/film/demain/2025-03-11
CATEGORIES:LIFF
ATTACH;FMTTYPE=image/jpeg:https://plaza-mons.be/wp-content/uploads/2025/02/demain.jpg
END:VEVENT
END:VCALENDAR