BEGIN:VCALENDAR
VERSION:2.0
PRODID:-//Plaza Arthouse Cinema - ECPv5.14.1//NONSGML v1.0//EN
CALSCALE:GREGORIAN
METHOD:PUBLISH
X-WR-CALNAME:Plaza Arthouse Cinema
X-ORIGINAL-URL:https://plaza-mons.be
X-WR-CALDESC:Events for Plaza Arthouse Cinema
REFRESH-INTERVAL;VALUE=DURATION:PT1H
X-Robots-Tag:noindex
X-PUBLISHED-TTL:PT1H
BEGIN:VTIMEZONE
TZID:Europe/Brussels
BEGIN:DAYLIGHT
TZOFFSETFROM:+0100
TZOFFSETTO:+0200
TZNAME:CEST
DTSTART:20250330T010000
END:DAYLIGHT
BEGIN:STANDARD
TZOFFSETFROM:+0200
TZOFFSETTO:+0100
TZNAME:CET
DTSTART:20251026T010000
END:STANDARD
END:VTIMEZONE
BEGIN:VEVENT
DTSTART;TZID=Europe/Brussels:20250309T110000
DTEND;TZID=Europe/Brussels:20250309T123000
DTSTAMP:20260426T013955
CREATED:20250226T122554Z
LAST-MODIFIED:20250226T122554Z
UID:85369-1741518000-1741523400@plaza-mons.be
SUMMARY:Hola frida !
DESCRIPTION:Die my Love\n\n\n\n\nBande annonce \n\n\n\n\n\n\n\n\n\n\n\n\n\n\n\nC’est l’histoire d’une petite fille différente. Son monde\, c’est Coyoacan au Mexique. Pétillante\, vibrante\, tout l’intéresse. Et lorsque les épreuves se présentent\, elle leur fait face grâce à un imaginaire débordant. Cette petite fille s’appelle Frida Kahlo ! \n\n\n\n\n\n\n\n\n\n\n\n\n\n\n\n\n\n\n\n\n\n\n\n\n\n\n\n\n\n\n\n\n\n\n\n\n\n\n\nBande annonce
URL:https://plaza-mons.be/film/hola-frida/2025-03-09
CATEGORIES:LIFF
ATTACH;FMTTYPE=image/jpeg:https://plaza-mons.be/wp-content/uploads/2025/02/hola-frida.jpg
END:VEVENT
BEGIN:VEVENT
DTSTART;TZID=Europe/Brussels:20250309T143000
DTEND;TZID=Europe/Brussels:20250309T160000
DTSTAMP:20260426T013955
CREATED:20250225T132549Z
LAST-MODIFIED:20250225T132705Z
UID:84390-1741530600-1741536000@plaza-mons.be
SUMMARY:Compétition des courts métrages belges
DESCRIPTION:Die my Love\n\n\n\n\n\n\n\n\n\n\n\n\nSéance 3  \n\n\n\nNOHAM de Victorine Durmort & Marie Fotso-Guifo \n\n\n\nPUPUCE de Chloé Larrère \n\n\n\nNIGHT NIGHT STORIES de Théo Degen \n\n\n\nHOME SWEET HOME de Tiffany Deleuze \n\n\n\nSOL BÉNI de Maky Margaridis & Tristan Feres \n\n\n\n\n\n\n\n\n\n\n\n\n\n\n\n\n\n\n\n\n\n\n\n\n\n\n\n\n\n\n\n\n\n\n\n\n\n\n\nBande annonce
URL:https://plaza-mons.be/film/competition-des-courts-metrages-belges-4
CATEGORIES:LIFF
ATTACH;FMTTYPE=image/jpeg:https://plaza-mons.be/wp-content/uploads/2025/02/love.jpg
END:VEVENT
BEGIN:VEVENT
DTSTART;TZID=Europe/Brussels:20250309T150000
DTEND;TZID=Europe/Brussels:20250309T160000
DTSTAMP:20260426T013955
CREATED:20250226T124028Z
LAST-MODIFIED:20250226T124034Z
UID:84593-1741532400-1741536000@plaza-mons.be
SUMMARY:Une guitare à la mer
DESCRIPTION:Die my Love\n\n\nSophie Roze \n\n\n\nBande annonce \n\n\n\n\n\n\n\n\n\n\n\n\n\n\n\nUne fouine\, dont le métier absurde consiste à vendre des cravates\, sillonne la campagne. Considérée comme nuisible\, en perpétuelle errance\, elle décide de tenter sa chance dans la forêt. Son destin va alors changer grâce à l’aide d’un hérisson. \n\n\n\n\n\n\n\n\n\n\n\n\n\n\n\n\n\n\n\n\n\n\n\n\n\n\n\n\n\n\n\n\n\n\n\n\n\n\n\nBande annonce
URL:https://plaza-mons.be/film/une-guitare-a-la-mer
CATEGORIES:LIFF
ATTACH;FMTTYPE=image/jpeg:https://plaza-mons.be/wp-content/uploads/2025/02/une-guitare-a-la-mer.jpg
END:VEVENT
BEGIN:VEVENT
DTSTART;TZID=Europe/Brussels:20250309T150000
DTEND;TZID=Europe/Brussels:20250309T163000
DTSTAMP:20260426T013955
CREATED:20250226T122554Z
LAST-MODIFIED:20250226T122554Z
UID:85370-1741532400-1741537800@plaza-mons.be
SUMMARY:Hola frida !
DESCRIPTION:Die my Love\n\n\n\n\nBande annonce \n\n\n\n\n\n\n\n\n\n\n\n\n\n\n\nC’est l’histoire d’une petite fille différente. Son monde\, c’est Coyoacan au Mexique. Pétillante\, vibrante\, tout l’intéresse. Et lorsque les épreuves se présentent\, elle leur fait face grâce à un imaginaire débordant. Cette petite fille s’appelle Frida Kahlo ! \n\n\n\n\n\n\n\n\n\n\n\n\n\n\n\n\n\n\n\n\n\n\n\n\n\n\n\n\n\n\n\n\n\n\n\n\n\n\n\nBande annonce
URL:https://plaza-mons.be/film/hola-frida/2025-03-09/2
CATEGORIES:LIFF
ATTACH;FMTTYPE=image/jpeg:https://plaza-mons.be/wp-content/uploads/2025/02/hola-frida.jpg
END:VEVENT
BEGIN:VEVENT
DTSTART;TZID=Europe/Brussels:20250309T163000
DTEND;TZID=Europe/Brussels:20250309T183000
DTSTAMP:20260426T013955
CREATED:20250226T130839Z
LAST-MODIFIED:20250226T134744Z
UID:84618-1741537800-1741545000@plaza-mons.be
SUMMARY:L'Amour ouf
DESCRIPTION:Die my Love\n\n\n\n\nBande annonce \n\n\n\n\n\n\n\n\n\n\n\n\n\n\n\nLes années 80\, dans le nord de la France. Jackie et Clotaire grandissent entre les bancs du lycée et les docks du port. Elle étudie\, il traine. Et puis leurs destins se croisent et c’est l’amour fou. La vie s’efforcera de les séparer mais rien n’y fait\, ces deux-là sont comme les deux ventricules du même cœur… \n\n\n\n\n\n\n\n\n\n\n\n\n\n\n\n\n\n\n\n\n\n\n\n\n\n\n\n\n\n\n\n\n\n\n\n\n\n\n\nBande annonce
URL:https://plaza-mons.be/film/lamour-ouf-2
CATEGORIES:LIFF
ATTACH;FMTTYPE=image/jpeg:https://plaza-mons.be/wp-content/uploads/2025/02/lamour-ouf-poster.jpg
END:VEVENT
BEGIN:VEVENT
DTSTART;TZID=Europe/Brussels:20250309T170000
DTEND;TZID=Europe/Brussels:20250309T183000
DTSTAMP:20260426T013955
CREATED:20250225T132857Z
LAST-MODIFIED:20250225T132859Z
UID:84393-1741539600-1741545000@plaza-mons.be
SUMMARY:Compétition des courts métrages belges
DESCRIPTION:Die my Love\n\n\n\n\n\n\n\n\n\n\n\n\nSéance 4  \n\n\n\nGLUTE de Victor Ruprich-Robert \n\n\n\nL’ENVOL de Patrick Tass \n\n\n\nESSLING de François Bierry et Thomas Van Zuylen \n\n\n\nCHEZ JOANNA de Sandrine Collard \n\n\n\n\n\n\n\n\n\n\n\n\n\n\n\n\n\n\n\n\n\n\n\n\n\n\n\n\n\n\n\n\n\n\n\n\n\n\n\nBande annonce
URL:https://plaza-mons.be/film/competition-des-courts-metrages-belges-5
CATEGORIES:LIFF
ATTACH;FMTTYPE=image/jpeg:https://plaza-mons.be/wp-content/uploads/2025/02/love.jpg
END:VEVENT
BEGIN:VEVENT
DTSTART;TZID=Europe/Brussels:20250309T173000
DTEND;TZID=Europe/Brussels:20250309T193000
DTSTAMP:20260426T013955
CREATED:20250225T142923Z
LAST-MODIFIED:20250225T142929Z
UID:84453-1741541400-1741548600@plaza-mons.be
SUMMARY:Blood simple
DESCRIPTION:Die my Love\n\n\nJoel Coen \n\n\n\nBande annonce \n\n\n\n\n\n\n\n\n\n\n\n\n\n\n\nUn tenancier de bar suspecte sa femme d’entretenir une relation extraconjugale avec l’un de ses barmans. Il engage un détective privé sans scrupules pour y voir plus clair. La situation dérape rapidement dans ce premier film des frères Coen\, un curieux film noir grinçant aux touches grotesques. \n\n\n\n\n\n\n\n\n\n\n\n\n\n\n\n\n\n\n\n\n\n\n\n\n\n\n\n\n\n\n\n\n\n\n\n\n\n\n\nBande annonce
URL:https://plaza-mons.be/film/blood-simple
CATEGORIES:LIFF
ATTACH;FMTTYPE=image/jpeg:https://plaza-mons.be/wp-content/uploads/2025/02/blood-simple-3-scaled.jpg
END:VEVENT
BEGIN:VEVENT
DTSTART;TZID=Europe/Brussels:20250309T200000
DTEND;TZID=Europe/Brussels:20250309T223000
DTSTAMP:20260426T013955
CREATED:20250225T152332Z
LAST-MODIFIED:20250227T105422Z
UID:84491-1741550400-1741559400@plaza-mons.be
SUMMARY:Paul and paulette take a bath
DESCRIPTION:Die my Love\n\n\nJethro Massey \n\n\n\nBande annonce \n\n\n\n\n\n\n\n\n\n\n\n\n\n\n\nPaul & Paulette partagent une relation charmante mais singulière\, qui grandit autour d’un jeu funèbre… Ils visitent les scènes de crimes historiques pour recréer des moments de la vie des victimes et des bourreaux. Pour Paul\, le jeu est un moyen de se rapprocher de Paulette. Pour Paulette\, c’est une échappatoire à sa peine et une façon d’affronter son traumatisme familial. À travers le jeu et cette nouvelle relation\, ils trouvent tous deux des moyens de surmonter leurs épreuves et de se réinventer. \n\n\n\n\n\n\n\n\n\n\n\n\n\n\n\n\n\n\n\n\n\n\n\n\n\n\n\n\n\n\n\n\n\n\n\n\n\n\n\nBande annonce
URL:https://plaza-mons.be/film/paul-and-paulette-take-a-bath/2025-03-09
CATEGORIES:LIFF
ATTACH;FMTTYPE=image/jpeg:https://plaza-mons.be/wp-content/uploads/2025/02/paul-and-paulette.jpg
END:VEVENT
BEGIN:VEVENT
DTSTART;TZID=Europe/Brussels:20250309T203000
DTEND;TZID=Europe/Brussels:20250309T230000
DTSTAMP:20260426T013955
CREATED:20250225T150706Z
LAST-MODIFIED:20250227T105230Z
UID:84481-1741552200-1741561200@plaza-mons.be
SUMMARY:La chambre de Mariana
DESCRIPTION:Die my Love\n\n\n\n\nBande annonce \n\n\n\n\n\n\n\n\n\n\n\n\n\n\n\n1943\, Ukraine\, Hugo a 12 ans. Pour le sauver de la déportation\, sa mère le confie à son amie d’enfance Mariana\, une prostituée qui vit dans une maison close à la sortie de la ville. Caché dans le placard de la chambre de Mariana\, toute son existence est suspendue aux bruits qui l’entourent et aux scènes qu’il devine à travers la cloison…  \n\n\n\n \n\n\n\nD’après La Chambre de Mariana d’ Aharon Appelfeld.
URL:https://plaza-mons.be/film/la-chambre-de-mariana/2025-03-09
CATEGORIES:LIFF
ATTACH;FMTTYPE=image/webp:https://plaza-mons.be/wp-content/uploads/2025/02/aff-chambre-mariana.webp
END:VEVENT
BEGIN:VEVENT
DTSTART;TZID=Europe/Brussels:20250309T210000
DTEND;TZID=Europe/Brussels:20250309T230000
DTSTAMP:20260426T013955
CREATED:20250225T153911Z
LAST-MODIFIED:20250225T154441Z
UID:84508-1741554000-1741561200@plaza-mons.be
SUMMARY:Nobody knows
DESCRIPTION:Die my Love\n\n\n\n\nBande annonce \n\n\n\n\n\n\n\n\n\n\n\n\n\n\n\nQuatre frères et soeurs vivent avec leur mère. L’ainé\, Akira\, s’occupe de ses jeunes frères et soeurs\, chacun d’un père différent. Un matin d’hiver\, leur mère disparaît et les enfants commencent à vivre seuls. \n\n\n\n\n\n\n\n\n\n\n\n\n\n\n\n\n\n\n\n\n\n\n\n\n\n\n\n\n\n\n\n\n\n\n\n\n\n\n\nBande annonce
URL:https://plaza-mons.be/film/nobody-knows-2/2025-03-09
CATEGORIES:LIFF
ATTACH;FMTTYPE=image/jpeg:https://plaza-mons.be/wp-content/uploads/2025/02/nobody-knows.jpg
END:VEVENT
END:VCALENDAR