BEGIN:VCALENDAR
VERSION:2.0
PRODID:-//Plaza Arthouse Cinema - ECPv5.14.1//NONSGML v1.0//EN
CALSCALE:GREGORIAN
METHOD:PUBLISH
X-WR-CALNAME:Plaza Arthouse Cinema
X-ORIGINAL-URL:https://plaza-mons.be
X-WR-CALDESC:Events for Plaza Arthouse Cinema
REFRESH-INTERVAL;VALUE=DURATION:PT1H
X-Robots-Tag:noindex
X-PUBLISHED-TTL:PT1H
BEGIN:VTIMEZONE
TZID:Europe/Brussels
BEGIN:DAYLIGHT
TZOFFSETFROM:+0100
TZOFFSETTO:+0200
TZNAME:CEST
DTSTART:20260329T010000
END:DAYLIGHT
BEGIN:STANDARD
TZOFFSETFROM:+0200
TZOFFSETTO:+0100
TZNAME:CET
DTSTART:20261025T010000
END:STANDARD
END:VTIMEZONE
BEGIN:VEVENT
DTSTART;TZID=Europe/Brussels:20260429T203000
DTEND;TZID=Europe/Brussels:20260429T222500
DTSTAMP:20260425T223744
CREATED:20260425T121000Z
LAST-MODIFIED:20260425T121002Z
UID:107394-1777494600-1777501500@plaza-mons.be
SUMMARY:Sukkwan Island
DESCRIPTION:Sukkwan Island\n\n\n\n\n\n			\n				Bande annonce\n			\n		 \n\n\n\n\n\n\n\n\n\n\n\n\n\n\n\n\n\n\n\n\n\n\n\n\n\n\n\n\n\n\n\n\n\n\n\n\n\n\n\n\n\n\n\n\n\n\n\n\n\n\n\n\n\nBande annonce
URL:https://plaza-mons.be/film/sukkwan-island/2026-04-29
CATEGORIES:Nouveauté
ATTACH;FMTTYPE=image/jpeg:https://plaza-mons.be/wp-content/uploads/2026/04/sukkwan-island.jpg
END:VEVENT
BEGIN:VEVENT
DTSTART;TZID=Europe/Brussels:20260430T163000
DTEND;TZID=Europe/Brussels:20260430T182500
DTSTAMP:20260425T223744
CREATED:20260425T121000Z
LAST-MODIFIED:20260425T121002Z
UID:107395-1777566600-1777573500@plaza-mons.be
SUMMARY:Sukkwan Island
DESCRIPTION:Sukkwan Island\n\n\n\n\n\n			\n				Bande annonce\n			\n		 \n\n\n\n\n\n\n\n\n\n\n\n\n\n\n\n\n\n\n\n\n\n\n\n\n\n\n\n\n\n\n\n\n\n\n\n\n\n\n\n\n\n\n\n\n\n\n\n\n\n\n\n\n\nBande annonce
URL:https://plaza-mons.be/film/sukkwan-island/2026-04-30
CATEGORIES:Nouveauté
ATTACH;FMTTYPE=image/jpeg:https://plaza-mons.be/wp-content/uploads/2026/04/sukkwan-island.jpg
END:VEVENT
BEGIN:VEVENT
DTSTART;TZID=Europe/Brussels:20260501T180000
DTEND;TZID=Europe/Brussels:20260501T195500
DTSTAMP:20260425T223744
CREATED:20260425T121001Z
LAST-MODIFIED:20260425T121002Z
UID:107396-1777658400-1777665300@plaza-mons.be
SUMMARY:Sukkwan Island
DESCRIPTION:Sukkwan Island\n\n\n\n\n\n			\n				Bande annonce\n			\n		 \n\n\n\n\n\n\n\n\n\n\n\n\n\n\n\n\n\n\n\n\n\n\n\n\n\n\n\n\n\n\n\n\n\n\n\n\n\n\n\n\n\n\n\n\n\n\n\n\n\n\n\n\n\nBande annonce
URL:https://plaza-mons.be/film/sukkwan-island/2026-05-01
CATEGORIES:Nouveauté
ATTACH;FMTTYPE=image/jpeg:https://plaza-mons.be/wp-content/uploads/2026/04/sukkwan-island.jpg
END:VEVENT
BEGIN:VEVENT
DTSTART;TZID=Europe/Brussels:20260502T204500
DTEND;TZID=Europe/Brussels:20260502T224000
DTSTAMP:20260425T223744
CREATED:20260425T121001Z
LAST-MODIFIED:20260425T121002Z
UID:107397-1777754700-1777761600@plaza-mons.be
SUMMARY:Sukkwan Island
DESCRIPTION:Sukkwan Island\n\n\n\n\n\n			\n				Bande annonce\n			\n		 \n\n\n\n\n\n\n\n\n\n\n\n\n\n\n\n\n\n\n\n\n\n\n\n\n\n\n\n\n\n\n\n\n\n\n\n\n\n\n\n\n\n\n\n\n\n\n\n\n\n\n\n\n\nBande annonce
URL:https://plaza-mons.be/film/sukkwan-island/2026-05-02
CATEGORIES:Nouveauté
ATTACH;FMTTYPE=image/jpeg:https://plaza-mons.be/wp-content/uploads/2026/04/sukkwan-island.jpg
END:VEVENT
BEGIN:VEVENT
DTSTART;TZID=Europe/Brussels:20260503T203000
DTEND;TZID=Europe/Brussels:20260503T222500
DTSTAMP:20260425T223744
CREATED:20260425T121001Z
LAST-MODIFIED:20260425T121002Z
UID:107398-1777840200-1777847100@plaza-mons.be
SUMMARY:Sukkwan Island
DESCRIPTION:Sukkwan Island\n\n\n\n\n\n			\n				Bande annonce\n			\n		 \n\n\n\n\n\n\n\n\n\n\n\n\n\n\n\n\n\n\n\n\n\n\n\n\n\n\n\n\n\n\n\n\n\n\n\n\n\n\n\n\n\n\n\n\n\n\n\n\n\n\n\n\n\nBande annonce
URL:https://plaza-mons.be/film/sukkwan-island/2026-05-03
CATEGORIES:Nouveauté
ATTACH;FMTTYPE=image/jpeg:https://plaza-mons.be/wp-content/uploads/2026/04/sukkwan-island.jpg
END:VEVENT
BEGIN:VEVENT
DTSTART;TZID=Europe/Brussels:20260504T203000
DTEND;TZID=Europe/Brussels:20260504T222500
DTSTAMP:20260425T223744
CREATED:20260425T121001Z
LAST-MODIFIED:20260425T121003Z
UID:107399-1777926600-1777933500@plaza-mons.be
SUMMARY:Sukkwan Island
DESCRIPTION:Sukkwan Island\n\n\n\n\n\n			\n				Bande annonce\n			\n		 \n\n\n\n\n\n\n\n\n\n\n\n\n\n\n\n\n\n\n\n\n\n\n\n\n\n\n\n\n\n\n\n\n\n\n\n\n\n\n\n\n\n\n\n\n\n\n\n\n\n\n\n\n\nBande annonce
URL:https://plaza-mons.be/film/sukkwan-island/2026-05-04
CATEGORIES:Nouveauté
ATTACH;FMTTYPE=image/jpeg:https://plaza-mons.be/wp-content/uploads/2026/04/sukkwan-island.jpg
END:VEVENT
BEGIN:VEVENT
DTSTART;TZID=Europe/Brussels:20260505T180000
DTEND;TZID=Europe/Brussels:20260505T195500
DTSTAMP:20260425T223744
CREATED:20260425T121001Z
LAST-MODIFIED:20260425T121003Z
UID:107400-1778004000-1778010900@plaza-mons.be
SUMMARY:Sukkwan Island
DESCRIPTION:Sukkwan Island\n\n\n\n\n\n			\n				Bande annonce\n			\n		 \n\n\n\n\n\n\n\n\n\n\n\n\n\n\n\n\n\n\n\n\n\n\n\n\n\n\n\n\n\n\n\n\n\n\n\n\n\n\n\n\n\n\n\n\n\n\n\n\n\n\n\n\n\nBande annonce
URL:https://plaza-mons.be/film/sukkwan-island/2026-05-05
CATEGORIES:Nouveauté
ATTACH;FMTTYPE=image/jpeg:https://plaza-mons.be/wp-content/uploads/2026/04/sukkwan-island.jpg
END:VEVENT
BEGIN:VEVENT
DTSTART;TZID=Europe/Brussels:20260507T153000
DTEND;TZID=Europe/Brussels:20260507T172500
DTSTAMP:20260425T223744
CREATED:20260425T121001Z
LAST-MODIFIED:20260425T121003Z
UID:107401-1778167800-1778174700@plaza-mons.be
SUMMARY:Sukkwan Island
DESCRIPTION:Sukkwan Island\n\n\n\n\n\n			\n				Bande annonce\n			\n		 \n\n\n\n\n\n\n\n\n\n\n\n\n\n\n\n\n\n\n\n\n\n\n\n\n\n\n\n\n\n\n\n\n\n\n\n\n\n\n\n\n\n\n\n\n\n\n\n\n\n\n\n\n\nBande annonce
URL:https://plaza-mons.be/film/sukkwan-island/2026-05-07
CATEGORIES:Nouveauté
ATTACH;FMTTYPE=image/jpeg:https://plaza-mons.be/wp-content/uploads/2026/04/sukkwan-island.jpg
END:VEVENT
BEGIN:VEVENT
DTSTART;TZID=Europe/Brussels:20260508T203000
DTEND;TZID=Europe/Brussels:20260508T222500
DTSTAMP:20260425T223744
CREATED:20260425T121001Z
LAST-MODIFIED:20260425T121003Z
UID:107402-1778272200-1778279100@plaza-mons.be
SUMMARY:Sukkwan Island
DESCRIPTION:Sukkwan Island\n\n\n\n\n\n			\n				Bande annonce\n			\n		 \n\n\n\n\n\n\n\n\n\n\n\n\n\n\n\n\n\n\n\n\n\n\n\n\n\n\n\n\n\n\n\n\n\n\n\n\n\n\n\n\n\n\n\n\n\n\n\n\n\n\n\n\n\nBande annonce
URL:https://plaza-mons.be/film/sukkwan-island/2026-05-08
CATEGORIES:Nouveauté
ATTACH;FMTTYPE=image/jpeg:https://plaza-mons.be/wp-content/uploads/2026/04/sukkwan-island.jpg
END:VEVENT
BEGIN:VEVENT
DTSTART;TZID=Europe/Brussels:20260509T203000
DTEND;TZID=Europe/Brussels:20260509T222500
DTSTAMP:20260425T223744
CREATED:20260425T121001Z
LAST-MODIFIED:20260425T121003Z
UID:107403-1778358600-1778365500@plaza-mons.be
SUMMARY:Sukkwan Island
DESCRIPTION:Sukkwan Island\n\n\n\n\n\n			\n				Bande annonce\n			\n		 \n\n\n\n\n\n\n\n\n\n\n\n\n\n\n\n\n\n\n\n\n\n\n\n\n\n\n\n\n\n\n\n\n\n\n\n\n\n\n\n\n\n\n\n\n\n\n\n\n\n\n\n\n\nBande annonce
URL:https://plaza-mons.be/film/sukkwan-island/2026-05-09
CATEGORIES:Nouveauté
ATTACH;FMTTYPE=image/jpeg:https://plaza-mons.be/wp-content/uploads/2026/04/sukkwan-island.jpg
END:VEVENT
BEGIN:VEVENT
DTSTART;TZID=Europe/Brussels:20260511T203000
DTEND;TZID=Europe/Brussels:20260511T222500
DTSTAMP:20260425T223744
CREATED:20260425T121001Z
LAST-MODIFIED:20260425T121003Z
UID:107404-1778531400-1778538300@plaza-mons.be
SUMMARY:Sukkwan Island
DESCRIPTION:Sukkwan Island\n\n\n\n\n\n			\n				Bande annonce\n			\n		 \n\n\n\n\n\n\n\n\n\n\n\n\n\n\n\n\n\n\n\n\n\n\n\n\n\n\n\n\n\n\n\n\n\n\n\n\n\n\n\n\n\n\n\n\n\n\n\n\n\n\n\n\n\nBande annonce
URL:https://plaza-mons.be/film/sukkwan-island/2026-05-11
CATEGORIES:Nouveauté
ATTACH;FMTTYPE=image/jpeg:https://plaza-mons.be/wp-content/uploads/2026/04/sukkwan-island.jpg
END:VEVENT
BEGIN:VEVENT
DTSTART;TZID=Europe/Brussels:20260512T180000
DTEND;TZID=Europe/Brussels:20260512T195500
DTSTAMP:20260425T223744
CREATED:20260425T121001Z
LAST-MODIFIED:20260425T121003Z
UID:107405-1778608800-1778615700@plaza-mons.be
SUMMARY:Sukkwan Island
DESCRIPTION:Sukkwan Island\n\n\n\n\n\n			\n				Bande annonce\n			\n		 \n\n\n\n\n\n\n\n\n\n\n\n\n\n\n\n\n\n\n\n\n\n\n\n\n\n\n\n\n\n\n\n\n\n\n\n\n\n\n\n\n\n\n\n\n\n\n\n\n\n\n\n\n\nBande annonce
URL:https://plaza-mons.be/film/sukkwan-island/2026-05-12
CATEGORIES:Nouveauté
ATTACH;FMTTYPE=image/jpeg:https://plaza-mons.be/wp-content/uploads/2026/04/sukkwan-island.jpg
END:VEVENT
END:VCALENDAR