BEGIN:VCALENDAR
VERSION:2.0
PRODID:-//Plaza Arthouse Cinema - ECPv5.14.1//NONSGML v1.0//EN
CALSCALE:GREGORIAN
METHOD:PUBLISH
X-WR-CALNAME:Plaza Arthouse Cinema
X-ORIGINAL-URL:https://plaza-mons.be
X-WR-CALDESC:Events for Plaza Arthouse Cinema
REFRESH-INTERVAL;VALUE=DURATION:PT1H
X-Robots-Tag:noindex
X-PUBLISHED-TTL:PT1H
BEGIN:VTIMEZONE
TZID:Europe/Brussels
BEGIN:DAYLIGHT
TZOFFSETFROM:+0100
TZOFFSETTO:+0200
TZNAME:CEST
DTSTART:20260329T010000
END:DAYLIGHT
BEGIN:STANDARD
TZOFFSETFROM:+0200
TZOFFSETTO:+0100
TZNAME:CET
DTSTART:20261025T010000
END:STANDARD
END:VTIMEZONE
BEGIN:VEVENT
DTSTART;TZID=Europe/Brussels:20260429T103000
DTEND;TZID=Europe/Brussels:20260429T125700
DTSTAMP:20260426T060745
CREATED:20260425T120407Z
LAST-MODIFIED:20260426T000512Z
UID:107346-1777458600-1777467420@plaza-mons.be
SUMMARY:Mulholland Drive
DESCRIPTION:Mulholland Drive
URL:https://plaza-mons.be/film/mulholland-drive/2026-04-29
CATEGORIES:Nouveauté
ATTACH;FMTTYPE=image/webp:https://plaza-mons.be/wp-content/uploads/2026/04/mulholland-drive.webp
END:VEVENT
BEGIN:VEVENT
DTSTART;TZID=Europe/Brussels:20260501T150000
DTEND;TZID=Europe/Brussels:20260501T172700
DTSTAMP:20260426T060745
CREATED:20260425T120407Z
LAST-MODIFIED:20260426T000513Z
UID:107347-1777647600-1777656420@plaza-mons.be
SUMMARY:Mulholland Drive
DESCRIPTION:Mulholland Drive
URL:https://plaza-mons.be/film/mulholland-drive/2026-05-01
CATEGORIES:Nouveauté
ATTACH;FMTTYPE=image/webp:https://plaza-mons.be/wp-content/uploads/2026/04/mulholland-drive.webp
END:VEVENT
BEGIN:VEVENT
DTSTART;TZID=Europe/Brussels:20260502T153000
DTEND;TZID=Europe/Brussels:20260502T175700
DTSTAMP:20260426T060745
CREATED:20260425T120407Z
LAST-MODIFIED:20260426T000513Z
UID:107348-1777735800-1777744620@plaza-mons.be
SUMMARY:Mulholland Drive
DESCRIPTION:Mulholland Drive
URL:https://plaza-mons.be/film/mulholland-drive/2026-05-02
CATEGORIES:Nouveauté
ATTACH;FMTTYPE=image/webp:https://plaza-mons.be/wp-content/uploads/2026/04/mulholland-drive.webp
END:VEVENT
BEGIN:VEVENT
DTSTART;TZID=Europe/Brussels:20260503T173000
DTEND;TZID=Europe/Brussels:20260503T195700
DTSTAMP:20260426T060745
CREATED:20260425T120407Z
LAST-MODIFIED:20260426T000513Z
UID:107349-1777829400-1777838220@plaza-mons.be
SUMMARY:Mulholland Drive
DESCRIPTION:Mulholland Drive
URL:https://plaza-mons.be/film/mulholland-drive/2026-05-03
CATEGORIES:Nouveauté
ATTACH;FMTTYPE=image/webp:https://plaza-mons.be/wp-content/uploads/2026/04/mulholland-drive.webp
END:VEVENT
BEGIN:VEVENT
DTSTART;TZID=Europe/Brussels:20260508T150000
DTEND;TZID=Europe/Brussels:20260508T172700
DTSTAMP:20260426T060745
CREATED:20260425T120407Z
LAST-MODIFIED:20260426T000513Z
UID:107350-1778252400-1778261220@plaza-mons.be
SUMMARY:Mulholland Drive
DESCRIPTION:Mulholland Drive
URL:https://plaza-mons.be/film/mulholland-drive/2026-05-08
CATEGORIES:Nouveauté
ATTACH;FMTTYPE=image/webp:https://plaza-mons.be/wp-content/uploads/2026/04/mulholland-drive.webp
END:VEVENT
BEGIN:VEVENT
DTSTART;TZID=Europe/Brussels:20260510T203000
DTEND;TZID=Europe/Brussels:20260510T225700
DTSTAMP:20260426T060745
CREATED:20260425T120407Z
LAST-MODIFIED:20260426T000513Z
UID:107351-1778445000-1778453820@plaza-mons.be
SUMMARY:Mulholland Drive
DESCRIPTION:Mulholland Drive
URL:https://plaza-mons.be/film/mulholland-drive/2026-05-10
CATEGORIES:Nouveauté
ATTACH;FMTTYPE=image/webp:https://plaza-mons.be/wp-content/uploads/2026/04/mulholland-drive.webp
END:VEVENT
BEGIN:VEVENT
DTSTART;TZID=Europe/Brussels:20260511T150000
DTEND;TZID=Europe/Brussels:20260511T172700
DTSTAMP:20260426T060745
CREATED:20260425T120407Z
LAST-MODIFIED:20260426T000513Z
UID:107352-1778511600-1778520420@plaza-mons.be
SUMMARY:Mulholland Drive
DESCRIPTION:Mulholland Drive
URL:https://plaza-mons.be/film/mulholland-drive/2026-05-11
CATEGORIES:Nouveauté
ATTACH;FMTTYPE=image/webp:https://plaza-mons.be/wp-content/uploads/2026/04/mulholland-drive.webp
END:VEVENT
END:VCALENDAR