BEGIN:VCALENDAR
VERSION:2.0
PRODID:-//Plaza Arthouse Cinema - ECPv5.14.1//NONSGML v1.0//EN
CALSCALE:GREGORIAN
METHOD:PUBLISH
X-WR-CALNAME:Plaza Arthouse Cinema
X-ORIGINAL-URL:https://plaza-mons.be
X-WR-CALDESC:Events for Plaza Arthouse Cinema
REFRESH-INTERVAL;VALUE=DURATION:PT1H
X-Robots-Tag:noindex
X-PUBLISHED-TTL:PT1H
BEGIN:VTIMEZONE
TZID:Europe/Brussels
BEGIN:DAYLIGHT
TZOFFSETFROM:+0100
TZOFFSETTO:+0200
TZNAME:CEST
DTSTART:20260329T010000
END:DAYLIGHT
BEGIN:STANDARD
TZOFFSETFROM:+0200
TZOFFSETTO:+0100
TZNAME:CET
DTSTART:20261025T010000
END:STANDARD
END:VTIMEZONE
BEGIN:VEVENT
DTSTART;TZID=Europe/Brussels:20260429T203000
DTEND;TZID=Europe/Brussels:20260429T222900
DTSTAMP:20260425T223746
CREATED:20260425T121150Z
LAST-MODIFIED:20260425T121152Z
UID:107367-1777494600-1777501740@plaza-mons.be
SUMMARY:Die my Love
DESCRIPTION:Die my Love\n\n\n\n\n\n			\n				Bande annonce\n			\n		 \n\n\n\n\n\n\n\n\n\n\n\n\n\n\n\n\n\n\n\n\n\n\n\n\n\n\n\n\n\n\n\n\n\n\n\n\n\n\n\n\n\n\n\n\n\n\n\n\n\n\n\n\n\nBande annonce
URL:https://plaza-mons.be/film/die-my-love-2/2026-04-29
CATEGORIES:Nouveauté
ATTACH;FMTTYPE=image/jpeg:https://plaza-mons.be/wp-content/uploads/2026/04/diemylove-cineart-def-large.jpg
END:VEVENT
BEGIN:VEVENT
DTSTART;TZID=Europe/Brussels:20260430T170000
DTEND;TZID=Europe/Brussels:20260430T185900
DTSTAMP:20260425T223746
CREATED:20260425T121150Z
LAST-MODIFIED:20260425T121152Z
UID:107368-1777568400-1777575540@plaza-mons.be
SUMMARY:Die my Love
DESCRIPTION:Die my Love\n\n\n\n\n\n			\n				Bande annonce\n			\n		 \n\n\n\n\n\n\n\n\n\n\n\n\n\n\n\n\n\n\n\n\n\n\n\n\n\n\n\n\n\n\n\n\n\n\n\n\n\n\n\n\n\n\n\n\n\n\n\n\n\n\n\n\n\nBande annonce
URL:https://plaza-mons.be/film/die-my-love-2/2026-04-30
CATEGORIES:Nouveauté
ATTACH;FMTTYPE=image/jpeg:https://plaza-mons.be/wp-content/uploads/2026/04/diemylove-cineart-def-large.jpg
END:VEVENT
BEGIN:VEVENT
DTSTART;TZID=Europe/Brussels:20260501T204500
DTEND;TZID=Europe/Brussels:20260501T224400
DTSTAMP:20260425T223746
CREATED:20260425T121150Z
LAST-MODIFIED:20260425T121152Z
UID:107369-1777668300-1777675440@plaza-mons.be
SUMMARY:Die my Love
DESCRIPTION:Die my Love\n\n\n\n\n\n			\n				Bande annonce\n			\n		 \n\n\n\n\n\n\n\n\n\n\n\n\n\n\n\n\n\n\n\n\n\n\n\n\n\n\n\n\n\n\n\n\n\n\n\n\n\n\n\n\n\n\n\n\n\n\n\n\n\n\n\n\n\nBande annonce
URL:https://plaza-mons.be/film/die-my-love-2/2026-05-01
CATEGORIES:Nouveauté
ATTACH;FMTTYPE=image/jpeg:https://plaza-mons.be/wp-content/uploads/2026/04/diemylove-cineart-def-large.jpg
END:VEVENT
BEGIN:VEVENT
DTSTART;TZID=Europe/Brussels:20260502T153000
DTEND;TZID=Europe/Brussels:20260502T172900
DTSTAMP:20260425T223746
CREATED:20260425T121150Z
LAST-MODIFIED:20260425T121152Z
UID:107370-1777735800-1777742940@plaza-mons.be
SUMMARY:Die my Love
DESCRIPTION:Die my Love\n\n\n\n\n\n			\n				Bande annonce\n			\n		 \n\n\n\n\n\n\n\n\n\n\n\n\n\n\n\n\n\n\n\n\n\n\n\n\n\n\n\n\n\n\n\n\n\n\n\n\n\n\n\n\n\n\n\n\n\n\n\n\n\n\n\n\n\nBande annonce
URL:https://plaza-mons.be/film/die-my-love-2/2026-05-02
CATEGORIES:Nouveauté
ATTACH;FMTTYPE=image/jpeg:https://plaza-mons.be/wp-content/uploads/2026/04/diemylove-cineart-def-large.jpg
END:VEVENT
BEGIN:VEVENT
DTSTART;TZID=Europe/Brussels:20260502T203000
DTEND;TZID=Europe/Brussels:20260502T222900
DTSTAMP:20260425T223746
CREATED:20260425T121151Z
LAST-MODIFIED:20260425T121152Z
UID:107371-1777753800-1777760940@plaza-mons.be
SUMMARY:Die my Love
DESCRIPTION:Die my Love\n\n\n\n\n\n			\n				Bande annonce\n			\n		 \n\n\n\n\n\n\n\n\n\n\n\n\n\n\n\n\n\n\n\n\n\n\n\n\n\n\n\n\n\n\n\n\n\n\n\n\n\n\n\n\n\n\n\n\n\n\n\n\n\n\n\n\n\nBande annonce
URL:https://plaza-mons.be/film/die-my-love-2/2026-05-02/2
CATEGORIES:Nouveauté
ATTACH;FMTTYPE=image/jpeg:https://plaza-mons.be/wp-content/uploads/2026/04/diemylove-cineart-def-large.jpg
END:VEVENT
BEGIN:VEVENT
DTSTART;TZID=Europe/Brussels:20260503T203000
DTEND;TZID=Europe/Brussels:20260503T222900
DTSTAMP:20260425T223746
CREATED:20260425T121151Z
LAST-MODIFIED:20260425T121152Z
UID:107372-1777840200-1777847340@plaza-mons.be
SUMMARY:Die my Love
DESCRIPTION:Die my Love\n\n\n\n\n\n			\n				Bande annonce\n			\n		 \n\n\n\n\n\n\n\n\n\n\n\n\n\n\n\n\n\n\n\n\n\n\n\n\n\n\n\n\n\n\n\n\n\n\n\n\n\n\n\n\n\n\n\n\n\n\n\n\n\n\n\n\n\nBande annonce
URL:https://plaza-mons.be/film/die-my-love-2/2026-05-03
CATEGORIES:Nouveauté
ATTACH;FMTTYPE=image/jpeg:https://plaza-mons.be/wp-content/uploads/2026/04/diemylove-cineart-def-large.jpg
END:VEVENT
BEGIN:VEVENT
DTSTART;TZID=Europe/Brussels:20260504T203000
DTEND;TZID=Europe/Brussels:20260504T222900
DTSTAMP:20260425T223746
CREATED:20260425T121151Z
LAST-MODIFIED:20260425T121152Z
UID:107373-1777926600-1777933740@plaza-mons.be
SUMMARY:Die my Love
DESCRIPTION:Die my Love\n\n\n\n\n\n			\n				Bande annonce\n			\n		 \n\n\n\n\n\n\n\n\n\n\n\n\n\n\n\n\n\n\n\n\n\n\n\n\n\n\n\n\n\n\n\n\n\n\n\n\n\n\n\n\n\n\n\n\n\n\n\n\n\n\n\n\n\nBande annonce
URL:https://plaza-mons.be/film/die-my-love-2/2026-05-04
CATEGORIES:Nouveauté
ATTACH;FMTTYPE=image/jpeg:https://plaza-mons.be/wp-content/uploads/2026/04/diemylove-cineart-def-large.jpg
END:VEVENT
BEGIN:VEVENT
DTSTART;TZID=Europe/Brussels:20260505T204500
DTEND;TZID=Europe/Brussels:20260505T224400
DTSTAMP:20260425T223746
CREATED:20260425T121151Z
LAST-MODIFIED:20260425T121152Z
UID:107374-1778013900-1778021040@plaza-mons.be
SUMMARY:Die my Love
DESCRIPTION:Die my Love\n\n\n\n\n\n			\n				Bande annonce\n			\n		 \n\n\n\n\n\n\n\n\n\n\n\n\n\n\n\n\n\n\n\n\n\n\n\n\n\n\n\n\n\n\n\n\n\n\n\n\n\n\n\n\n\n\n\n\n\n\n\n\n\n\n\n\n\nBande annonce
URL:https://plaza-mons.be/film/die-my-love-2/2026-05-05
CATEGORIES:Nouveauté
ATTACH;FMTTYPE=image/jpeg:https://plaza-mons.be/wp-content/uploads/2026/04/diemylove-cineart-def-large.jpg
END:VEVENT
BEGIN:VEVENT
DTSTART;TZID=Europe/Brussels:20260506T203000
DTEND;TZID=Europe/Brussels:20260506T222900
DTSTAMP:20260425T223746
CREATED:20260425T121151Z
LAST-MODIFIED:20260425T121153Z
UID:107375-1778099400-1778106540@plaza-mons.be
SUMMARY:Die my Love
DESCRIPTION:Die my Love\n\n\n\n\n\n			\n				Bande annonce\n			\n		 \n\n\n\n\n\n\n\n\n\n\n\n\n\n\n\n\n\n\n\n\n\n\n\n\n\n\n\n\n\n\n\n\n\n\n\n\n\n\n\n\n\n\n\n\n\n\n\n\n\n\n\n\n\nBande annonce
URL:https://plaza-mons.be/film/die-my-love-2/2026-05-06
CATEGORIES:Nouveauté
ATTACH;FMTTYPE=image/jpeg:https://plaza-mons.be/wp-content/uploads/2026/04/diemylove-cineart-def-large.jpg
END:VEVENT
BEGIN:VEVENT
DTSTART;TZID=Europe/Brussels:20260507T203000
DTEND;TZID=Europe/Brussels:20260507T222900
DTSTAMP:20260425T223746
CREATED:20260425T121151Z
LAST-MODIFIED:20260425T121153Z
UID:107376-1778185800-1778192940@plaza-mons.be
SUMMARY:Die my Love
DESCRIPTION:Die my Love\n\n\n\n\n\n			\n				Bande annonce\n			\n		 \n\n\n\n\n\n\n\n\n\n\n\n\n\n\n\n\n\n\n\n\n\n\n\n\n\n\n\n\n\n\n\n\n\n\n\n\n\n\n\n\n\n\n\n\n\n\n\n\n\n\n\n\n\nBande annonce
URL:https://plaza-mons.be/film/die-my-love-2/2026-05-07
CATEGORIES:Nouveauté
ATTACH;FMTTYPE=image/jpeg:https://plaza-mons.be/wp-content/uploads/2026/04/diemylove-cineart-def-large.jpg
END:VEVENT
BEGIN:VEVENT
DTSTART;TZID=Europe/Brussels:20260508T203000
DTEND;TZID=Europe/Brussels:20260508T222900
DTSTAMP:20260425T223746
CREATED:20260425T121151Z
LAST-MODIFIED:20260425T121153Z
UID:107377-1778272200-1778279340@plaza-mons.be
SUMMARY:Die my Love
DESCRIPTION:Die my Love\n\n\n\n\n\n			\n				Bande annonce\n			\n		 \n\n\n\n\n\n\n\n\n\n\n\n\n\n\n\n\n\n\n\n\n\n\n\n\n\n\n\n\n\n\n\n\n\n\n\n\n\n\n\n\n\n\n\n\n\n\n\n\n\n\n\n\n\nBande annonce
URL:https://plaza-mons.be/film/die-my-love-2/2026-05-08
CATEGORIES:Nouveauté
ATTACH;FMTTYPE=image/jpeg:https://plaza-mons.be/wp-content/uploads/2026/04/diemylove-cineart-def-large.jpg
END:VEVENT
BEGIN:VEVENT
DTSTART;TZID=Europe/Brussels:20260509T203000
DTEND;TZID=Europe/Brussels:20260509T222900
DTSTAMP:20260425T223746
CREATED:20260425T121151Z
LAST-MODIFIED:20260425T121153Z
UID:107378-1778358600-1778365740@plaza-mons.be
SUMMARY:Die my Love
DESCRIPTION:Die my Love\n\n\n\n\n\n			\n				Bande annonce\n			\n		 \n\n\n\n\n\n\n\n\n\n\n\n\n\n\n\n\n\n\n\n\n\n\n\n\n\n\n\n\n\n\n\n\n\n\n\n\n\n\n\n\n\n\n\n\n\n\n\n\n\n\n\n\n\nBande annonce
URL:https://plaza-mons.be/film/die-my-love-2/2026-05-09
CATEGORIES:Nouveauté
ATTACH;FMTTYPE=image/jpeg:https://plaza-mons.be/wp-content/uploads/2026/04/diemylove-cineart-def-large.jpg
END:VEVENT
BEGIN:VEVENT
DTSTART;TZID=Europe/Brussels:20260510T203000
DTEND;TZID=Europe/Brussels:20260510T222900
DTSTAMP:20260425T223746
CREATED:20260425T121151Z
LAST-MODIFIED:20260425T121153Z
UID:107379-1778445000-1778452140@plaza-mons.be
SUMMARY:Die my Love
DESCRIPTION:Die my Love\n\n\n\n\n\n			\n				Bande annonce\n			\n		 \n\n\n\n\n\n\n\n\n\n\n\n\n\n\n\n\n\n\n\n\n\n\n\n\n\n\n\n\n\n\n\n\n\n\n\n\n\n\n\n\n\n\n\n\n\n\n\n\n\n\n\n\n\nBande annonce
URL:https://plaza-mons.be/film/die-my-love-2/2026-05-10
CATEGORIES:Nouveauté
ATTACH;FMTTYPE=image/jpeg:https://plaza-mons.be/wp-content/uploads/2026/04/diemylove-cineart-def-large.jpg
END:VEVENT
BEGIN:VEVENT
DTSTART;TZID=Europe/Brussels:20260511T203000
DTEND;TZID=Europe/Brussels:20260511T222900
DTSTAMP:20260425T223746
CREATED:20260425T121151Z
LAST-MODIFIED:20260425T121153Z
UID:107380-1778531400-1778538540@plaza-mons.be
SUMMARY:Die my Love
DESCRIPTION:Die my Love\n\n\n\n\n\n			\n				Bande annonce\n			\n		 \n\n\n\n\n\n\n\n\n\n\n\n\n\n\n\n\n\n\n\n\n\n\n\n\n\n\n\n\n\n\n\n\n\n\n\n\n\n\n\n\n\n\n\n\n\n\n\n\n\n\n\n\n\nBande annonce
URL:https://plaza-mons.be/film/die-my-love-2/2026-05-11
CATEGORIES:Nouveauté
ATTACH;FMTTYPE=image/jpeg:https://plaza-mons.be/wp-content/uploads/2026/04/diemylove-cineart-def-large.jpg
END:VEVENT
BEGIN:VEVENT
DTSTART;TZID=Europe/Brussels:20260512T203000
DTEND;TZID=Europe/Brussels:20260512T222900
DTSTAMP:20260425T223746
CREATED:20260425T121151Z
LAST-MODIFIED:20260425T121153Z
UID:107381-1778617800-1778624940@plaza-mons.be
SUMMARY:Die my Love
DESCRIPTION:Die my Love\n\n\n\n\n\n			\n				Bande annonce\n			\n		 \n\n\n\n\n\n\n\n\n\n\n\n\n\n\n\n\n\n\n\n\n\n\n\n\n\n\n\n\n\n\n\n\n\n\n\n\n\n\n\n\n\n\n\n\n\n\n\n\n\n\n\n\n\nBande annonce
URL:https://plaza-mons.be/film/die-my-love-2/2026-05-12
CATEGORIES:Nouveauté
ATTACH;FMTTYPE=image/jpeg:https://plaza-mons.be/wp-content/uploads/2026/04/diemylove-cineart-def-large.jpg
END:VEVENT
END:VCALENDAR